BEGIN:VCALENDAR
VERSION:2.0
PRODID:-//Amics de les Arts i Joventuts Musicals - ECPv6.15.20//NONSGML v1.0//EN
CALSCALE:GREGORIAN
METHOD:PUBLISH
X-WR-CALNAME:Amics de les Arts i Joventuts Musicals
X-ORIGINAL-URL:http://amicsdelesarts-jjmm.cat
X-WR-CALDESC:Esdeveniments per Amics de les Arts i Joventuts Musicals
REFRESH-INTERVAL;VALUE=DURATION:PT1H
X-Robots-Tag:noindex
X-PUBLISHED-TTL:PT1H
BEGIN:VTIMEZONE
TZID:Europe/Paris
BEGIN:DAYLIGHT
TZOFFSETFROM:+0100
TZOFFSETTO:+0200
TZNAME:CEST
DTSTART:20220327T010000
END:DAYLIGHT
BEGIN:STANDARD
TZOFFSETFROM:+0200
TZOFFSETTO:+0100
TZNAME:CET
DTSTART:20221030T010000
END:STANDARD
BEGIN:DAYLIGHT
TZOFFSETFROM:+0100
TZOFFSETTO:+0200
TZNAME:CEST
DTSTART:20230326T010000
END:DAYLIGHT
BEGIN:STANDARD
TZOFFSETFROM:+0200
TZOFFSETTO:+0100
TZNAME:CET
DTSTART:20231029T010000
END:STANDARD
BEGIN:DAYLIGHT
TZOFFSETFROM:+0100
TZOFFSETTO:+0200
TZNAME:CEST
DTSTART:20240331T010000
END:DAYLIGHT
BEGIN:STANDARD
TZOFFSETFROM:+0200
TZOFFSETTO:+0100
TZNAME:CET
DTSTART:20241027T010000
END:STANDARD
END:VTIMEZONE
BEGIN:VEVENT
DTSTART;TZID=Europe/Paris:20231102T210000
DTEND;TZID=Europe/Paris:20231102T230000
DTSTAMP:20260420T094821
CREATED:20231024T180024Z
LAST-MODIFIED:20231024T180024Z
UID:22853-1698958800-1698966000@amicsdelesarts-jjmm.cat
SUMMARY:Club de Jazz: Temporada Estable 2023-24
DESCRIPTION:Programació del mes novembre de 2023 \nNova Jazz Cava (Passatge Tete Montoliu\, 24 – Terrassa) \n  \nComparteix això:\n				Feu clic per compartir al Facebook (S'obre en una nova finestra)\n				Facebook\n			\n				Feu clic per compartir a X (S'obre en una nova finestra)\n				X\n			\n				Fes clic per compartir al Linkedin (S'obre en una nova finestra)\n				LinkedIn\n			\n				Feu clic per compartir al Pinterest (S'obre en una nova finestra)\n				Pinterest\n			\n				Feu clic per compartir al WhatsApp (S'obre en una nova finestra)\n				WhatsApp\n			\n				Feu clic per enviar un enllaç per correu electrònic a un amic (S'obre en una nova finestra)\n				Correu electrònic\n			\n				Feu clic per imprimir (S'obre en una nova finestra)\n				Imprimeix
URL:http://amicsdelesarts-jjmm.cat/acte/club-de-jazz-temporada-estable-2023-24/2023-11-02/
CATEGORIES:Jazz
ATTACH;FMTTYPE=image/jpeg:http://amicsdelesarts-jjmm.cat/wp-content/uploads/2023/10/Cartell-Novembre-NJC-23-RGB-scaled.jpg
END:VEVENT
END:VCALENDAR