BEGIN:VCALENDAR
VERSION:2.0
PRODID:-//Amics de les Arts i Joventuts Musicals - ECPv6.15.20//NONSGML v1.0//EN
CALSCALE:GREGORIAN
METHOD:PUBLISH
X-ORIGINAL-URL:http://amicsdelesarts-jjmm.cat
X-WR-CALDESC:Esdeveniments per Amics de les Arts i Joventuts Musicals
REFRESH-INTERVAL;VALUE=DURATION:PT1H
X-Robots-Tag:noindex
X-PUBLISHED-TTL:PT1H
BEGIN:VTIMEZONE
TZID:Europe/Paris
BEGIN:DAYLIGHT
TZOFFSETFROM:+0100
TZOFFSETTO:+0200
TZNAME:CEST
DTSTART:20210328T010000
END:DAYLIGHT
BEGIN:STANDARD
TZOFFSETFROM:+0200
TZOFFSETTO:+0100
TZNAME:CET
DTSTART:20211031T010000
END:STANDARD
BEGIN:DAYLIGHT
TZOFFSETFROM:+0100
TZOFFSETTO:+0200
TZNAME:CEST
DTSTART:20220327T010000
END:DAYLIGHT
BEGIN:STANDARD
TZOFFSETFROM:+0200
TZOFFSETTO:+0100
TZNAME:CET
DTSTART:20221030T010000
END:STANDARD
BEGIN:DAYLIGHT
TZOFFSETFROM:+0100
TZOFFSETTO:+0200
TZNAME:CEST
DTSTART:20230326T010000
END:DAYLIGHT
BEGIN:STANDARD
TZOFFSETFROM:+0200
TZOFFSETTO:+0100
TZNAME:CET
DTSTART:20231029T010000
END:STANDARD
END:VTIMEZONE
BEGIN:VEVENT
DTSTART;TZID=Europe/Paris:20221104T170000
DTEND;TZID=Europe/Paris:20221104T190000
DTSTAMP:20260420T152205
CREATED:20221115T103305Z
LAST-MODIFIED:20230604T231855Z
UID:20782-1667581200-1667588400@amicsdelesarts-jjmm.cat
SUMMARY:CURS DE CREACIÓ I ESCRIPTURA DRAMÀTICA - INICIACIÓ
DESCRIPTION:CURS DRAMATÚRGIA \n“El teatro es poesía que sale del libro para hacerse humana”\nFederico García Lorca.\n\nLa dramatúrgia és l’art d’escriure peces per a la representació teatral. Essent el Teatre una disciplina de comunicació multi-vehicular per la seva pròpia naturalesa\, la creació del text dramàtic ha de concebre’s seguint aquesta mateixa filosofia i atorgant a la paraula escrita una condició plural d’engranatge que existeix enmig d’un conjunt d’eines diverses per a la realització de l’obra desitjada. La dramatúrgia és la tècnica del present\, de la versemblança\, de la coherència poètica i de l’elegància a l’hora d’emmirallar la societat que representa. És la veu de l’autor però també la dels caràcters ficticis\, és la metàfora ancorada en les experiències vivencials que compartim i que estableixen la connexió emocional entre el personatges i el públic. És la condensació de l’absolut universal en les misèries de la nostra quotidianitat.\n\nNIVELL INICIACIÓ\n\nInstructor: Marcel Clement\n\nTipus de curs: presencial\n\nDates: 18 de setembre de 2023 a 18 de març de 2024\n\nHorari: Dilluns de les 18:30 a les 20:30h (48 hores en 24 sessions) \n\nPreu: 740€ (20% descompte per a les persones associades a Amics de les Arts i Joventuts Musicals). Es pot pagar en dos terminis.\n\n\nEn aquest curs\, l’alumne descobreix la dramatúrgia com a vehicle narratiu amb les seves particularitats i comença a separar-lo de les narratives més predominants com la novel·la o el cine. A través d’exercicis pràctics\, anirà afinant la seva veu dramatúrgica\, explorant la poètica i estil que li són propis i que caracteritzaran la seva veu teatral.\nComparteix això:\n				Feu clic per compartir al Facebook (S'obre en una nova finestra)\n				Facebook\n			\n				Feu clic per compartir a X (S'obre en una nova finestra)\n				X\n			\n				Fes clic per compartir al Linkedin (S'obre en una nova finestra)\n				LinkedIn\n			\n				Feu clic per compartir al Pinterest (S'obre en una nova finestra)\n				Pinterest\n			\n				Feu clic per compartir al WhatsApp (S'obre en una nova finestra)\n				WhatsApp\n			\n				Feu clic per enviar un enllaç per correu electrònic a un amic (S'obre en una nova finestra)\n				Correu electrònic\n			\n				Feu clic per imprimir (S'obre en una nova finestra)\n				Imprimeix
URL:http://amicsdelesarts-jjmm.cat/acte/curs-de-creacio-i-escriptura-dramatica-1-2/2022-11-04/
CATEGORIES:Escola de Literatura
ATTACH;FMTTYPE=image/jpeg:http://amicsdelesarts-jjmm.cat/wp-content/uploads/2022/10/marcel-clement-professor-literatura-amics-de-les-arts-e1641581638193.jpg
END:VEVENT
END:VCALENDAR