BEGIN:VCALENDAR
VERSION:2.0
PRODID:-//Amics de les Arts i Joventuts Musicals - ECPv6.15.20//NONSGML v1.0//EN
CALSCALE:GREGORIAN
METHOD:PUBLISH
X-WR-CALNAME:Amics de les Arts i Joventuts Musicals
X-ORIGINAL-URL:http://amicsdelesarts-jjmm.cat
X-WR-CALDESC:Esdeveniments per Amics de les Arts i Joventuts Musicals
REFRESH-INTERVAL;VALUE=DURATION:PT1H
X-Robots-Tag:noindex
X-PUBLISHED-TTL:PT1H
BEGIN:VTIMEZONE
TZID:Europe/Paris
BEGIN:DAYLIGHT
TZOFFSETFROM:+0100
TZOFFSETTO:+0200
TZNAME:CEST
DTSTART:20200329T010000
END:DAYLIGHT
BEGIN:STANDARD
TZOFFSETFROM:+0200
TZOFFSETTO:+0100
TZNAME:CET
DTSTART:20201025T010000
END:STANDARD
BEGIN:DAYLIGHT
TZOFFSETFROM:+0100
TZOFFSETTO:+0200
TZNAME:CEST
DTSTART:20210328T010000
END:DAYLIGHT
BEGIN:STANDARD
TZOFFSETFROM:+0200
TZOFFSETTO:+0100
TZNAME:CET
DTSTART:20211031T010000
END:STANDARD
BEGIN:DAYLIGHT
TZOFFSETFROM:+0100
TZOFFSETTO:+0200
TZNAME:CEST
DTSTART:20220327T010000
END:DAYLIGHT
BEGIN:STANDARD
TZOFFSETFROM:+0200
TZOFFSETTO:+0100
TZNAME:CET
DTSTART:20221030T010000
END:STANDARD
END:VTIMEZONE
BEGIN:VEVENT
DTSTART;TZID=Europe/Paris:20211106T200000
DTEND;TZID=Europe/Paris:20211106T220000
DTSTAMP:20260422T130929
CREATED:20211021T160453Z
LAST-MODIFIED:20211021T160559Z
UID:18297-1636228800-1636236000@amicsdelesarts-jjmm.cat
SUMMARY:"Dancing Vivaldi" amb la participació del Cor Montserrat
DESCRIPTION:El Cor Montserrat participa els dies 6 i 7 de novembre a l’espectacle PAR en dansa – Dancing Vivaldi\, amb l’Orquestra Simfònica Victòria dels Àngels i l’Orfeó Lleidatà\, i la direcció musical de Pedro Pardo. \nL’espectacle fa un recorregut pels diferents barrocs europeus que ens connecten amb l’actualitat a través de la dansa\, i consta d’una primera part instrumental amb obres de Bach i Purcell i coreografia de Rodolfo Castellanos\, i una segona part amb el Gloria de Vivaldi coreografiat per Jamal Callander. \nLloc: Factoria Cultural de Terrassa\nDies : dissabte 6 de novembre a les 20h\ndiumenge 7 de novembre a les 18h \nPer comprar les entrades amb descompte podeu contactar amb el Cor Montserrat. \n\nComparteix això:\n				Feu clic per compartir al Facebook (S'obre en una nova finestra)\n				Facebook\n			\n				Feu clic per compartir a X (S'obre en una nova finestra)\n				X\n			\n				Fes clic per compartir al Linkedin (S'obre en una nova finestra)\n				LinkedIn\n			\n				Feu clic per compartir al Pinterest (S'obre en una nova finestra)\n				Pinterest\n			\n				Feu clic per compartir al WhatsApp (S'obre en una nova finestra)\n				WhatsApp\n			\n				Feu clic per enviar un enllaç per correu electrònic a un amic (S'obre en una nova finestra)\n				Correu electrònic\n			\n				Feu clic per imprimir (S'obre en una nova finestra)\n				Imprimeix
URL:http://amicsdelesarts-jjmm.cat/acte/dancing-vivaldi-amb-la-participacio-del-cor-montserrat/2021-11-06/
CATEGORIES:Música clàssica/coral
ATTACH;FMTTYPE=image/jpeg:http://amicsdelesarts-jjmm.cat/wp-content/uploads/2021/10/WhatsApp-Image-2021-10-19-at-13.20.30-e1634832278539.jpeg
END:VEVENT
END:VCALENDAR