BEGIN:VCALENDAR
VERSION:2.0
PRODID:-//Amics de les Arts i Joventuts Musicals - ECPv6.15.20//NONSGML v1.0//EN
CALSCALE:GREGORIAN
METHOD:PUBLISH
X-ORIGINAL-URL:http://amicsdelesarts-jjmm.cat
X-WR-CALDESC:Esdeveniments per Amics de les Arts i Joventuts Musicals
REFRESH-INTERVAL;VALUE=DURATION:PT1H
X-Robots-Tag:noindex
X-PUBLISHED-TTL:PT1H
BEGIN:VTIMEZONE
TZID:Europe/Paris
BEGIN:DAYLIGHT
TZOFFSETFROM:+0100
TZOFFSETTO:+0200
TZNAME:CEST
DTSTART:20240331T010000
END:DAYLIGHT
BEGIN:STANDARD
TZOFFSETFROM:+0200
TZOFFSETTO:+0100
TZNAME:CET
DTSTART:20241027T010000
END:STANDARD
BEGIN:DAYLIGHT
TZOFFSETFROM:+0100
TZOFFSETTO:+0200
TZNAME:CEST
DTSTART:20250330T010000
END:DAYLIGHT
BEGIN:STANDARD
TZOFFSETFROM:+0200
TZOFFSETTO:+0100
TZNAME:CET
DTSTART:20251026T010000
END:STANDARD
BEGIN:DAYLIGHT
TZOFFSETFROM:+0100
TZOFFSETTO:+0200
TZNAME:CEST
DTSTART:20260329T010000
END:DAYLIGHT
BEGIN:STANDARD
TZOFFSETFROM:+0200
TZOFFSETTO:+0100
TZNAME:CET
DTSTART:20261025T010000
END:STANDARD
END:VTIMEZONE
BEGIN:VEVENT
DTSTART;TZID=Europe/Paris:20250506T183000
DTEND;TZID=Europe/Paris:20250506T203000
DTSTAMP:20260420T034803
CREATED:20250328T195632Z
LAST-MODIFIED:20250328T195632Z
UID:26552-1746556200-1746563400@amicsdelesarts-jjmm.cat
SUMMARY:«Poètiques modèliques»\, seminari d'escriptura a càrrec de Josep Pedrals
DESCRIPTION:Dimarts 29 d’abril de les 18:30 a les 20:30h.\nSala Jacint Morera\, Sant Pere\, 46\, 1a planta – Terrassa
URL:http://amicsdelesarts-jjmm.cat/acte/poetiques-modeliques-seminari-descriptura-a-carrec-de-josep-pedrals/2025-05-06/
CATEGORIES:Escola de Literatura
ATTACH;FMTTYPE=image/jpeg:http://amicsdelesarts-jjmm.cat/wp-content/uploads/2025/03/20190109_josep_pedrals.jpg
END:VEVENT
BEGIN:VEVENT
DTSTART;TZID=Europe/Paris:20250506T190000
DTEND;TZID=Europe/Paris:20250506T203000
DTSTAMP:20260420T034803
CREATED:20240725T163704Z
LAST-MODIFIED:20250102T180619Z
UID:24841-1746558000-1746563400@amicsdelesarts-jjmm.cat
SUMMARY:«Curs de dibuix pràctic»
DESCRIPTION:CURS DE DIBUIX PRÀCTIC \nEl curs comença a l’octubre i finalitzarà el juny de l’any que ve. Podeu matricular-vos per trimestres\, si ho preferiu. \n-El curs va adreçat a tothom que vulgui experimentar amb el dibuix i agafar seguretat amb l’expressió plàstica i visual\, independenment del nivell que tingui cada alumne\n-El grup és de 5 a 10 alumnes.\n-La tàctica habitual és el desenvolupament d’un treball\, a partir d’una proposta concreta. Prioritzem la creació pròpia\, tot i que molts cops ens basem\, per documentació i coneixement\, en imatges reals.\n-En els diferents passos de l’elaboració del dibuix\, podem aprofundir en allò que l’alumne necessiti (dibuix\, color\, tècnica\,….)\n-Treballem tota mena de tècniques (llapis\, aquarel·la\, acrílic\, collage\, tintes\, …) depenent de la necessitat de cada alumne\, o les exigències del treball que aprenem a fer.\n-En l’elaboració del treball tenim en compte creació\, tècnica\, disseny i crítica posterior.\n-La finalitat del curs és poder expressar allò que la imaginació ens sugereix\, a partir de l’aprenentatge i l’observació. El nom de “Dibuix Pràctic” fa referència a donar una utilitat al dibuix\, elaborant diferents projectes (calendari\, punt de llibre\, exlibris\, creació\, muntatge i il·lustració de llibre\,…) \nPer a més informació\, podeu trucar al 629 264 972. A reveure.
URL:http://amicsdelesarts-jjmm.cat/acte/curs-de-dibuix-practic-3/2025-05-06/
CATEGORIES:Arts plàstiques
ATTACH;FMTTYPE=image/jpeg:http://amicsdelesarts-jjmm.cat/wp-content/uploads/2024/07/Cur-2025-insta-copia-scaled.jpg
END:VEVENT
END:VCALENDAR