BEGIN:VCALENDAR
VERSION:2.0
PRODID:-//Amics de les Arts i Joventuts Musicals - ECPv6.15.20//NONSGML v1.0//EN
CALSCALE:GREGORIAN
METHOD:PUBLISH
X-ORIGINAL-URL:http://amicsdelesarts-jjmm.cat
X-WR-CALDESC:Esdeveniments per Amics de les Arts i Joventuts Musicals
REFRESH-INTERVAL;VALUE=DURATION:PT1H
X-Robots-Tag:noindex
X-PUBLISHED-TTL:PT1H
BEGIN:VTIMEZONE
TZID:Europe/Paris
BEGIN:DAYLIGHT
TZOFFSETFROM:+0100
TZOFFSETTO:+0200
TZNAME:CEST
DTSTART:20240331T010000
END:DAYLIGHT
BEGIN:STANDARD
TZOFFSETFROM:+0200
TZOFFSETTO:+0100
TZNAME:CET
DTSTART:20241027T010000
END:STANDARD
BEGIN:DAYLIGHT
TZOFFSETFROM:+0100
TZOFFSETTO:+0200
TZNAME:CEST
DTSTART:20250330T010000
END:DAYLIGHT
BEGIN:STANDARD
TZOFFSETFROM:+0200
TZOFFSETTO:+0100
TZNAME:CET
DTSTART:20251026T010000
END:STANDARD
BEGIN:DAYLIGHT
TZOFFSETFROM:+0100
TZOFFSETTO:+0200
TZNAME:CEST
DTSTART:20260329T010000
END:DAYLIGHT
BEGIN:STANDARD
TZOFFSETFROM:+0200
TZOFFSETTO:+0100
TZNAME:CET
DTSTART:20261025T010000
END:STANDARD
END:VTIMEZONE
BEGIN:VEVENT
DTSTART;TZID=Europe/Paris:20250507T170000
DTEND;TZID=Europe/Paris:20250507T183000
DTSTAMP:20260420T035058
CREATED:20250102T181659Z
LAST-MODIFIED:20250102T181659Z
UID:25901-1746637200-1746642600@amicsdelesarts-jjmm.cat
SUMMARY:«Curs d'iniciació adobe lightroom»\, a càrrec de Cristina Capellades
DESCRIPTION:Dates: del 8 de gener al 18 de juny 2025\nHoraris: Dimecres\, de 17:00 a 18:30h \nSala: Espai Niu\, Teatre\, 2\, 3era planta – Terrassa\nPreu: 170€ el trimestre. (20% de descompte per als socis) \n\nCURS REVELAT DIGITAL Lr Lightroom\nAquest curs està dirigit a totes aquelles persones que vulguin aprendre a\nrevelar les seves fotos un cop preses en format RAW.\nÉs una eina imprescindible tant per tenir l’arxiu fotogràfic endreçat com per editar.\nNo és un programa de disseny\, ni tampoc de retoc (Photoshop).\nAprendràs a importar\, classificar\, revelar i exportar en diferents formats.\nPodràs revelar les fotos en color i en b/n gestionant tot el procés creatiu des de\nl’ordinador; colors\, textures\, llums i ombres i molt més. \n 
URL:http://amicsdelesarts-jjmm.cat/acte/curs-diniciacio-adobe-lightroom-a-carrec-de-cristina-capellades/2025-05-07/
CATEGORIES:Fotografia
ATTACH;FMTTYPE=image/jpeg:http://amicsdelesarts-jjmm.cat/wp-content/uploads/2025/01/LIGHTROOM-PA250066-Editar-scaled.jpg
END:VEVENT
BEGIN:VEVENT
DTSTART;TZID=Europe/Paris:20250507T190000
DTEND;TZID=Europe/Paris:20250507T203000
DTSTAMP:20260420T035058
CREATED:20250415T153609Z
LAST-MODIFIED:20250503T172246Z
UID:26633-1746644400-1746649800@amicsdelesarts-jjmm.cat
SUMMARY:Club de Lectura: «Cartes a un poeta jove»\, de Rainer Maria Rilke. Conductora de la sessió: Fina Caminal
DESCRIPTION:Literatura i Pensament d’Amics de les Arts \nDimecres 7 de maig a les 19h.\nSala Joaquim Vancells\, Sant Pere\, 46\, 1a planta – Terrassa
URL:http://amicsdelesarts-jjmm.cat/acte/club-de-lectura-cartes-a-un-poeta-jove-de-rainer-maria-rilke-conductora-de-la-sessio-fina-caminal/
CATEGORIES:Literatura/debat
ATTACH;FMTTYPE=image/jpeg:http://amicsdelesarts-jjmm.cat/wp-content/uploads/2025/04/Rilke.jpg
END:VEVENT
END:VCALENDAR