BEGIN:VCALENDAR
VERSION:2.0
PRODID:-//Amics de les Arts i Joventuts Musicals - ECPv6.15.20//NONSGML v1.0//EN
CALSCALE:GREGORIAN
METHOD:PUBLISH
X-WR-CALNAME:Amics de les Arts i Joventuts Musicals
X-ORIGINAL-URL:http://amicsdelesarts-jjmm.cat
X-WR-CALDESC:Esdeveniments per Amics de les Arts i Joventuts Musicals
REFRESH-INTERVAL;VALUE=DURATION:PT1H
X-Robots-Tag:noindex
X-PUBLISHED-TTL:PT1H
BEGIN:VTIMEZONE
TZID:Europe/Paris
BEGIN:DAYLIGHT
TZOFFSETFROM:+0100
TZOFFSETTO:+0200
TZNAME:CEST
DTSTART:20240331T010000
END:DAYLIGHT
BEGIN:STANDARD
TZOFFSETFROM:+0200
TZOFFSETTO:+0100
TZNAME:CET
DTSTART:20241027T010000
END:STANDARD
BEGIN:DAYLIGHT
TZOFFSETFROM:+0100
TZOFFSETTO:+0200
TZNAME:CEST
DTSTART:20250330T010000
END:DAYLIGHT
BEGIN:STANDARD
TZOFFSETFROM:+0200
TZOFFSETTO:+0100
TZNAME:CET
DTSTART:20251026T010000
END:STANDARD
BEGIN:DAYLIGHT
TZOFFSETFROM:+0100
TZOFFSETTO:+0200
TZNAME:CEST
DTSTART:20260329T010000
END:DAYLIGHT
BEGIN:STANDARD
TZOFFSETFROM:+0200
TZOFFSETTO:+0100
TZNAME:CET
DTSTART:20261025T010000
END:STANDARD
END:VTIMEZONE
BEGIN:VEVENT
DTSTART;TZID=Europe/Paris:20250526T183000
DTEND;TZID=Europe/Paris:20250526T193000
DTSTAMP:20260421T211352
CREATED:20230928T182109Z
LAST-MODIFIED:20230928T182109Z
UID:26133-1748284200-1748287800@amicsdelesarts-jjmm.cat
SUMMARY:Arts Plàstiques: Sessió de model
DESCRIPTION:Tots els dilluns de les 18:30h a 19:30h\, Sala Joaquim Cardellach (C/ Teatre\, 2 – Terrassa)\nPreu: socis 3€ / no socis 6€
URL:http://amicsdelesarts-jjmm.cat/acte/arts-plastiques-sessio-de-model/2025-05-26/
CATEGORIES:Arts plàstiques
ATTACH;FMTTYPE=image/jpeg:http://amicsdelesarts-jjmm.cat/wp-content/uploads/2023/09/sessio-de-model.jpg
END:VEVENT
BEGIN:VEVENT
DTSTART;TZID=Europe/Paris:20250526T183000
DTEND;TZID=Europe/Paris:20250526T193000
DTSTAMP:20260421T211352
CREATED:20250228T191431Z
LAST-MODIFIED:20250228T191628Z
UID:26369-1748284200-1748287800@amicsdelesarts-jjmm.cat
SUMMARY:«Sessió de model»
DESCRIPTION:Tots els dilluns de les 18:30 a les 19:30h.\nSala Joaquim Cardellach\, Teatre\, 2 – Terrassa \nPreu: Soci/a 3€  /  No soci/a  6€ \n 
URL:http://amicsdelesarts-jjmm.cat/acte/sessio-de-model-2/2025-05-26/
CATEGORIES:Arts plàstiques
ATTACH;FMTTYPE=image/jpeg:http://amicsdelesarts-jjmm.cat/wp-content/uploads/2025/02/sessio-de-model.jpg
END:VEVENT
END:VCALENDAR