BEGIN:VCALENDAR
VERSION:2.0
PRODID:-//Amics de les Arts i Joventuts Musicals - ECPv6.15.20//NONSGML v1.0//EN
CALSCALE:GREGORIAN
METHOD:PUBLISH
X-WR-CALNAME:Amics de les Arts i Joventuts Musicals
X-ORIGINAL-URL:http://amicsdelesarts-jjmm.cat
X-WR-CALDESC:Esdeveniments per Amics de les Arts i Joventuts Musicals
REFRESH-INTERVAL;VALUE=DURATION:PT1H
X-Robots-Tag:noindex
X-PUBLISHED-TTL:PT1H
BEGIN:VTIMEZONE
TZID:Europe/Paris
BEGIN:DAYLIGHT
TZOFFSETFROM:+0100
TZOFFSETTO:+0200
TZNAME:CEST
DTSTART:20240331T010000
END:DAYLIGHT
BEGIN:STANDARD
TZOFFSETFROM:+0200
TZOFFSETTO:+0100
TZNAME:CET
DTSTART:20241027T010000
END:STANDARD
BEGIN:DAYLIGHT
TZOFFSETFROM:+0100
TZOFFSETTO:+0200
TZNAME:CEST
DTSTART:20250330T010000
END:DAYLIGHT
BEGIN:STANDARD
TZOFFSETFROM:+0200
TZOFFSETTO:+0100
TZNAME:CET
DTSTART:20251026T010000
END:STANDARD
BEGIN:DAYLIGHT
TZOFFSETFROM:+0100
TZOFFSETTO:+0200
TZNAME:CEST
DTSTART:20260329T010000
END:DAYLIGHT
BEGIN:STANDARD
TZOFFSETFROM:+0200
TZOFFSETTO:+0100
TZNAME:CET
DTSTART:20261025T010000
END:STANDARD
END:VTIMEZONE
BEGIN:VEVENT
DTSTART;TZID=Europe/Paris:20250608T190000
DTEND;TZID=Europe/Paris:20250608T200000
DTSTAMP:20260423T062838
CREATED:20250529T225853Z
LAST-MODIFIED:20250529T225853Z
UID:26850-1749409200-1749412800@amicsdelesarts-jjmm.cat
SUMMARY:«Passat\, present i futur»\, concert per orquestra de corda sota la direcció d'Albert Borràs 
DESCRIPTION:Diumenge 8 de juny a les 19h.\nSala d’Actes\, Joaquim Cardellach\, Teatre\, 2 – Terrassa
URL:http://amicsdelesarts-jjmm.cat/acte/passat-present-i-futur-concert-per-orquestra-de-corda-sota-la-direccio-dalbert-borras/
CATEGORIES:Música clàssica/coral
ATTACH;FMTTYPE=image/png:http://amicsdelesarts-jjmm.cat/wp-content/uploads/2025/05/Passat-present-I-futur-3.png
END:VEVENT
BEGIN:VEVENT
DTSTART;TZID=Europe/Paris:20250608T180000
DTEND;TZID=Europe/Paris:20250608T200000
DTSTAMP:20260423T062838
CREATED:20250529T221130Z
LAST-MODIFIED:20250529T221130Z
UID:26808-1749405600-1749412800@amicsdelesarts-jjmm.cat
SUMMARY:«10 ANYS DIBUIXANT TERRASSA» USK Terrassa
DESCRIPTION:Exposició oberta del 31 de maig al 26 de juny de 2025\nSala Salvador Alavedra\, Teatre\, 2 – Terrassa.\nHorari: de dimarts a diumenge de les 18:00 a les 20h.
URL:http://amicsdelesarts-jjmm.cat/acte/10-anys-dibuixant-terrassa-usk-terrassa/2025-06-08/
CATEGORIES:Arts plàstiques
ATTACH;FMTTYPE=image/jpeg:http://amicsdelesarts-jjmm.cat/wp-content/uploads/2025/05/IMG-20250513-WA0003-1.jpg
END:VEVENT
END:VCALENDAR