BEGIN:VCALENDAR
VERSION:2.0
PRODID:-//Amics de les Arts i Joventuts Musicals - ECPv6.15.20//NONSGML v1.0//EN
CALSCALE:GREGORIAN
METHOD:PUBLISH
X-WR-CALNAME:Amics de les Arts i Joventuts Musicals
X-ORIGINAL-URL:http://amicsdelesarts-jjmm.cat
X-WR-CALDESC:Esdeveniments per Amics de les Arts i Joventuts Musicals
REFRESH-INTERVAL;VALUE=DURATION:PT1H
X-Robots-Tag:noindex
X-PUBLISHED-TTL:PT1H
BEGIN:VTIMEZONE
TZID:Europe/Paris
BEGIN:DAYLIGHT
TZOFFSETFROM:+0100
TZOFFSETTO:+0200
TZNAME:CEST
DTSTART:20240331T010000
END:DAYLIGHT
BEGIN:STANDARD
TZOFFSETFROM:+0200
TZOFFSETTO:+0100
TZNAME:CET
DTSTART:20241027T010000
END:STANDARD
BEGIN:DAYLIGHT
TZOFFSETFROM:+0100
TZOFFSETTO:+0200
TZNAME:CEST
DTSTART:20250330T010000
END:DAYLIGHT
BEGIN:STANDARD
TZOFFSETFROM:+0200
TZOFFSETTO:+0100
TZNAME:CET
DTSTART:20251026T010000
END:STANDARD
BEGIN:DAYLIGHT
TZOFFSETFROM:+0100
TZOFFSETTO:+0200
TZNAME:CEST
DTSTART:20260329T010000
END:DAYLIGHT
BEGIN:STANDARD
TZOFFSETFROM:+0200
TZOFFSETTO:+0100
TZNAME:CET
DTSTART:20261025T010000
END:STANDARD
END:VTIMEZONE
BEGIN:VEVENT
DTSTART;VALUE=DATE:20251006
DTEND;VALUE=DATE:20251102
DTSTAMP:20260424T125234
CREATED:20250919T111705Z
LAST-MODIFIED:20251013T110104Z
UID:27227-1759712400-1761958799@amicsdelesarts-jjmm.cat
SUMMARY:Exposició «COLOR DIRECTE». Obra de Roc Alabern\, Oriol Hernández i Octavi Intente
DESCRIPTION:Exposició COLOR DIRECTE \nRoc Alabern\, Oriol Hernández i Octavi Intente \nComissariat: Samuel Garrofé \nLa tècnica del Color directe en el còmic és un procés de coloració en què el color i els contorns negres no estan separats\, cada vinyeta de còmic és aleshores una petita pintura en si mateixa. \nAquests sistemes proporcionen als dibuixants una gran llibertat de tècniques d’acoloriment: pintura\, aerografia\, collages\, etc. \nAquesta exposició participa de l’ideari d’anteriors projectes creats per la secció Imatge del Laboratori Creatiu d’Amics de les Arts i Joventuts Musicals amb els que es vol reflexionar sobre tecnologia i arts visuals. \nOrganitza: \nSecció Imatge del Laboratori Creatiu d’Amics de les Arts i Joventuts Musicals.   \nExposició: \nSala La Cúpula d’Amics de les Arts i Joventuts Musicals.  \nDel dilluns 6 al divendres 31 d’octubre. De les 17:00 a les 20:00h. \n\nDivendres 17 d’octubre\, a les 19.00 h: Inauguració de l’exposició «Color directe». Obra de Roc Alabern\, Oriol Hernández i Octavi Intente.\n\nImatge: Oriol Hernández
URL:http://amicsdelesarts-jjmm.cat/acte/exposicio-color-directe-comic-i-pintura-en-una-mateixa-vinyeta-del-dv-10-al-dv-31-doctubre/
CATEGORIES:Arts plàstiques,Laboratori Creatiu
END:VEVENT
BEGIN:VEVENT
DTSTART;VALUE=DATE:20251011
DTEND;VALUE=DATE:20251106
DTSTAMP:20260424T125234
CREATED:20251002T080644Z
LAST-MODIFIED:20251002T080644Z
UID:27369-1760144400-1762304399@amicsdelesarts-jjmm.cat
SUMMARY:Pelat 60. Aquarel·les i obra sobre paper de Paco Roig
DESCRIPTION:Pelat 60 és la denominació popular amb la qual els terrassencs anomenen el número 60 en el joc del quinto. Aquest també és el títol de l’exposició de Paco Roig que\, coincidint amb el seu aniversari\, presenta un resum dels treballs d’aquarel·la i obra sobre paper realitzats en els darrers dos anys. \n \n📅 De l’11 d’octubre al 4 de novembre de 2025\n📍 Sala d’exposicions Salvador Alavedra – Amics de les Arts i Joventuts Musicals \n 
URL:http://amicsdelesarts-jjmm.cat/acte/pelat-60-aquarelles-i-obra-sobre-paper-de-paco-roig/
CATEGORIES:Arts plàstiques
END:VEVENT
BEGIN:VEVENT
DTSTART;TZID=Europe/Paris:20251018T110000
DTEND;TZID=Europe/Paris:20251018T120000
DTSTAMP:20260424T125234
CREATED:20251014T103215Z
LAST-MODIFIED:20260215T195538Z
UID:27488-1760785200-1760788800@amicsdelesarts-jjmm.cat
SUMMARY:Debats Literaris amb Montserrat Espallargas — Del 18 d’octubre de 2025 al 15 de maig de 2026
DESCRIPTION:Amics de les Arts i Joventuts Musicals engega aquest curs una nova activitat estable\, en col·laboració amb altres entitats com la BCT: els Debats Literaris\, un cicle conduït per l’escriptora i periodista Montserrat Espallargas. La proposta no és un club de lectura tradicional\, sinó un espai de debat i intercanvi al voltant de grans obres i autors de la literatura universal i contemporània. \nENTREVISTA | Montserrat Espallargas: “Els Debats Literaris volen transformar la lectura en una experiència viva” \nEl cicle arrencarà el dissabte 18 d’octubre amb Madame Bovary\, de Gustave Flaubert\, en una sessió a la Biblioteca Central de Terrassa. \nPer un preu únic de 65 €\, les persones inscrites podran participar lliurement en tots els debats del programa\, que es desenvoluparan entre octubre i maig en diversos espais de la ciutat: la seu d’Amics de les Arts i Joventuts Musicals\, la Biblioteca Central i d’altres locals de Terrassa. Algunes de les trobades tindran un format especial amb maridatges gastronòmics sorpresa\, que es donaran a conèixer només 24 hores abans de l’activitat. \n👉 IMPORTANT! Els participants a Debats Literaris que siguin socis d’AAiJM tindran un -20% de descompte en la inscripció. \n  \n🗓️ Calendari de trobades\n📖 Dissabte 18 d’octubre (11.00 h)\nMadame Bovary\, de Gustave Flaubert \nℹ️ Una de les novel·les fundacionals del realisme modern. Retrata la vida d’Emma Bovary\, una dona insatisfeta amb el seu matrimoni i la vida de províncies\, que busca la felicitat en amors apassionats i luxes inabastables. Una crítica als ideals romàntics i a la societat burgesa del segle XIX. \n🎙️ Participa: Lídia Anoll\nDoctora en Filologia Francesa i professora del Departament de Filologia Romànica de la Universitat de Barcelona. Especialista en l’obra de Gustave Flaubert. \n📍 Participació presencial a la Biblioteca Central de Terrassa\nActivitat organitzada conjuntament amb la Biblioteca Central de Terrassa\, dins del Club de Lectura. \n📖 Dijous 13 de novembre (19.00 h)\nLa pau que ens ofegava\, de Mercè Cabrera \nℹ️ Novel·la que explora la vida d’una família marcada pels silencis\, les renúncies i la complexitat de les relacions humanes. Mercè Cabrera ofereix una mirada íntima i crítica sobre la memòria personal i col·lectiva. \n🎙️ Participa: Mercè Cabrera\nFilòloga i traductora anglesa. Autora de La pau que ens ofegava\, Premi Ciutat de Xàtiva. \n📍 Participació presencial a la seu d’Amics de les Arts i Joventuts Musicals. \n📖 Dimecres 10 de desembre (18.45 h)\nConversación en la catedral\, de Mario Vargas Llosa \nℹ️ Un clàssic de la literatura llatinoamericana que dissecciona la corrupció i la repressió a la dictadura peruana dels anys cinquanta. A través d’una llarga conversa en un bar\, es desplega un mosaic de personatges i històries que mostren la decadència social i política del país. \nEstudiarem els paral·lelismes extraordinaris d’aquesta obra amb altres de la literatura catalana. \n📍 La Taverna del Ciri \n📖 Divendres 9 de gener (19.00 h)\nOlor a hormiga\, de Júlia Pero \nℹ️ Novel·la contemporània catalana que combina lirisme i cruesa per parlar de les emocions humanes\, els records i les vivències que marquen la identitat. Una obra intimista i potent. \n🎙️ Participa: Júlia Però (virtualment) \n📍 Lloc a determinar \n📖 Divendres 6 de febrer (19.00 h)\nAlexis o el tractat del combat inútil\, de Margarite Yourcenar \nℹ️ Publicada el 1929\, és una novel·la en forma de confessió epistolar on un jove músic explica la seva lluita interior per acceptar la seva homosexualitat. Un text valent i lúcid sobre identitat\, desig i llibertat personal. \n🎙️ Participa: Antonia Pallach\nTraductora de l’obra. Participació presencial. \n📍 Seu d’Amics de les Arts i Joventuts Musicals \n📖 Dissabte 21 de març (11.00 h)\nAntologia Salvat Papasseit \nℹ️ Selecció dels poemes més emblemàtics d’un dels grans poetes catalans d’avantguarda. La seva obra transmet vitalitat\, amor\, compromís social i una mirada plena d’innovació formal. \n🎙️ Participen: Jordi Martí i Amat Pallejà\nActivitat del Club de Lectura organitzada conjuntament amb la Biblioteca Central de Terrassa. \n📍 Participació presencial a la Biblioteca Central de Terrassa. \n📖 Divendres 17 d’abril (19.00 h)\nMátame amor\, d’Ariana Harwicz \nℹ️ Una novel·la breu i intensa que mostra la veu d’una dona atrapada en la rutina domèstica i en una relació opressiva. Amb un estil fragmentat i visceral\, Harwicz planteja un relat inquietant sobre desig\, maternitat i violència. \nParticipa: Ariana Harwicz (Club de Lectura conjunt amb la Biblioteca de Terrassa) \n🎙️ Participa: Ariana Harwicz\nActivitat del Club de Lectura organitzada conjuntament amb la Biblioteca Central de Terrassa. \n💻 Participació virtual des de l’Argentina. \n📍 Seu d’Amics de les Arts i Joventuts Musicals \n  \n📖 Divendres 15 de maig (19.00 h)\nLa concorxa dels imbècils\, de John Kennedy Toole \nℹ️ Considerada una de les novel·les més divertides i corrosives del segle XX\, té com a protagonista Ignatius J. Reilly\, un personatge excèntric i desmesurat que viu a Nova Orleans. Sàtira desbordant sobre la societat nord-americana\, plena d’humor i crítica. \n📍 Lloc a determinar \n  \n📌 Nota informativa 1\nEls llocs de les trobades de Mario Vargas Llosa i de John Kennedy Toole encara estan per determinar. \nEn ambdós casos\, es farà un maridatge de l’obra amb un restaurant de la ciutat\, que s’anunciarà 24 hores abans de la trobada a través dels canals d’Amics de les Arts i Joventuts Musicals. \n  \n📌 Nota informativa 2\nFilosofia del Club de Lectura \nEl nostre club de lectura neix de la convicció que la literatura és un espai viu de diàleg\, descobriment i llibertat. Alternem lectures d’obres clàssiques i contemporànies per mantenir oberts els ponts entre passat i present\, i defugim els circuits comercials per donar veu a textos que il·luminen\, remouen i qüestionen. \nCreiem que llegir és més enriquidor quan és compartit: per això combinem trobades presencials i virtuals amb autors\, traductors i lectors\, amb l’objectiu d’escoltar\, debatre i fer créixer la lectura col·lectiva. \n  \nℹ️ Informació i inscripcions\n👉 Preu global del cicle: 65 €\n Inclou totes les sessions i\, quan escaigui\, els maridatges gastronòmics. \n📝 Les inscripcions es poden fer presencialment a la secretaria d’Amics de les Arts i Joventuts Musicals\n 📍 C/ Sant Pere\, 46\, 1a planta – Terrassa
URL:http://amicsdelesarts-jjmm.cat/acte/debats-literaris-amb-montserrat-espallargas-del-18-doctubre-de-2025-al-15-de-maig-de-2026/2025-10-18/
CATEGORIES:Literatura/debat
END:VEVENT
END:VCALENDAR