BEGIN:VCALENDAR
VERSION:2.0
PRODID:-//Amics de les Arts i Joventuts Musicals - ECPv6.15.20//NONSGML v1.0//EN
CALSCALE:GREGORIAN
METHOD:PUBLISH
X-WR-CALNAME:Amics de les Arts i Joventuts Musicals
X-ORIGINAL-URL:http://amicsdelesarts-jjmm.cat
X-WR-CALDESC:Esdeveniments per Amics de les Arts i Joventuts Musicals
REFRESH-INTERVAL;VALUE=DURATION:PT1H
X-Robots-Tag:noindex
X-PUBLISHED-TTL:PT1H
BEGIN:VTIMEZONE
TZID:Europe/Paris
BEGIN:DAYLIGHT
TZOFFSETFROM:+0100
TZOFFSETTO:+0200
TZNAME:CEST
DTSTART:20250330T010000
END:DAYLIGHT
BEGIN:STANDARD
TZOFFSETFROM:+0200
TZOFFSETTO:+0100
TZNAME:CET
DTSTART:20251026T010000
END:STANDARD
BEGIN:DAYLIGHT
TZOFFSETFROM:+0100
TZOFFSETTO:+0200
TZNAME:CEST
DTSTART:20260329T010000
END:DAYLIGHT
BEGIN:STANDARD
TZOFFSETFROM:+0200
TZOFFSETTO:+0100
TZNAME:CET
DTSTART:20261025T010000
END:STANDARD
BEGIN:DAYLIGHT
TZOFFSETFROM:+0100
TZOFFSETTO:+0200
TZNAME:CEST
DTSTART:20270328T010000
END:DAYLIGHT
BEGIN:STANDARD
TZOFFSETFROM:+0200
TZOFFSETTO:+0100
TZNAME:CET
DTSTART:20271031T010000
END:STANDARD
END:VTIMEZONE
BEGIN:VEVENT
DTSTART;TZID=Europe/Paris:20260527T183000
DTEND;TZID=Europe/Paris:20260527T200000
DTSTAMP:20260424T125231
CREATED:20251224T120555Z
LAST-MODIFIED:20260119T162331Z
UID:28883-1779906600-1779912000@amicsdelesarts-jjmm.cat
SUMMARY:Curs pràctic de dibuix i pintura · Nivell avançat · Gener – Juny 2026
DESCRIPTION:Aquest curs està adreçat a persones que ja tenen una base de dibuix o pintura i volen aprofundir en la tècnica\, perfeccionar el seu llenguatge figuratiu i desenvolupar una obra més personal. \nAl llarg del curs es treballa tant des de l’observació com des de la imaginació\, amb sessions d’estudi i pràctiques a l’aire lliure. Es revisen i consoliden els fonaments del dibuix i la pintura\, s’exploren diferents formes de representació i s’integren tècniques d’artistes i exercicis de desenvolupament creatiu. \nEl curs combina una base teòrica sòlida amb una pràctica continuada\, i culmina amb el desenvolupament d’un projecte personal o una petita sèrie d’obres\, amb acompanyament tècnic i reflexió col·lectiva. \n🗓️ Divendres · de 18.30 a 20.00 h \n\nDurada: 6 mesos (16 de gener a 19 de juny de 2026)\nFreqüència: 1 classe setmanal de 1\,5 h\nPúblic: persones amb experiència prèvia en dibuix i pintura\nTècniques: acrílic\, tècniques mixtes i oli\n\n🧑‍🏫 Professora: Sofia Ugarte (veure més informació). \nℹ️ Més informació sobre els cursos de dibuix i pintura\, aquí. \nInscripcions\nPer a més informació sobre els cursos i per formalitzar la inscripció\, podeu contactar amb Amics de les Arts i Joventuts Musicals: \n📍 Adreça:\nC/ Teatre\, 2 – C/ Sant Pere\, 46\, 1r pis · 08221 · Terrassa \n📞 Telèfon: 93 785 92 31\n✉️ Correu electrònic: info@amicsdelesarts-jjmm.cat \n🕒 Horari d’atenció a secretaria:\nDe dilluns a divendres\, de 17.00 a 20.00 h \n_____ \n𝐓’𝐡𝐚 𝐢𝐧𝐭𝐞𝐫𝐞𝐬𝐬𝐚𝐭 𝐚𝐪𝐮𝐞𝐬𝐭 𝐜𝐨𝐧𝐭𝐢𝐧𝐠𝐮𝐭\n📧 Subscriu-te al nostre 𝐵𝑢𝑡𝑙𝑙𝑒𝑡𝑖́ i rebràs\, cada quinze dies\, les novetats culturals al teu correu electrònic. \n📲 Informa’t també a través del nostre canal de WhatsApp (dilluns i dijous).\ni segueix-nos a Instagram\, Facebook i X (Twitter) per no perdre’t cap activitat.
URL:http://amicsdelesarts-jjmm.cat/acte/curs-practic-de-dibuix-i-pintura-%c2%b7-nivell-mitja-avancat-%c2%b7-gener-juny-2026/2026-05-27/
CATEGORIES:Arts plàstiques
END:VEVENT
BEGIN:VEVENT
DTSTART;TZID=Europe/Paris:20260527T190000
DTEND;TZID=Europe/Paris:20260527T203000
DTSTAMP:20260424T125231
CREATED:20260318T164933Z
LAST-MODIFIED:20260318T164933Z
UID:30527-1779908400-1779913800@amicsdelesarts-jjmm.cat
SUMMARY:Seminari: «Temps de Rodoreda» · dc. 13 i 27 de maig i 10 de juny de 2026
DESCRIPTION:El seminari «Temps de Rodoreda»\, impartit per Josep Maria Lluró\, proposa una aproximació a l’obra de Mercè Rodoreda a través d’una lectura reflexiva de La mort i la primavera i d’una selecció de contes de l’autora. \nLa proposta s’emmarca en l’activitat de l’Escola de Literatura de Terrassa i ofereix un espai per aprofundir en una de les veus més rellevants de la literatura catalana contemporània. El curs convida a una lectura atenta i compartida\, que permet explorar les dimensions simbòliques i humanes de l’obra rodorediana. \nJosep Maria Lluró (Barcelona\, 1963) és doctor en Literatura i Humanitats\, amb una trajectòria vinculada a l’estudi de la literatura i els processos de deshumanització. Ha impartit nombroses conferències i seminaris sobre autors com Joseph Conrad\, Primo Levi o Vassili Grossman\, entre d’altres. \n📅 Dimecres 13 i 27 de maig\, i 10 de juny de 2026\, de 19.00 a 20.30 h\n📍 Amics de les Arts i Joventuts Musicals\n📌 C/ Sant Pere\, 46 · Terrassa \nMés informació:\nhttp://amicsdelesarts-jjmm.cat/matricula-elt/ \n_____ \nT’ha interessat aquest contingut? \n📧 Subscriu-te al nostre butlletí i rebràs\, cada quinze dies\, les principals novetats culturals directament al teu correu electrònic. \n📲 Apunta’t també al Canal de Whatsapp\, on compartim continguts d’interès cada dilluns i dijous. \n📱Segueix-nos a Instagram\, Facebook i X (Twitter) per estar al dia de totes les activitats d’Amics de les Arts i Joventuts Musicals.
URL:http://amicsdelesarts-jjmm.cat/acte/seminari-temps-de-rodoreda-%c2%b7-dc-13-i-27-de-maig-i-10-de-juny-de-2026/2026-05-27/
CATEGORIES:Escola de Literatura
END:VEVENT
END:VCALENDAR