BEGIN:VCALENDAR
VERSION:2.0
PRODID:-//Amics de les Arts i Joventuts Musicals - ECPv6.15.20//NONSGML v1.0//EN
CALSCALE:GREGORIAN
METHOD:PUBLISH
X-WR-CALNAME:Amics de les Arts i Joventuts Musicals
X-ORIGINAL-URL:http://amicsdelesarts-jjmm.cat
X-WR-CALDESC:Esdeveniments per Amics de les Arts i Joventuts Musicals
REFRESH-INTERVAL;VALUE=DURATION:PT1H
X-Robots-Tag:noindex
X-PUBLISHED-TTL:PT1H
BEGIN:VTIMEZONE
TZID:Europe/Paris
BEGIN:DAYLIGHT
TZOFFSETFROM:+0100
TZOFFSETTO:+0200
TZNAME:CEST
DTSTART:20220327T010000
END:DAYLIGHT
BEGIN:STANDARD
TZOFFSETFROM:+0200
TZOFFSETTO:+0100
TZNAME:CET
DTSTART:20221030T010000
END:STANDARD
BEGIN:DAYLIGHT
TZOFFSETFROM:+0100
TZOFFSETTO:+0200
TZNAME:CEST
DTSTART:20230326T010000
END:DAYLIGHT
BEGIN:STANDARD
TZOFFSETFROM:+0200
TZOFFSETTO:+0100
TZNAME:CET
DTSTART:20231029T010000
END:STANDARD
BEGIN:DAYLIGHT
TZOFFSETFROM:+0100
TZOFFSETTO:+0200
TZNAME:CEST
DTSTART:20240331T010000
END:DAYLIGHT
BEGIN:STANDARD
TZOFFSETFROM:+0200
TZOFFSETTO:+0100
TZNAME:CET
DTSTART:20241027T010000
END:STANDARD
END:VTIMEZONE
BEGIN:VEVENT
DTSTART;TZID=Europe/Paris:20230211T180000
DTEND;TZID=Europe/Paris:20230211T200000
DTSTAMP:20260420T074212
CREATED:20230130T195615Z
LAST-MODIFIED:20230130T195615Z
UID:21319-1676138400-1676145600@amicsdelesarts-jjmm.cat
SUMMARY:ANTON ROCA\, PINTOR
DESCRIPTION:Dates d’exposició: 11 de febrer al 9 de març de 2023. Amics de les Arts i Joventuts Musicals. Sala Alavedra (c/ Teatre\, 2 – Terrassa) \nInauguració\, dissabte 11 de febrer a les 18:00h. \n  \nAntoni Roca Maristany (Barcelona 1895 -1977) va ser un artista molt reconegut\ncom a dibuixant. Format a La Llotja amb el mestre José Ruiz y Blasco\, pare de\nPicasso. Va obtenir un èxit immediat\, cosa que li va permetre treballar des de molt\naviat com a il·lustrador i ninotaire en les més prestigioses revistes de l’època (La\nEsfera\, Mundo Gráfico\, Las Noticias\, La Vanguardia\, Mundo Gráfico\, L’Esquella de\nla Torratxa\, Tururut\, Mundo Deportivo\, El Once\, Xut!\, L’Esport Català\, Dicen i\nmoltes altres).\nEls seus treballs com a pintor són pràcticament desconeguts. Va formar part del\nGrup Nou Ambient i amb aquest grup va presentar 4 pintures a l’exposició\norganitzada a Les Galeries Dalmau el 1923. La pintura de Roca és un bell i bon\ncomplement dels seus dibuixos\, on treballa la figura\, en canvi\, en pintura\ndesenvolupa sobretot el paisatge suburbial i la natura morta. Francesc Camps\nRibera escriu a la revista Nou Ambient el setembre del 1924\, un article sobre Antoni\nRoca i remarca la seva àmplia cultura i diversitat de tècniques com artista: “En\nRoca pinta\, dibuixa\, escriu i llegeix contínuament”. Del Roca pintor Camps Ribera\ndestaca la seva bona tècnica\, sobrietat en el color\, les semblances amb\nFeliu Elias en la utilització de la tècnica divisionista que li permet pintar la realitat:\n“pintura que busca la depuració\, la perfecció\, fora del seu temps”.\nDurant gairebé cent anys l’obra pictòrica d’Antoni Roca ha quedat en l’anonimat\, a\nl’estudi de l’artista i posteriorment sota la custòdia dels seus dos fills\, Antoni i Jordi\nRoca Gual. Per aquest motiu i per l’extraordinària qualitat de les seves pintures\,\nl’exposició de les 38 pintures que presentem és absolutament inèdita i d’un interès\nexcepcional. \nAssumpció Cardona Iglesias\, Josep Guindo Soldevila \n 
URL:http://amicsdelesarts-jjmm.cat/acte/anton-roca-pintor/2023-02-11/
CATEGORIES:Arts plàstiques
ATTACH;FMTTYPE=image/jpeg:http://amicsdelesarts-jjmm.cat/wp-content/uploads/2023/01/IMG_1566.jpg
END:VEVENT
END:VCALENDAR