BEGIN:VCALENDAR
VERSION:2.0
PRODID:-//Amics de les Arts i Joventuts Musicals - ECPv6.15.20//NONSGML v1.0//EN
CALSCALE:GREGORIAN
METHOD:PUBLISH
X-WR-CALNAME:Amics de les Arts i Joventuts Musicals
X-ORIGINAL-URL:http://amicsdelesarts-jjmm.cat
X-WR-CALDESC:Esdeveniments per Amics de les Arts i Joventuts Musicals
REFRESH-INTERVAL;VALUE=DURATION:PT1H
X-Robots-Tag:noindex
X-PUBLISHED-TTL:PT1H
BEGIN:VTIMEZONE
TZID:Europe/Paris
BEGIN:DAYLIGHT
TZOFFSETFROM:+0100
TZOFFSETTO:+0200
TZNAME:CEST
DTSTART:20220327T010000
END:DAYLIGHT
BEGIN:STANDARD
TZOFFSETFROM:+0200
TZOFFSETTO:+0100
TZNAME:CET
DTSTART:20221030T010000
END:STANDARD
BEGIN:DAYLIGHT
TZOFFSETFROM:+0100
TZOFFSETTO:+0200
TZNAME:CEST
DTSTART:20230326T010000
END:DAYLIGHT
BEGIN:STANDARD
TZOFFSETFROM:+0200
TZOFFSETTO:+0100
TZNAME:CET
DTSTART:20231029T010000
END:STANDARD
BEGIN:DAYLIGHT
TZOFFSETFROM:+0100
TZOFFSETTO:+0200
TZNAME:CEST
DTSTART:20240331T010000
END:DAYLIGHT
BEGIN:STANDARD
TZOFFSETFROM:+0200
TZOFFSETTO:+0100
TZNAME:CET
DTSTART:20241027T010000
END:STANDARD
END:VTIMEZONE
BEGIN:VEVENT
DTSTART;TZID=Europe/Paris:20231001T110000
DTEND;TZID=Europe/Paris:20231001T200000
DTSTAMP:20260422T201215
CREATED:20230908T183931Z
LAST-MODIFIED:20230908T183931Z
UID:22575-1696158000-1696190400@amicsdelesarts-jjmm.cat
SUMMARY:44 Fira del Dibuix de Terrassa
DESCRIPTION:Diumenge 1 d’octubre de 2023 a la Plaça Vella\, carrer Major i carrer de la Unió\,\nde les 11 del matí a les 8 del vespre.
URL:http://amicsdelesarts-jjmm.cat/acte/44-fira-del-dibuix-de-terrassa/
CATEGORIES:Arts plàstiques
ATTACH;FMTTYPE=image/png:http://amicsdelesarts-jjmm.cat/wp-content/uploads/2023/09/FIRA_.png
END:VEVENT
BEGIN:VEVENT
DTSTART;TZID=Europe/Paris:20231003T190000
DTEND;TZID=Europe/Paris:20231003T203000
DTSTAMP:20260422T201215
CREATED:20230908T181821Z
LAST-MODIFIED:20230908T182447Z
UID:22494-1696359600-1696365000@amicsdelesarts-jjmm.cat
SUMMARY:Curs de Dibuix Pràctic: Introducció a la il·lustració
DESCRIPTION:Del 3 d’octubre al 25 de juny\, dimarts de les 19:00 a les 20:30h. Sala Morera (c/Sant Pere\, 46\, 2a planta – Terrassa) / Matrícula Oberta
URL:http://amicsdelesarts-jjmm.cat/acte/curs-de-dibuix-practic-introduccio-a-la-illustracio/2023-10-03/
CATEGORIES:Arts plàstiques
ATTACH;FMTTYPE=image/jpeg:http://amicsdelesarts-jjmm.cat/wp-content/uploads/2023/09/Curs-2023_24-1-scaled.jpg
END:VEVENT
BEGIN:VEVENT
DTSTART;TZID=Europe/Paris:20231007T180000
DTEND;TZID=Europe/Paris:20231007T200000
DTSTAMP:20260422T201215
CREATED:20230918T183713Z
LAST-MODIFIED:20231009T171811Z
UID:22591-1696701600-1696708800@amicsdelesarts-jjmm.cat
SUMMARY:Arts Plàstiques / Exposició: l'Stimmung o totalitat espiritual del paisatge\, de Laura Sabaté
DESCRIPTION:Del 7 d’octubre al 2 de novembre de 2023.\n\nDe dimarts a diumenge de les 18:00 a les 20:00h. Inauguració 7 d’octubre a les 18:00h.\nSala  Alavedra (c/ Teatre\, 2 – Terrassa).\n\nLaura Sabaté (Sabadell\, 1978) pinta sobretot paisatge\, però no ho fa de manera meticulosa\,\ndetallada i concreta. Són paisatges profunds\, íntims\, que pretenen mostrar una determinada\natmosfera relacionada amb les percepcions i els estats d’ànim. Assegura que “sol reflectir a\nles meves obres una atracció pel misteri”\, amb la intenció de transmetre un seguit de\nsensacions que correspon a l’observador establir.\nEn aquesta exposició als Amics de les Arts i Joventuts Musicals presenta 23 quadres\, acrílics\nsobre tela i cartó\, i 3 gravats\, realitzats durant aquests dos últims anys.
URL:http://amicsdelesarts-jjmm.cat/acte/arts-plastiques-exposicio-lstimmung-o-totalitat-espiritual-del-paisatge-de-laura-sabate/2023-10-07/
CATEGORIES:Arts plàstiques
ATTACH;FMTTYPE=image/jpeg:http://amicsdelesarts-jjmm.cat/wp-content/uploads/2023/09/Laura.jpg
END:VEVENT
END:VCALENDAR