BEGIN:VCALENDAR
VERSION:2.0
PRODID:-//Amics de les Arts i Joventuts Musicals - ECPv6.15.20//NONSGML v1.0//EN
CALSCALE:GREGORIAN
METHOD:PUBLISH
X-WR-CALNAME:Amics de les Arts i Joventuts Musicals
X-ORIGINAL-URL:http://amicsdelesarts-jjmm.cat
X-WR-CALDESC:Esdeveniments per Amics de les Arts i Joventuts Musicals
REFRESH-INTERVAL;VALUE=DURATION:PT1H
X-Robots-Tag:noindex
X-PUBLISHED-TTL:PT1H
BEGIN:VTIMEZONE
TZID:Europe/Paris
BEGIN:DAYLIGHT
TZOFFSETFROM:+0100
TZOFFSETTO:+0200
TZNAME:CEST
DTSTART:20220327T010000
END:DAYLIGHT
BEGIN:STANDARD
TZOFFSETFROM:+0200
TZOFFSETTO:+0100
TZNAME:CET
DTSTART:20221030T010000
END:STANDARD
BEGIN:DAYLIGHT
TZOFFSETFROM:+0100
TZOFFSETTO:+0200
TZNAME:CEST
DTSTART:20230326T010000
END:DAYLIGHT
BEGIN:STANDARD
TZOFFSETFROM:+0200
TZOFFSETTO:+0100
TZNAME:CET
DTSTART:20231029T010000
END:STANDARD
BEGIN:DAYLIGHT
TZOFFSETFROM:+0100
TZOFFSETTO:+0200
TZNAME:CEST
DTSTART:20240331T010000
END:DAYLIGHT
BEGIN:STANDARD
TZOFFSETFROM:+0200
TZOFFSETTO:+0100
TZNAME:CET
DTSTART:20241027T010000
END:STANDARD
END:VTIMEZONE
BEGIN:VEVENT
DTSTART;TZID=Europe/Paris:20230114T180000
DTEND;TZID=Europe/Paris:20230114T200000
DTSTAMP:20260422T165755
CREATED:20230102T171125Z
LAST-MODIFIED:20230102T193245Z
UID:21159-1673719200-1673726400@amicsdelesarts-jjmm.cat
SUMMARY:"Exposició Col·lectiva de COLBACAT"\, a càrrec del Col·legi de Doctors i Llicenciats en Belles Arts de Catalunya.
DESCRIPTION:Dates: del 14 de gener al 9 de febrer de 2023\,Sala Alavedra (c/Teatre\, 2 – Terrassa)\nHorari: de dimarts a diumenge de 18:00h a 20:00h.\nInauguració: dissabte 14 de gener a les 18:00h.\nArtistes participants: Laura Roca\, Glòria Martí\, Antonio Aguirre i Maria Brugués.\n\n” Es tracta de quatre artistes amb una àmplia trajectòria en el camp de les arts plàstiques; dos d’ells molt vinculats a la ciutat com Antonio Aguirre nascut a la ciutat\, pintor i professor  de l’institut IES Terrassa\, ha estat degà durant anys del COLBACAT i actualment es manté a la junta. O Maria Brugués pintora\, escultora i catedràtica de dibuix que ha estat molt vinculada com a docent a l’Institut Blanxart participant en projectes a nivell de ciutat. També podrem gaudir de l’obra de Laura Roca i Glòria Martí\, la seva recerca en el camp artístic segur que ens sorprendrà.”
URL:http://amicsdelesarts-jjmm.cat/acte/exposicio-collectiva-de-colbacat-a-carrec-del-collegi-de-doctors-i-llicenciats-en-belles-arts-de-catalunya/2023-01-14/
CATEGORIES:Arts plàstiques
ATTACH;FMTTYPE=image/png:http://amicsdelesarts-jjmm.cat/wp-content/uploads/2023/01/Expo.png
END:VEVENT
END:VCALENDAR