BEGIN:VCALENDAR
VERSION:2.0
PRODID:-//Amics de les Arts i Joventuts Musicals - ECPv6.15.20//NONSGML v1.0//EN
CALSCALE:GREGORIAN
METHOD:PUBLISH
X-ORIGINAL-URL:http://amicsdelesarts-jjmm.cat
X-WR-CALDESC:Esdeveniments per Amics de les Arts i Joventuts Musicals
REFRESH-INTERVAL;VALUE=DURATION:PT1H
X-Robots-Tag:noindex
X-PUBLISHED-TTL:PT1H
BEGIN:VTIMEZONE
TZID:Europe/Paris
BEGIN:DAYLIGHT
TZOFFSETFROM:+0100
TZOFFSETTO:+0200
TZNAME:CEST
DTSTART:20220327T010000
END:DAYLIGHT
BEGIN:STANDARD
TZOFFSETFROM:+0200
TZOFFSETTO:+0100
TZNAME:CET
DTSTART:20221030T010000
END:STANDARD
BEGIN:DAYLIGHT
TZOFFSETFROM:+0100
TZOFFSETTO:+0200
TZNAME:CEST
DTSTART:20230326T010000
END:DAYLIGHT
BEGIN:STANDARD
TZOFFSETFROM:+0200
TZOFFSETTO:+0100
TZNAME:CET
DTSTART:20231029T010000
END:STANDARD
BEGIN:DAYLIGHT
TZOFFSETFROM:+0100
TZOFFSETTO:+0200
TZNAME:CEST
DTSTART:20240331T010000
END:DAYLIGHT
BEGIN:STANDARD
TZOFFSETFROM:+0200
TZOFFSETTO:+0100
TZNAME:CET
DTSTART:20241027T010000
END:STANDARD
END:VTIMEZONE
BEGIN:VEVENT
DTSTART;TZID=Europe/Paris:20230127T190000
DTEND;TZID=Europe/Paris:20230127T203000
DTSTAMP:20260424T102802
CREATED:20221230T193211Z
LAST-MODIFIED:20221230T193633Z
UID:21117-1674846000-1674851400@amicsdelesarts-jjmm.cat
SUMMARY:Presentació del llibre: Les dones i la literatura catalana\, a càrrec de Gemma Medina i Georgina Monge.
DESCRIPTION:Divendres 27 de gener de 2023\, a les 19:00h\, Sala Vancelles (c/Sant Pere\, 46\, 1a planta – Terrassa). \nRecull de conferències d’Anna Murià\, Elizabeth Russell\, Maria-Antònia Oliver\, Maria-Mercè Marçal\, Carme Riera i Margarida Aritzeta.
URL:http://amicsdelesarts-jjmm.cat/acte/excursio-a-lespluga-de-francoli-i-calcotada-a-vilabella-tarragona/
CATEGORIES:Arts plàstiques,Literatura/debat
ATTACH;FMTTYPE=image/jpeg:http://amicsdelesarts-jjmm.cat/wp-content/uploads/2022/12/Les-dones-i-la-literatura-catalana-2.jpg
END:VEVENT
END:VCALENDAR