BEGIN:VCALENDAR
VERSION:2.0
PRODID:-//Amics de les Arts i Joventuts Musicals - ECPv6.15.20//NONSGML v1.0//EN
CALSCALE:GREGORIAN
METHOD:PUBLISH
X-ORIGINAL-URL:http://amicsdelesarts-jjmm.cat
X-WR-CALDESC:Esdeveniments per Amics de les Arts i Joventuts Musicals
REFRESH-INTERVAL;VALUE=DURATION:PT1H
X-Robots-Tag:noindex
X-PUBLISHED-TTL:PT1H
BEGIN:VTIMEZONE
TZID:Europe/Paris
BEGIN:DAYLIGHT
TZOFFSETFROM:+0100
TZOFFSETTO:+0200
TZNAME:CEST
DTSTART:20220327T010000
END:DAYLIGHT
BEGIN:STANDARD
TZOFFSETFROM:+0200
TZOFFSETTO:+0100
TZNAME:CET
DTSTART:20221030T010000
END:STANDARD
BEGIN:DAYLIGHT
TZOFFSETFROM:+0100
TZOFFSETTO:+0200
TZNAME:CEST
DTSTART:20230326T010000
END:DAYLIGHT
BEGIN:STANDARD
TZOFFSETFROM:+0200
TZOFFSETTO:+0100
TZNAME:CET
DTSTART:20231029T010000
END:STANDARD
BEGIN:DAYLIGHT
TZOFFSETFROM:+0100
TZOFFSETTO:+0200
TZNAME:CEST
DTSTART:20240331T010000
END:DAYLIGHT
BEGIN:STANDARD
TZOFFSETFROM:+0200
TZOFFSETTO:+0100
TZNAME:CET
DTSTART:20241027T010000
END:STANDARD
END:VTIMEZONE
BEGIN:VEVENT
DTSTART;TZID=Europe/Paris:20230502T190000
DTEND;TZID=Europe/Paris:20230502T203000
DTSTAMP:20260422T171148
CREATED:20230427T172045Z
LAST-MODIFIED:20230427T172045Z
UID:21912-1683054000-1683059400@amicsdelesarts-jjmm.cat
SUMMARY:Conferència: «La història de l'art en veu de dona»\, a càrrec de Conxa Martínez Reig
DESCRIPTION:Dimarts 2 de maig de 2023\, a les 19:00h. Sala Vancells (C/ Sant Pere\, 46\, 1a planta – Terrassa). \n 
URL:http://amicsdelesarts-jjmm.cat/acte/conferencia-la-historia-de-lart-en-veu-de-dona-a-carrec-de-conxa-martinez-reig/
CATEGORIES:Arts plàstiques
ATTACH;FMTTYPE=image/jpeg:http://amicsdelesarts-jjmm.cat/wp-content/uploads/2023/04/cartell_conferencia.jpg
END:VEVENT
END:VCALENDAR