BEGIN:VCALENDAR
VERSION:2.0
PRODID:-//Amics de les Arts i Joventuts Musicals - ECPv6.15.20//NONSGML v1.0//EN
CALSCALE:GREGORIAN
METHOD:PUBLISH
X-ORIGINAL-URL:http://amicsdelesarts-jjmm.cat
X-WR-CALDESC:Esdeveniments per Amics de les Arts i Joventuts Musicals
REFRESH-INTERVAL;VALUE=DURATION:PT1H
X-Robots-Tag:noindex
X-PUBLISHED-TTL:PT1H
BEGIN:VTIMEZONE
TZID:Europe/Paris
BEGIN:DAYLIGHT
TZOFFSETFROM:+0100
TZOFFSETTO:+0200
TZNAME:CEST
DTSTART:20210328T010000
END:DAYLIGHT
BEGIN:STANDARD
TZOFFSETFROM:+0200
TZOFFSETTO:+0100
TZNAME:CET
DTSTART:20211031T010000
END:STANDARD
BEGIN:DAYLIGHT
TZOFFSETFROM:+0100
TZOFFSETTO:+0200
TZNAME:CEST
DTSTART:20220327T010000
END:DAYLIGHT
BEGIN:STANDARD
TZOFFSETFROM:+0200
TZOFFSETTO:+0100
TZNAME:CET
DTSTART:20221030T010000
END:STANDARD
BEGIN:DAYLIGHT
TZOFFSETFROM:+0100
TZOFFSETTO:+0200
TZNAME:CEST
DTSTART:20230326T010000
END:DAYLIGHT
BEGIN:STANDARD
TZOFFSETFROM:+0200
TZOFFSETTO:+0100
TZNAME:CET
DTSTART:20231029T010000
END:STANDARD
END:VTIMEZONE
BEGIN:VEVENT
DTSTART;TZID=Europe/Paris:20221103T190000
DTEND;TZID=Europe/Paris:20221103T210000
DTSTAMP:20260421T104247
CREATED:20221018T111518Z
LAST-MODIFIED:20221018T111743Z
UID:20536-1667502000-1667509200@amicsdelesarts-jjmm.cat
SUMMARY:Cine-Club: "El Desprecio"\, homenatge a Jean-Luc Godard
DESCRIPTION:Dijous 3 de novembre\, a les 19.00h\, Sala Vancells (c/Sant Pere\, 46\, 1a planta)\nHomenatge a Jean-Luc Godard \n“EL DESPRECIO” (“Le mépris”\, 1963) de Jean-Luc Godard\, amb .3Brigitte Bardot\, Michel Piccoli\, Jack Palance i Fritz Lang. \nAdaptació de la novel·la del mateix títol d’Alberto Moravia. És una història de “cinema dins del cinema” i alhora la crònica del final d’una relació. Rodada en bona part a l’illa de Capri\, amb fotografia de Raoul Coutard\, producció de Carlo Ponti i banda sonora de Georges Delerue. Fritz Lang s’interpreta a ell mateix. \nVOSE.\n103 min.\nEntrada lliure. Taquilla inversa.\nAforament limitat. \nORGANITZA: CINE-CLUB D’AMICS DE LES ARTS I JOVENTUTS\nMUSICALS\nCOL·LABORA: Ajuntament de Terrassa -Cultura
URL:http://amicsdelesarts-jjmm.cat/acte/20536/
CATEGORIES:Cinema
ATTACH;FMTTYPE=image/jpeg:http://amicsdelesarts-jjmm.cat/wp-content/uploads/2022/10/Le-Mepris-Godard-foto.jpg
END:VEVENT
END:VCALENDAR