BEGIN:VCALENDAR
VERSION:2.0
PRODID:-//Amics de les Arts i Joventuts Musicals - ECPv6.15.20//NONSGML v1.0//EN
CALSCALE:GREGORIAN
METHOD:PUBLISH
X-WR-CALNAME:Amics de les Arts i Joventuts Musicals
X-ORIGINAL-URL:http://amicsdelesarts-jjmm.cat
X-WR-CALDESC:Esdeveniments per Amics de les Arts i Joventuts Musicals
REFRESH-INTERVAL;VALUE=DURATION:PT1H
X-Robots-Tag:noindex
X-PUBLISHED-TTL:PT1H
BEGIN:VTIMEZONE
TZID:Europe/Paris
BEGIN:DAYLIGHT
TZOFFSETFROM:+0100
TZOFFSETTO:+0200
TZNAME:CEST
DTSTART:20210328T010000
END:DAYLIGHT
BEGIN:STANDARD
TZOFFSETFROM:+0200
TZOFFSETTO:+0100
TZNAME:CET
DTSTART:20211031T010000
END:STANDARD
BEGIN:DAYLIGHT
TZOFFSETFROM:+0100
TZOFFSETTO:+0200
TZNAME:CEST
DTSTART:20220327T010000
END:DAYLIGHT
BEGIN:STANDARD
TZOFFSETFROM:+0200
TZOFFSETTO:+0100
TZNAME:CET
DTSTART:20221030T010000
END:STANDARD
BEGIN:DAYLIGHT
TZOFFSETFROM:+0100
TZOFFSETTO:+0200
TZNAME:CEST
DTSTART:20230326T010000
END:DAYLIGHT
BEGIN:STANDARD
TZOFFSETFROM:+0200
TZOFFSETTO:+0100
TZNAME:CET
DTSTART:20231029T010000
END:STANDARD
END:VTIMEZONE
BEGIN:VEVENT
DTSTART;TZID=Europe/Paris:20221003T183000
DTEND;TZID=Europe/Paris:20221003T200000
DTSTAMP:20260423T125543
CREATED:20221018T101219Z
LAST-MODIFIED:20221018T101219Z
UID:20459-1664821800-1664827200@amicsdelesarts-jjmm.cat
SUMMARY:Curs de Reflexió i de Pràctica Poètica
DESCRIPTION:“D’això que escriuen\, perquè en diem poesia?” \nDilluns 3\, 10\, 17\, 24 d’octubre a les 18:30h\, Sala Vancells. (c/Sant Pere\, 46\, 1a planta) \nA càrrec de Jaume Aulet.
URL:http://amicsdelesarts-jjmm.cat/acte/curs-de-reflexio-i-de-practica-poetica/2022-10-03/
CATEGORIES:Escola de Literatura
ATTACH;FMTTYPE=image/jpeg:http://amicsdelesarts-jjmm.cat/wp-content/uploads/2022/10/Aulet.jpg
END:VEVENT
BEGIN:VEVENT
DTSTART;TZID=Europe/Paris:20221004T183000
DTEND;TZID=Europe/Paris:20221004T200000
DTSTAMP:20260423T125543
CREATED:20221018T101709Z
LAST-MODIFIED:20221018T101709Z
UID:20465-1664908200-1664913600@amicsdelesarts-jjmm.cat
SUMMARY:Curs de Teoria i Pràctica de la Narrativa
DESCRIPTION:Dimarts 4\, 11\, 18\, 25 d’octubre a les 18:30h\, Arxiu del Cor. (c/Teatre\, 2\, 2a planta) \nA càrrec de Toritaka Tokumei
URL:http://amicsdelesarts-jjmm.cat/acte/curs-de-teoria-i-practica-de-la-narrativa/2022-10-04/
CATEGORIES:Escola de Literatura
ATTACH;FMTTYPE=image/png:http://amicsdelesarts-jjmm.cat/wp-content/uploads/2022/08/Toritaka.png
END:VEVENT
BEGIN:VEVENT
DTSTART;TZID=Europe/Paris:20221007T170000
DTEND;TZID=Europe/Paris:20221007T190000
DTSTAMP:20260423T125543
CREATED:20221018T102330Z
LAST-MODIFIED:20221018T102330Z
UID:20472-1665162000-1665169200@amicsdelesarts-jjmm.cat
SUMMARY:Curs de Creació i Escriptura Dramàtica-1
DESCRIPTION:Divendres 7\, 14\, 21\, 28 d’octubre a les 17:00h\, Sala Morera. (c/Sant Pere\, 46\, 1a planta) \nA càrrec de Marcel Clement
URL:http://amicsdelesarts-jjmm.cat/acte/curs-de-creacio-i-escriptura-dramatica-1/2022-10-07/
CATEGORIES:Escola de Literatura
ATTACH;FMTTYPE=image/jpeg:http://amicsdelesarts-jjmm.cat/wp-content/uploads/2022/10/marcel-clement-professor-literatura-amics-de-les-arts-e1641581638193.jpg
END:VEVENT
BEGIN:VEVENT
DTSTART;TZID=Europe/Paris:20221017T183000
DTEND;TZID=Europe/Paris:20221017T200000
DTSTAMP:20260423T125543
CREATED:20221018T102717Z
LAST-MODIFIED:20221018T102717Z
UID:20478-1666031400-1666036800@amicsdelesarts-jjmm.cat
SUMMARY:Curs de Creació i Escriptura Dramàtica-2
DESCRIPTION:Dilluns 17\, 24 d’octubre a les 18:30h\, Sala Morera. (c/Sant Pere\, 46\, 1a planta) \nA càrrec de Marcel Clement
URL:http://amicsdelesarts-jjmm.cat/acte/curs-de-creacio-i-escriptura-dramatica-2/2022-10-17/
CATEGORIES:Escola de Literatura
ATTACH;FMTTYPE=image/jpeg:http://amicsdelesarts-jjmm.cat/wp-content/uploads/2022/10/marcel-clement-professor-literatura-amics-de-les-arts-e1641581638193.jpg
END:VEVENT
END:VCALENDAR