BEGIN:VCALENDAR
VERSION:2.0
PRODID:-//Amics de les Arts i Joventuts Musicals - ECPv6.15.20//NONSGML v1.0//EN
CALSCALE:GREGORIAN
METHOD:PUBLISH
X-ORIGINAL-URL:http://amicsdelesarts-jjmm.cat
X-WR-CALDESC:Esdeveniments per Amics de les Arts i Joventuts Musicals
REFRESH-INTERVAL;VALUE=DURATION:PT1H
X-Robots-Tag:noindex
X-PUBLISHED-TTL:PT1H
BEGIN:VTIMEZONE
TZID:Europe/Paris
BEGIN:DAYLIGHT
TZOFFSETFROM:+0100
TZOFFSETTO:+0200
TZNAME:CEST
DTSTART:20220327T010000
END:DAYLIGHT
BEGIN:STANDARD
TZOFFSETFROM:+0200
TZOFFSETTO:+0100
TZNAME:CET
DTSTART:20221030T010000
END:STANDARD
BEGIN:DAYLIGHT
TZOFFSETFROM:+0100
TZOFFSETTO:+0200
TZNAME:CEST
DTSTART:20230326T010000
END:DAYLIGHT
BEGIN:STANDARD
TZOFFSETFROM:+0200
TZOFFSETTO:+0100
TZNAME:CET
DTSTART:20231029T010000
END:STANDARD
BEGIN:DAYLIGHT
TZOFFSETFROM:+0100
TZOFFSETTO:+0200
TZNAME:CEST
DTSTART:20240331T010000
END:DAYLIGHT
BEGIN:STANDARD
TZOFFSETFROM:+0200
TZOFFSETTO:+0100
TZNAME:CET
DTSTART:20241027T010000
END:STANDARD
END:VTIMEZONE
BEGIN:VEVENT
DTSTART;TZID=Europe/Paris:20230303T183000
DTEND;TZID=Europe/Paris:20230303T200000
DTSTAMP:20260419T233604
CREATED:20221227T185513Z
LAST-MODIFIED:20221227T185513Z
UID:21086-1677868200-1677873600@amicsdelesarts-jjmm.cat
SUMMARY:TALLER DE FABULACIONES. SEMINARIO DE ESCRITURA Y LECTURA CREATIVA DE NARRATIVA BREVE 
DESCRIPTION:Instructor: Carlos Robles Lucena\nTipus de curs: presencial\nDates: 3 febrer\, 2023 – 31 març\, 2023 (3 i 17 de febrer i 3\, 17 i 31 de març)\nHorari: Divendres\, de 18:30 a 20:00h (7h 30m en 5 sessions).\nLloc: Amics de les Arts i Joventuts Musicals (Sant Pere\, 46\, 1a planta – Terrassa)\nPreu: 110€ (20% descompte persones associades a Amics de les Arts i Joventuts Musicals)\n\nClica aquí per obtenir més informació
URL:http://amicsdelesarts-jjmm.cat/acte/taller-de-fabulaciones-seminario-de-escritura-y-lectura-creativa-de-narrativa-breve-3/
CATEGORIES:Escola de Literatura
END:VEVENT
END:VCALENDAR