BEGIN:VCALENDAR
VERSION:2.0
PRODID:-//Amics de les Arts i Joventuts Musicals - ECPv6.15.20//NONSGML v1.0//EN
CALSCALE:GREGORIAN
METHOD:PUBLISH
X-WR-CALNAME:Amics de les Arts i Joventuts Musicals
X-ORIGINAL-URL:http://amicsdelesarts-jjmm.cat
X-WR-CALDESC:Esdeveniments per Amics de les Arts i Joventuts Musicals
REFRESH-INTERVAL;VALUE=DURATION:PT1H
X-Robots-Tag:noindex
X-PUBLISHED-TTL:PT1H
BEGIN:VTIMEZONE
TZID:Europe/Paris
BEGIN:DAYLIGHT
TZOFFSETFROM:+0100
TZOFFSETTO:+0200
TZNAME:CEST
DTSTART:20230326T010000
END:DAYLIGHT
BEGIN:STANDARD
TZOFFSETFROM:+0200
TZOFFSETTO:+0100
TZNAME:CET
DTSTART:20231029T010000
END:STANDARD
BEGIN:DAYLIGHT
TZOFFSETFROM:+0100
TZOFFSETTO:+0200
TZNAME:CEST
DTSTART:20240331T010000
END:DAYLIGHT
BEGIN:STANDARD
TZOFFSETFROM:+0200
TZOFFSETTO:+0100
TZNAME:CET
DTSTART:20241027T010000
END:STANDARD
BEGIN:DAYLIGHT
TZOFFSETFROM:+0100
TZOFFSETTO:+0200
TZNAME:CEST
DTSTART:20250330T010000
END:DAYLIGHT
BEGIN:STANDARD
TZOFFSETFROM:+0200
TZOFFSETTO:+0100
TZNAME:CET
DTSTART:20251026T010000
END:STANDARD
END:VTIMEZONE
BEGIN:VEVENT
DTSTART;TZID=Europe/Paris:20240126T183000
DTEND;TZID=Europe/Paris:20240126T193000
DTSTAMP:20260424T101825
CREATED:20240112T195721Z
LAST-MODIFIED:20240112T195721Z
UID:23628-1706293800-1706297400@amicsdelesarts-jjmm.cat
SUMMARY:Reinauguració del laboratori fotogràfic
DESCRIPTION:Divendres 26 de gener de 2024\, a les 18:30h.\nLaboratori Fotogràfic (c/Teatre\, 2\, 2n planta – Terrassa)
URL:http://amicsdelesarts-jjmm.cat/acte/reinauguracio-del-laboratori-fotografic/
CATEGORIES:Fotografia
ATTACH;FMTTYPE=image/jpeg:http://amicsdelesarts-jjmm.cat/wp-content/uploads/2024/01/Screenshot_20240104_091054_PDF-Reader.jpg
END:VEVENT
END:VCALENDAR