BEGIN:VCALENDAR
VERSION:2.0
PRODID:-//Amics de les Arts i Joventuts Musicals - ECPv6.15.20//NONSGML v1.0//EN
CALSCALE:GREGORIAN
METHOD:PUBLISH
X-WR-CALNAME:Amics de les Arts i Joventuts Musicals
X-ORIGINAL-URL:http://amicsdelesarts-jjmm.cat
X-WR-CALDESC:Esdeveniments per Amics de les Arts i Joventuts Musicals
REFRESH-INTERVAL;VALUE=DURATION:PT1H
X-Robots-Tag:noindex
X-PUBLISHED-TTL:PT1H
BEGIN:VTIMEZONE
TZID:Europe/Paris
BEGIN:DAYLIGHT
TZOFFSETFROM:+0100
TZOFFSETTO:+0200
TZNAME:CEST
DTSTART:20230326T010000
END:DAYLIGHT
BEGIN:STANDARD
TZOFFSETFROM:+0200
TZOFFSETTO:+0100
TZNAME:CET
DTSTART:20231029T010000
END:STANDARD
BEGIN:DAYLIGHT
TZOFFSETFROM:+0100
TZOFFSETTO:+0200
TZNAME:CEST
DTSTART:20240331T010000
END:DAYLIGHT
BEGIN:STANDARD
TZOFFSETFROM:+0200
TZOFFSETTO:+0100
TZNAME:CET
DTSTART:20241027T010000
END:STANDARD
BEGIN:DAYLIGHT
TZOFFSETFROM:+0100
TZOFFSETTO:+0200
TZNAME:CEST
DTSTART:20250330T010000
END:DAYLIGHT
BEGIN:STANDARD
TZOFFSETFROM:+0200
TZOFFSETTO:+0100
TZNAME:CET
DTSTART:20251026T010000
END:STANDARD
END:VTIMEZONE
BEGIN:VEVENT
DTSTART;TZID=Europe/Paris:20241001T190000
DTEND;TZID=Europe/Paris:20241001T203000
DTSTAMP:20260421T060357
CREATED:20240927T173902Z
LAST-MODIFIED:20240927T173902Z
UID:25141-1727809200-1727814600@amicsdelesarts-jjmm.cat
SUMMARY:«Presentació del llibre de poesia Escriptures sagrades d'Alvar Masllorens»\, a càrrec de Josefina Caminal
DESCRIPTION:Grup de Literatura\, Debat i Pensament d’Amics de les Arts \nDimarts 1 d’octubre\, a les 19:00h. \nSala Joaquim Vancells\, Sant Pere\, 46\, 1a planta – Terrassa
URL:http://amicsdelesarts-jjmm.cat/acte/presentacio-del-llibre-de-poesia-escriptures-sagrades-dalvar-masllorens-a-carrec-de-josefina-caminal/
CATEGORIES:Literatura/debat
ATTACH;FMTTYPE=image/png:http://amicsdelesarts-jjmm.cat/wp-content/uploads/2024/09/Alvar-1.png
END:VEVENT
BEGIN:VEVENT
DTSTART;TZID=Europe/Paris:20241003T190000
DTEND;TZID=Europe/Paris:20241003T203000
DTSTAMP:20260421T060357
CREATED:20240927T175414Z
LAST-MODIFIED:20240927T175414Z
UID:25144-1727982000-1727987400@amicsdelesarts-jjmm.cat
SUMMARY:«Presentació de l'edició revisada de la novel·la El cosidor d'errades de Tessa Julià\, a càrrec de Jaume Closa\, Josep Giralt i Mercè Company. 
DESCRIPTION:Grup de Literatura\, Debat i Pensament d’Amics de les Arts \nDijous 3 d’octubre\, a les 19:00h. \nSala Joaquim Vancells\, Sant Pere\, 46\, 1a planta – Terrassa
URL:http://amicsdelesarts-jjmm.cat/acte/presentacio-de-ledicio-revisada-de-la-novella-el-cosidor-derrades-de-tessa-julia-a-carrec-de-jaume-closa-josep-giralt-i-merce-company/
CATEGORIES:Literatura/debat
ATTACH;FMTTYPE=image/png:http://amicsdelesarts-jjmm.cat/wp-content/uploads/2024/09/Tessa-3-oct.png
END:VEVENT
BEGIN:VEVENT
DTSTART;TZID=Europe/Paris:20241005T100000
DTEND;TZID=Europe/Paris:20241005T200000
DTSTAMP:20260421T060357
CREATED:20241001T110514Z
LAST-MODIFIED:20241001T110514Z
UID:25157-1728122400-1728158400@amicsdelesarts-jjmm.cat
SUMMARY:«Participació presentant llibres dels nostres consocis Josep Anglada\, Pep Cortès\, Ferran d'Armengol\, Jordi Ibáñez\, Tessa Julià\, David Millán\, Antoni Perarnau\, Empar Sàez i Joan Tamayo.
DESCRIPTION:Grup de Literatura\, Debat i Pensament d’Amics de les Arts \nDissabte 5 d’octubre\, de les 10:00 a les 20:00h. \nRaval de Montserrat – Terrassa
URL:http://amicsdelesarts-jjmm.cat/acte/participacio-presentant-llibres-dels-nostres-consocis-josep-anglada-pep-cortes-ferran-darmengol-jordi-ibanez-tessa-julia-david-millan-antoni-perarnau-empar-saez-i-joan-tamayo/
CATEGORIES:Literatura/debat
ATTACH;FMTTYPE=image/jpeg:http://amicsdelesarts-jjmm.cat/wp-content/uploads/2024/10/WhatsApp-Image-2024-03-26-at-18.53.27.jpeg
END:VEVENT
BEGIN:VEVENT
DTSTART;TZID=Europe/Paris:20241005T130000
DTEND;TZID=Europe/Paris:20241005T143000
DTSTAMP:20260421T060357
CREATED:20241001T110104Z
LAST-MODIFIED:20241001T110104Z
UID:25154-1728133200-1728138600@amicsdelesarts-jjmm.cat
SUMMARY:«Parmicel - Concert musical i poètic / «Algunes veus: d'Agustí Bartra a Antònia Vicens»\, a càrrec de Noemí Martínez Agell (tiorba)\, Mercè López Gausa (flautes de bec) i Empar Sáez (rapsoda)
DESCRIPTION:Grup de Literatura\, Debat i Pensament d’Amics de les Arts \nDissabte 5 d’octubre\, a les 13:00h.\nAtri de l’Ajuntament de Terrassa\, Raval de Montserrat\, 14 – Terrassa
URL:http://amicsdelesarts-jjmm.cat/acte/parmicel-concert-musical-i-poetic-algunes-veus-dagusti-bartra-a-antonia-vicens-a-carrec-de-noemi-martinez-agell-tiorba-merce-lopez-gausa-flautes-de-bec-i-empar-saez-rap/
CATEGORIES:Literatura/debat
ATTACH;FMTTYPE=image/png:http://amicsdelesarts-jjmm.cat/wp-content/uploads/2024/10/Empar.png
END:VEVENT
BEGIN:VEVENT
DTSTART;TZID=Europe/Paris:20241010T190000
DTEND;TZID=Europe/Paris:20241010T203000
DTSTAMP:20260421T060357
CREATED:20241001T152231Z
LAST-MODIFIED:20241001T152231Z
UID:25169-1728586800-1728592200@amicsdelesarts-jjmm.cat
SUMMARY:Presentació del llibre La cuestión meridional d'Antonio Gramsci\, a càrrec dels historiadors Joan Tafalla i Manel Márquez. Moderada l'acte el sociòleg i periodista Pep Valenzuela  
DESCRIPTION:Grup de Literatura\, Debat i Pensament d’Amics de les Arts \nDijous 10 d’octubre\, a les 19:00h. \nSala Joaquim Vancells\, Sant Pere\, 46\, 1a planta – Terrassa
URL:http://amicsdelesarts-jjmm.cat/acte/presentacio-del-llibre-la-cuestion-meridional-dantonio-gramsci-a-carrec-dels-historiadors-joan-tafalla-i-manel-marquez-moderada-lacte-el-socioleg-i-periodista-pep-valenzuela/
CATEGORIES:Literatura/debat
ATTACH;FMTTYPE=image/jpeg:http://amicsdelesarts-jjmm.cat/wp-content/uploads/2024/10/77a7c532-4d90-4103-87f7-cc0da62be606.jpeg
END:VEVENT
BEGIN:VEVENT
DTSTART;TZID=Europe/Paris:20241011T190000
DTEND;TZID=Europe/Paris:20241011T203000
DTSTAMP:20260421T060357
CREATED:20241001T151955Z
LAST-MODIFIED:20241001T151955Z
UID:25166-1728673200-1728678600@amicsdelesarts-jjmm.cat
SUMMARY:Debat literari: La fruta del borrachero\, d'Ingrid Rojas Contreras
DESCRIPTION:Divendres 11 d’octubre\, a les 19:00h. \nSala Joaquim Vancells\, Sant Pere\, 46\, 1a planta – Terrassa
URL:http://amicsdelesarts-jjmm.cat/acte/debat-literari-la-fruta-del-borrachero-dingrid-rojas-contreras/
CATEGORIES:Literatura/debat
ATTACH;FMTTYPE=image/jpeg:http://amicsdelesarts-jjmm.cat/wp-content/uploads/2024/10/9788417553012_La-fruta-del-borrachero_RGB_900.jpg
END:VEVENT
BEGIN:VEVENT
DTSTART;TZID=Europe/Paris:20241022T190000
DTEND;TZID=Europe/Paris:20241022T203000
DTSTAMP:20260421T060357
CREATED:20240930T180622Z
LAST-MODIFIED:20240930T180622Z
UID:25151-1729623600-1729629000@amicsdelesarts-jjmm.cat
SUMMARY:«LA DESTRUCCIÓ DEL PARADÍS? Eivissa\, Walter Benjamin i el primer desenvolupament turístic» a càrrec de l'advocat i activista Joan Tamayo i dels autors Lluís Costa i Bruno Ferrer.
DESCRIPTION:Grup de Literatura\, Debat i Pensament d’Amics de les Arts \nDimarts 22 d’octubre\, a les 19:00h. \nSala Joaquim Vancells\, Sant Pere\, 46\, 1a planta – Terrassa
URL:http://amicsdelesarts-jjmm.cat/acte/la-destruccio-del-paradis-eivissa-walter-benjamin-i-el-primer-desenvolupament-turistic-a-carrec-de-ladvocat-i-activista-joan-tamayo-i-dels-autors-lluis-costa-i-bruno-ferrer/
CATEGORIES:Literatura/debat
ATTACH;FMTTYPE=image/jpeg:http://amicsdelesarts-jjmm.cat/wp-content/uploads/2024/09/Paradis.jpg
END:VEVENT
BEGIN:VEVENT
DTSTART;TZID=Europe/Paris:20241023T190000
DTEND;TZID=Europe/Paris:20241023T203000
DTSTAMP:20260421T060357
CREATED:20240930T174544Z
LAST-MODIFIED:20240930T174544Z
UID:25148-1729710000-1729715400@amicsdelesarts-jjmm.cat
SUMMARY:Club de Lectura: Quadern gris\, de Josep Pla
DESCRIPTION:Grup de Literatura\, Debat i Pensament d’Amics de les Arts \nDimecres 23 d’octubre\, a les 19:00h. \nSala Joaquim Vancells\, Sant Pere\, 46\, 1a planta – Terrassa
URL:http://amicsdelesarts-jjmm.cat/acte/club-de-lectura-quadern-gris-de-josep-pla/
CATEGORIES:Literatura/debat
ATTACH;FMTTYPE=image/jpeg:http://amicsdelesarts-jjmm.cat/wp-content/uploads/2024/09/Elquaderngris2016.jpg
END:VEVENT
BEGIN:VEVENT
DTSTART;TZID=Europe/Paris:20241026T120000
DTEND;TZID=Europe/Paris:20241026T133000
DTSTAMP:20260421T060357
CREATED:20241001T151728Z
LAST-MODIFIED:20241015T173735Z
UID:25163-1729944000-1729949400@amicsdelesarts-jjmm.cat
SUMMARY:«Al palmell del cor» Recital de poemes\, microrelats\, cançons... Josepa Ribera + Músics amics + micro obert
DESCRIPTION:Grup de Literatura\, Debat i Pensament d’Amics de les Arts \nRecital de poemes\, microrelats\, cançons…\nJosepa Ribera + Músics amics + micro obert\nDissabte 26 d’octubre\, a les 12:00h\nCafè-bar de l’entitat\, Teatre\, 2 – Terrassa
URL:http://amicsdelesarts-jjmm.cat/acte/al-palmell-del-cor-recital-de-poemes-microrelats-cancons-josepa-ribera-musics-amics-micro-obert/
CATEGORIES:Literatura/debat
ATTACH;FMTTYPE=image/png:http://amicsdelesarts-jjmm.cat/wp-content/uploads/2024/10/TRS-26-10-24.png
END:VEVENT
END:VCALENDAR