BEGIN:VCALENDAR
VERSION:2.0
PRODID:-//Amics de les Arts i Joventuts Musicals - ECPv6.15.20//NONSGML v1.0//EN
CALSCALE:GREGORIAN
METHOD:PUBLISH
X-WR-CALNAME:Amics de les Arts i Joventuts Musicals
X-ORIGINAL-URL:http://amicsdelesarts-jjmm.cat
X-WR-CALDESC:Esdeveniments per Amics de les Arts i Joventuts Musicals
REFRESH-INTERVAL;VALUE=DURATION:PT1H
X-Robots-Tag:noindex
X-PUBLISHED-TTL:PT1H
BEGIN:VTIMEZONE
TZID:Europe/Paris
BEGIN:DAYLIGHT
TZOFFSETFROM:+0100
TZOFFSETTO:+0200
TZNAME:CEST
DTSTART:20240331T010000
END:DAYLIGHT
BEGIN:STANDARD
TZOFFSETFROM:+0200
TZOFFSETTO:+0100
TZNAME:CET
DTSTART:20241027T010000
END:STANDARD
BEGIN:DAYLIGHT
TZOFFSETFROM:+0100
TZOFFSETTO:+0200
TZNAME:CEST
DTSTART:20250330T010000
END:DAYLIGHT
BEGIN:STANDARD
TZOFFSETFROM:+0200
TZOFFSETTO:+0100
TZNAME:CET
DTSTART:20251026T010000
END:STANDARD
BEGIN:DAYLIGHT
TZOFFSETFROM:+0100
TZOFFSETTO:+0200
TZNAME:CEST
DTSTART:20260329T010000
END:DAYLIGHT
BEGIN:STANDARD
TZOFFSETFROM:+0200
TZOFFSETTO:+0100
TZNAME:CET
DTSTART:20261025T010000
END:STANDARD
END:VTIMEZONE
BEGIN:VEVENT
DTSTART;TZID=Europe/Paris:20250402T190000
DTEND;TZID=Europe/Paris:20250402T203000
DTSTAMP:20260419T182013
CREATED:20250317T194449Z
LAST-MODIFIED:20250328T191238Z
UID:26464-1743620400-1743625800@amicsdelesarts-jjmm.cat
SUMMARY:Club de Lectura: «Carta al pare»\, de Franz Kafka
DESCRIPTION:Grup de Literatura\, Debat i Pensament d’Amics de les Arts \nDimecres 2 d’abril a les 19h.\nSala Joaquim Vancells\, Sant Pere\, 46\, 1a planta – Terrassa
URL:http://amicsdelesarts-jjmm.cat/acte/club-de-lectura-franz-kafka-carta-al-pare-angle-editorial-2020-conductora-de-la-sessio-maria-verdaguer/
CATEGORIES:Literatura/debat
ATTACH;FMTTYPE=image/jpeg:http://amicsdelesarts-jjmm.cat/wp-content/uploads/2025/03/Kafka.jpg
END:VEVENT
BEGIN:VEVENT
DTSTART;TZID=Europe/Paris:20250403T190000
DTEND;TZID=Europe/Paris:20250403T203000
DTSTAMP:20260419T182013
CREATED:20250317T195112Z
LAST-MODIFIED:20250317T195157Z
UID:26469-1743706800-1743712200@amicsdelesarts-jjmm.cat
SUMMARY:«Joan Capri\, el rei del monòleg i un dels mites de la cultura popular» Xerrada a càrrec de Jaume Aulet\, professor de literatura catalana. Amb un toc dramatúrgic de Pepi Sabrià\, del grup de teatre d'Amics de les Arts
DESCRIPTION:Grup de Literatura\, Debat i Pensament d’Amics de les Arts \nDijous 3 d’abril a les 19h.\nSala Joaquim Vancells\, Sant Pere\, 46\, 1a planta – Terrassa
URL:http://amicsdelesarts-jjmm.cat/acte/joan-capri-el-rei-del-monoleg-i-un-dels-mites-de-la-cultura-popular-xerrada-a-carrec-de-jaume-aulet-professor-de-literatura-catalana-amb-un-toc-dramaturgic-de-pepi-sabria-del-grup-de-t/
CATEGORIES:Literatura/debat
ATTACH;FMTTYPE=image/png:http://amicsdelesarts-jjmm.cat/wp-content/uploads/2025/03/Capri-1.png
END:VEVENT
BEGIN:VEVENT
DTSTART;TZID=Europe/Paris:20250411T190000
DTEND;TZID=Europe/Paris:20250411T203000
DTSTAMP:20260419T182013
CREATED:20250328T193739Z
LAST-MODIFIED:20250328T194034Z
UID:26532-1744398000-1744403400@amicsdelesarts-jjmm.cat
SUMMARY:Presentació de la novel·la «La Lente Esmeralda» d'Alfred Comerma\, a càrrec de David Millán i del mateix autor.
DESCRIPTION:Divendres 11 d’abril a les 19h.\nSala Joaquim Vancells\, Sant Pere\, 46\, 1a planta – Terrassa
URL:http://amicsdelesarts-jjmm.cat/acte/presentacio-de-la-novella-la-lente-esmeralda-dalfred-comerma-a-carrec-de-david-millan-i-del-mateix-autor/
CATEGORIES:Literatura/debat
ATTACH;FMTTYPE=image/png:http://amicsdelesarts-jjmm.cat/wp-content/uploads/2025/03/Comerma-1.png
END:VEVENT
BEGIN:VEVENT
DTSTART;TZID=Europe/Paris:20250423T090000
DTEND;TZID=Europe/Paris:20250423T200000
DTSTAMP:20260419T182013
CREATED:20250328T194431Z
LAST-MODIFIED:20250415T180039Z
UID:26538-1745398800-1745438400@amicsdelesarts-jjmm.cat
SUMMARY:Paradeta del Dia del Llibre. Venda de llibres de socis i sòcies de l'entitat. 
DESCRIPTION:Dimecres 23 d’abril de les 9:00 a les 20h.\nRaval de Montserrat
URL:http://amicsdelesarts-jjmm.cat/acte/paradeta-del-dia-del-llibre-venda-de-llibres-de-socis-i-socies-de-lentitat-2/
CATEGORIES:Literatura/debat
ATTACH;FMTTYPE=image/png:http://amicsdelesarts-jjmm.cat/wp-content/uploads/2025/03/Sant-Jordi-2025.png
END:VEVENT
BEGIN:VEVENT
DTSTART;TZID=Europe/Paris:20250430T190000
DTEND;TZID=Europe/Paris:20250430T203000
DTSTAMP:20260419T182013
CREATED:20250328T194755Z
LAST-MODIFIED:20250415T154537Z
UID:26541-1746039600-1746045000@amicsdelesarts-jjmm.cat
SUMMARY:Taller de Pensament: Parlem de la guerra amb...Simone Weil. «La Ilíada o el poema de la fuerza\, de Simone Weil». Sessió presentada per Felicitat Llop
DESCRIPTION:Dimecres 30 d’abril a les 19h.\nSala Joaquim Vancells\, Sant Pere\, 46\, 1a planta – Terrassa
URL:http://amicsdelesarts-jjmm.cat/acte/taller-de-pensament-parlem-de-la-guerra-amb-simone-weil-la-iliada-o-el-poema-de-la-fuerza-de-simone-weil-sessio-presentada-per-felicitat-llop/
CATEGORIES:Literatura/debat
ATTACH;FMTTYPE=image/png:http://amicsdelesarts-jjmm.cat/wp-content/uploads/2025/03/Weil.png
END:VEVENT
END:VCALENDAR