BEGIN:VCALENDAR
VERSION:2.0
PRODID:-//Amics de les Arts i Joventuts Musicals - ECPv6.15.20//NONSGML v1.0//EN
CALSCALE:GREGORIAN
METHOD:PUBLISH
X-ORIGINAL-URL:http://amicsdelesarts-jjmm.cat
X-WR-CALDESC:Esdeveniments per Amics de les Arts i Joventuts Musicals
REFRESH-INTERVAL;VALUE=DURATION:PT1H
X-Robots-Tag:noindex
X-PUBLISHED-TTL:PT1H
BEGIN:VTIMEZONE
TZID:Europe/Paris
BEGIN:DAYLIGHT
TZOFFSETFROM:+0100
TZOFFSETTO:+0200
TZNAME:CEST
DTSTART:20230326T010000
END:DAYLIGHT
BEGIN:STANDARD
TZOFFSETFROM:+0200
TZOFFSETTO:+0100
TZNAME:CET
DTSTART:20231029T010000
END:STANDARD
BEGIN:DAYLIGHT
TZOFFSETFROM:+0100
TZOFFSETTO:+0200
TZNAME:CEST
DTSTART:20240331T010000
END:DAYLIGHT
BEGIN:STANDARD
TZOFFSETFROM:+0200
TZOFFSETTO:+0100
TZNAME:CET
DTSTART:20241027T010000
END:STANDARD
BEGIN:DAYLIGHT
TZOFFSETFROM:+0100
TZOFFSETTO:+0200
TZNAME:CEST
DTSTART:20250330T010000
END:DAYLIGHT
BEGIN:STANDARD
TZOFFSETFROM:+0200
TZOFFSETTO:+0100
TZNAME:CET
DTSTART:20251026T010000
END:STANDARD
END:VTIMEZONE
BEGIN:VEVENT
DTSTART;TZID=Europe/Paris:20241026T120000
DTEND;TZID=Europe/Paris:20241026T133000
DTSTAMP:20260421T111044
CREATED:20241001T151728Z
LAST-MODIFIED:20241015T173735Z
UID:25163-1729944000-1729949400@amicsdelesarts-jjmm.cat
SUMMARY:«Al palmell del cor» Recital de poemes\, microrelats\, cançons... Josepa Ribera + Músics amics + micro obert
DESCRIPTION:Grup de Literatura\, Debat i Pensament d’Amics de les Arts \nRecital de poemes\, microrelats\, cançons…\nJosepa Ribera + Músics amics + micro obert\nDissabte 26 d’octubre\, a les 12:00h\nCafè-bar de l’entitat\, Teatre\, 2 – Terrassa
URL:http://amicsdelesarts-jjmm.cat/acte/al-palmell-del-cor-recital-de-poemes-microrelats-cancons-josepa-ribera-musics-amics-micro-obert/
CATEGORIES:Literatura/debat
ATTACH;FMTTYPE=image/png:http://amicsdelesarts-jjmm.cat/wp-content/uploads/2024/10/TRS-26-10-24.png
END:VEVENT
END:VCALENDAR