BEGIN:VCALENDAR
VERSION:2.0
PRODID:-//Amics de les Arts i Joventuts Musicals - ECPv6.15.20//NONSGML v1.0//EN
CALSCALE:GREGORIAN
METHOD:PUBLISH
X-ORIGINAL-URL:http://amicsdelesarts-jjmm.cat
X-WR-CALDESC:Esdeveniments per Amics de les Arts i Joventuts Musicals
REFRESH-INTERVAL;VALUE=DURATION:PT1H
X-Robots-Tag:noindex
X-PUBLISHED-TTL:PT1H
BEGIN:VTIMEZONE
TZID:Europe/Paris
BEGIN:DAYLIGHT
TZOFFSETFROM:+0100
TZOFFSETTO:+0200
TZNAME:CEST
DTSTART:20250330T010000
END:DAYLIGHT
BEGIN:STANDARD
TZOFFSETFROM:+0200
TZOFFSETTO:+0100
TZNAME:CET
DTSTART:20251026T010000
END:STANDARD
BEGIN:DAYLIGHT
TZOFFSETFROM:+0100
TZOFFSETTO:+0200
TZNAME:CEST
DTSTART:20260329T010000
END:DAYLIGHT
BEGIN:STANDARD
TZOFFSETFROM:+0200
TZOFFSETTO:+0100
TZNAME:CET
DTSTART:20261025T010000
END:STANDARD
BEGIN:DAYLIGHT
TZOFFSETFROM:+0100
TZOFFSETTO:+0200
TZNAME:CEST
DTSTART:20270328T010000
END:DAYLIGHT
BEGIN:STANDARD
TZOFFSETFROM:+0200
TZOFFSETTO:+0100
TZNAME:CET
DTSTART:20271031T010000
END:STANDARD
END:VTIMEZONE
BEGIN:VEVENT
DTSTART;TZID=Europe/Paris:20260312T190000
DTEND;TZID=Europe/Paris:20260312T203000
DTSTAMP:20260420T144944
CREATED:20260220T173542Z
LAST-MODIFIED:20260225T091503Z
UID:30422-1773342000-1773347400@amicsdelesarts-jjmm.cat
SUMMARY:Presentació del llibre «Galetes de la sort»\, de Jordi Ibáñez Torruella · dj. 12 de març
DESCRIPTION:  \nEl proper dijous 12 de març a les 19.00 h\, la Sala Vancells acollirà la presentació del llibre Galetes de la sort\, de Jordi Ibáñez Torruella. \nPer a més informació\, podeu llegir l’entrevista que vam fer a Jordi Ibáñez a propòsit de la presentació del llibre\, on reflexiona sobre la seva manera d’entendre la poesia i comparteix algunes claus del seu univers literari. \n \n📍 Sala Vancells\nAmics de les Arts i Joventuts Musicals\nSant Pere\, 46\, 1a planta – Terrassa \n_____ \nT’ha interessat aquest contingut? \n📧 Subscriu-te al nostre butlletí i rebràs\, cada quinze dies\, les principals novetats culturals directament al teu correu electrònic. \n📲 Apunta’t també al Canal de Whatsapp\, on compartim continguts d’interès cada dilluns i dijous. \n📱Segueix-nos a Instagram\, Facebook i X (Twitter) per estar al dia de totes les activitats d’Amics de les Arts i Joventuts Musicals.
URL:http://amicsdelesarts-jjmm.cat/acte/presentacio-del-llibre-galetes-de-la-sort-de-jordi-ibanez-torruella-%c2%b7-dj-12-de-marc/
CATEGORIES:Literatura/debat
END:VEVENT
END:VCALENDAR