BEGIN:VCALENDAR
VERSION:2.0
PRODID:-//Amics de les Arts i Joventuts Musicals - ECPv6.15.20//NONSGML v1.0//EN
CALSCALE:GREGORIAN
METHOD:PUBLISH
X-ORIGINAL-URL:http://amicsdelesarts-jjmm.cat
X-WR-CALDESC:Esdeveniments per Amics de les Arts i Joventuts Musicals
REFRESH-INTERVAL;VALUE=DURATION:PT1H
X-Robots-Tag:noindex
X-PUBLISHED-TTL:PT1H
BEGIN:VTIMEZONE
TZID:Europe/Paris
BEGIN:DAYLIGHT
TZOFFSETFROM:+0100
TZOFFSETTO:+0200
TZNAME:CEST
DTSTART:20180325T010000
END:DAYLIGHT
BEGIN:STANDARD
TZOFFSETFROM:+0200
TZOFFSETTO:+0100
TZNAME:CET
DTSTART:20181028T010000
END:STANDARD
BEGIN:DAYLIGHT
TZOFFSETFROM:+0100
TZOFFSETTO:+0200
TZNAME:CEST
DTSTART:20190331T010000
END:DAYLIGHT
BEGIN:STANDARD
TZOFFSETFROM:+0200
TZOFFSETTO:+0100
TZNAME:CET
DTSTART:20191027T010000
END:STANDARD
BEGIN:DAYLIGHT
TZOFFSETFROM:+0100
TZOFFSETTO:+0200
TZNAME:CEST
DTSTART:20200329T010000
END:DAYLIGHT
BEGIN:STANDARD
TZOFFSETFROM:+0200
TZOFFSETTO:+0100
TZNAME:CET
DTSTART:20201025T010000
END:STANDARD
END:VTIMEZONE
BEGIN:VEVENT
DTSTART;TZID=Europe/Paris:20191105T180000
DTEND;TZID=Europe/Paris:20191105T200000
DTSTAMP:20260420T042647
CREATED:20170904T162057Z
LAST-MODIFIED:20191001T191159Z
UID:10571-1572976800-1572984000@amicsdelesarts-jjmm.cat
SUMMARY:Xerrada i debat: «Canvi climàtic... i tu\, com te'l mires?»
DESCRIPTION:A càrrec de Laura Barba\, de Mel – Educació Ambiental \n  \n  \n 
URL:http://amicsdelesarts-jjmm.cat/acte/xerrada-canvi-climatic-i-tu-com-te-l-mires/
LOCATION:Sala Joaquim Vancells – Amics de les Arts i Joventuts Musicals\, C/ Sant Pere\, 46\, primera planta\, Terrassa\, 08221
CATEGORIES:Literatura/debat
ATTACH;FMTTYPE=image/jpeg:http://amicsdelesarts-jjmm.cat/wp-content/uploads/2017/09/191105-Educació-ambiental-e1569957100927.jpg
GEO:41.5646088;2.0123963
X-APPLE-STRUCTURED-LOCATION;VALUE=URI;X-ADDRESS=Sala Joaquim Vancells – Amics de les Arts i Joventuts Musicals C/ Sant Pere 46 primera planta Terrassa 08221;X-APPLE-RADIUS=500;X-TITLE=C/ Sant Pere\, 46\, primera planta:geo:2.0123963,41.5646088
END:VEVENT
END:VCALENDAR