BEGIN:VCALENDAR
VERSION:2.0
PRODID:-//Amics de les Arts i Joventuts Musicals - ECPv6.15.20//NONSGML v1.0//EN
CALSCALE:GREGORIAN
METHOD:PUBLISH
X-ORIGINAL-URL:http://amicsdelesarts-jjmm.cat
X-WR-CALDESC:Esdeveniments per Amics de les Arts i Joventuts Musicals
REFRESH-INTERVAL;VALUE=DURATION:PT1H
X-Robots-Tag:noindex
X-PUBLISHED-TTL:PT1H
BEGIN:VTIMEZONE
TZID:Europe/Paris
BEGIN:DAYLIGHT
TZOFFSETFROM:+0100
TZOFFSETTO:+0200
TZNAME:CEST
DTSTART:20160327T010000
END:DAYLIGHT
BEGIN:STANDARD
TZOFFSETFROM:+0200
TZOFFSETTO:+0100
TZNAME:CET
DTSTART:20161030T010000
END:STANDARD
BEGIN:DAYLIGHT
TZOFFSETFROM:+0100
TZOFFSETTO:+0200
TZNAME:CEST
DTSTART:20170326T010000
END:DAYLIGHT
BEGIN:STANDARD
TZOFFSETFROM:+0200
TZOFFSETTO:+0100
TZNAME:CET
DTSTART:20171029T010000
END:STANDARD
BEGIN:DAYLIGHT
TZOFFSETFROM:+0100
TZOFFSETTO:+0200
TZNAME:CEST
DTSTART:20180325T010000
END:DAYLIGHT
BEGIN:STANDARD
TZOFFSETFROM:+0200
TZOFFSETTO:+0100
TZNAME:CET
DTSTART:20181028T010000
END:STANDARD
END:VTIMEZONE
BEGIN:VEVENT
DTSTART;TZID=Europe/Paris:20170630T223000
DTEND;TZID=Europe/Paris:20170630T223000
DTSTAMP:20260420T234558
CREATED:20170627T124028Z
LAST-MODIFIED:20170718T170252Z
UID:1758-1498861800-1498861800@amicsdelesarts-jjmm.cat
SUMMARY:Nit de poesia. Sonets de William Shakespeare
DESCRIPTION:En el 400 aniversari de la seva mort. \nInterpretats per Marissa Josa i Albert Novellon; amb l’acompanyament de Carme Cusidó\, cant i Noemí Martínez\, tiorba. \nPresentació i comentaris: Jaume Aulet\, del Grup Literari d’Amics de les Arts.
URL:http://amicsdelesarts-jjmm.cat/acte/nit-de-poesia-sonets-de-william-shakespeare/
LOCATION:Jardins Casa-Museu Alegre de Sagrera\, C/ Cardaire\, Terrassa\, 08221
CATEGORIES:Literatura/debat
ATTACH;FMTTYPE=image/jpeg:http://amicsdelesarts-jjmm.cat/wp-content/uploads/2017/06/William_Shakespeare1-e1500397286205.jpg
GEO:41.5636848;2.0129148
X-APPLE-STRUCTURED-LOCATION;VALUE=URI;X-ADDRESS=Jardins Casa-Museu Alegre de Sagrera C/ Cardaire Terrassa 08221;X-APPLE-RADIUS=500;X-TITLE=C/ Cardaire:geo:2.0129148,41.5636848
END:VEVENT
END:VCALENDAR