BEGIN:VCALENDAR
VERSION:2.0
PRODID:-//Amics de les Arts i Joventuts Musicals - ECPv6.15.20//NONSGML v1.0//EN
CALSCALE:GREGORIAN
METHOD:PUBLISH
X-ORIGINAL-URL:http://amicsdelesarts-jjmm.cat
X-WR-CALDESC:Esdeveniments per Amics de les Arts i Joventuts Musicals
REFRESH-INTERVAL;VALUE=DURATION:PT1H
X-Robots-Tag:noindex
X-PUBLISHED-TTL:PT1H
BEGIN:VTIMEZONE
TZID:Europe/Paris
BEGIN:DAYLIGHT
TZOFFSETFROM:+0100
TZOFFSETTO:+0200
TZNAME:CEST
DTSTART:20160327T010000
END:DAYLIGHT
BEGIN:STANDARD
TZOFFSETFROM:+0200
TZOFFSETTO:+0100
TZNAME:CET
DTSTART:20161030T010000
END:STANDARD
BEGIN:DAYLIGHT
TZOFFSETFROM:+0100
TZOFFSETTO:+0200
TZNAME:CEST
DTSTART:20170326T010000
END:DAYLIGHT
BEGIN:STANDARD
TZOFFSETFROM:+0200
TZOFFSETTO:+0100
TZNAME:CET
DTSTART:20171029T010000
END:STANDARD
BEGIN:DAYLIGHT
TZOFFSETFROM:+0100
TZOFFSETTO:+0200
TZNAME:CEST
DTSTART:20180325T010000
END:DAYLIGHT
BEGIN:STANDARD
TZOFFSETFROM:+0200
TZOFFSETTO:+0100
TZNAME:CET
DTSTART:20181028T010000
END:STANDARD
BEGIN:DAYLIGHT
TZOFFSETFROM:+0100
TZOFFSETTO:+0200
TZNAME:CEST
DTSTART:20190331T010000
END:DAYLIGHT
BEGIN:STANDARD
TZOFFSETFROM:+0200
TZOFFSETTO:+0100
TZNAME:CET
DTSTART:20191027T010000
END:STANDARD
BEGIN:DAYLIGHT
TZOFFSETFROM:+0100
TZOFFSETTO:+0200
TZNAME:CEST
DTSTART:20200329T010000
END:DAYLIGHT
BEGIN:STANDARD
TZOFFSETFROM:+0200
TZOFFSETTO:+0100
TZNAME:CET
DTSTART:20201025T010000
END:STANDARD
END:VTIMEZONE
BEGIN:VEVENT
DTSTART;TZID=Europe/Paris:20190902T170000
DTEND;TZID=Europe/Paris:20190906T200000
DTSTAMP:20260420T190533
CREATED:20170627T124036Z
LAST-MODIFIED:20190731T094650Z
UID:9449-1567443600-1567800000@amicsdelesarts-jjmm.cat
SUMMARY:3a Setmana de Jocs al Carrer
DESCRIPTION:La 3a Setmana de Jocs al Carrer (dies 2\, 3\, 4\, 5 i 6 de setembre de 2019) continua amb el propòsit d’oferir espais lúdics i fomentar el joc al carrer\, compartit\, familiar\, multicultural\, no sexista i popular. \nPROGRAMACIÓ:\nCada dia: Taller de construcció de joguines\, bitlles\, petanca\, cucanya\, jocs tradicionals de tauler\, llançament\, punteria i habilitat. \n  \n\ndilluns 2 de setembre: Jocs de societat i tauler\, amb la Companyia de Jocs L’Anònima.\n\nEspai de Narració oral a 3/4 de 8 de la tarda: Contes a càrrec de Vet Aquí Què. \n\ndimarts 3 de setembre: Jocs de Mankala / Aualé\, amb Lluís Pinyot.\n\nEspai de Narració oral a 3/4 de 8 de la tarda: Contes a càrrec de Jambakasala. \n\ndimecres 4 de setembre: Jocs Gegants amb Sports Funàtics.\n\nEspai de Narració oral a 3/4 de 8 de la tarda: Contes a càrrec de Vet Aquí Què. \n\ndijous 5 de setembre: Jocs de societat i tauler\, amb la Stas Tarat.\n\nEspai de Narració oral a 3/4 de 8 de la tarda: Contes a càrrec de Vet Aquí Què. \n                                            NIT DE JOCS (jocs de tauler) de 21:00 a 23:00h \n\ndivendres 6 de setembre: Jocs dansats\, musicats i de cucanya amb Susagna Aróztegui i Miqui Giménez.\n\nEspai de Narració oral a 3/4 de 8 de la tarda: Contes a càrrec de Vet Aquí Què. \n  \nTotes les activitats de joc es duran a terme a la Plaça del Vapor Ventalló i dependències del Centre Excursionista de Terrassa\, al carrer de Sant Llorenç\, 10. \nA càrrec de: Volunta­riat de diverses ent­itats terrassenques. \nOrganitza: Associació Terrassenca de Joc­s-VADEJOC\, Amics de les Arts i Joventuts Musicals\, Cen­tre Excursionista de Terrassa i Associació VET AQUÍ QUE. \nDel 31 d’agost al 15 de setembre: EXPOSICIÓ. «Objectes de joc a l’univers de Joan Amades»\, realitzada per l’Associa­ció Terrassenca de Jocs-VADEJOC i Miqui Giménez. Horari: de 2/4 de 7 a 2/4 de 9 de la tarda (dilluns tancat). Inauguració\, dissabte dia 31 d’agost\, a 2/4 de 8 de la tarda. \nL’Exposició estarà instal·lada a la Sala d’Exposicions Salvador Alavedra\, a la seu d’Amics de les Arts i Joventuts Musicals\, al carrer del Teatre\, 2. \nTotes les activitats són de participació lliure i gratuïta. \n 
URL:http://amicsdelesarts-jjmm.cat/acte/3a-setmana-de-jocs-al-carrer/
LOCATION:Plaça del Vapor Ventalló\, Terrassa\, 08221
CATEGORIES:Entitat
ATTACH;FMTTYPE=image/jpeg:http://amicsdelesarts-jjmm.cat/wp-content/uploads/2017/06/Cartell-III-Setmana-Jocs-Carrer-e1564497186350.jpg
END:VEVENT
BEGIN:VEVENT
DTSTART;TZID=Europe/Paris:20180903T170000
DTEND;TZID=Europe/Paris:20180907T200000
DTSTAMP:20260420T190533
CREATED:20170627T124036Z
LAST-MODIFIED:20180912T075115Z
UID:6233-1535994000-1536350400@amicsdelesarts-jjmm.cat
SUMMARY:2a Setmana de Jocs al Carrer
DESCRIPTION:La 2a Setmana de Jocs al Carrer (dies 3\, 4\, 5\, 6 i 7 de setembre de 2018) continua amb el propòsit d’oferir espais lúdics i fomentar el joc al carrer\, compartit\, familiar\, multicultural\, no sexista i popular. \nPROGRAMACIÓ:\nCada dia: Taller de construcció de joguines\, bitlles\, petanca\, jocs de taula\, jocs tradicionals de cucanya\,  llançament\, punteria i habilitat. \nDilluns\, 3: \n\nJOCS DE SOCIETAT I TAULER\, amb la  DE JOCS L’ANÒMINA.\nESPAI DE NARRACIÓ ORAL\, a 3/4 de 8 de la tarda: Contes a càrrec de VET AQUÍ QUE.\n\nDimarts\, 4: \n\nJOCS DE MANKALA/AUALÉ\, amb LLUÍS PINYOT.\nESPAI DE NARRACIÓ ORAL\, a 3/4 de 8 de la tarda: Contes a càrrec de VET AQUÍ QUE.\n\nDimecres\, 5: \n\nBALL DE DRACS\, amb el DRAC DE TERRASSA.\nESPAI DE NARRACIÓ ORAL\, a 3/4 de 8 de la tarda: Contes a càrrec de VET AQUÍ QUE.\n\nDijous\, 6: \n\nFUTBOL BOTONS\, amb ENRIC DE “BUTTON MAKER”.\nESPAI DE NARRACIÓ ORAL\, a 3/4 de 8 de la tarda: Contes a càrrec de VET AQUÍ QUE.\nNIT DE JOCS (Jocs de tauler)\, de 9 a 11 de la nit.\n\nDivendres\, 7: \n\nJOCS DANSATS I MUSICATS.\n\n         JOCS DE CUCANYA\, amb MIQUI GIMÉNEZ. \n\nESPAI DE NARRACIÓ ORAL\, a 3/4 de 8 de la tarda: Contes a càrrec de VET AQUÍ QUE.\n\nDe l’1 al 8: EXPOSICIÓ. “DE DRAC A DRAC I TIRO PERQUÈ M’HA TOCAT”\, realitzada per l’Associació Cultural Lo Llaüt d’Ascó\, Drac de Terrassa i Tocajoc. Horari: de 2/4 de 7 a 2/4 de 9 de la tarda (dilluns tancat). Inauguració\, dissabte dia 1\, a 2/4 de 8 de la tarda. \nTotes les activitats de joc es duran a terme a la Plaça del Vapor Ventalló i dependències del Centre Excursionista de Terrassa\, al Carrer de Sant Llorenç\, 10. \nL’Exposició estarà instal·lada a la Sala d’Exposicions Salvador Alavedra\, a la seu d’Amics de les Arts i Joventuts Musicals\, al Carrer del Teatre\, 2. \n  \nTotes les activitats de Joc es duran a terme a la Plaça del Vapor Ventalló i dependències del Centre Excursionista de Terrassa (C/ Sant Llorenç\, 10). L’Exposició estarà instal·lada a la sala d’exposicions Joaquim Cardellach d’Amics de les Arts i Joventuts Musicals\, (C/ Teatre\, 2). \nTotes les activitats son de participació lliure i gratuïta. \n 
URL:http://amicsdelesarts-jjmm.cat/acte/2a-setmana-de-jocs-al-carrer-2-2/
LOCATION:Plaça del Vapor Ventalló\, Terrassa\, 08221
CATEGORIES:Entitat
ATTACH;FMTTYPE=image/jpeg:http://amicsdelesarts-jjmm.cat/wp-content/uploads/2017/06/2s-Setmana-de-Jocs-al-carrer-2018.jpg
END:VEVENT
BEGIN:VEVENT
DTSTART;TZID=Europe/Paris:20170904T170000
DTEND;TZID=Europe/Paris:20170908T200000
DTSTAMP:20260420T190533
CREATED:20170627T124036Z
LAST-MODIFIED:20170718T155950Z
UID:1771-1504544400-1504900800@amicsdelesarts-jjmm.cat
SUMMARY:1a Setmana de Jocs al Carrer
DESCRIPTION:La Setmana de Jocs al Carrer neix amb el propòsit d’oferir espais lúdics i fomentar el joc al carrer\, compartit\, familiar\, multicultural\, no sexista i popular. \nPROGRAMACIÓ:\nDies 4\, 5\, 6\, 7 i 8: JOCS TRADICIONALS I ACTUALS (Jocs de tauler\, d’habilitat motriu\, de llançament\, de cucanya\, jocs dansats\, taller construcció joguines…). Horari: de 5 a 8 de la tarda. \nDia 7: Nit de Jocs (Jocs de tauler). Horari:de 10 a 12 de la nit. \nDies 4\, 5\, 6\, 7 i 8: Espai de NARRACIÓ ORAL. (Contes a càrrec de Vet Aquí Que). Horari: a 3/4 de 8 de la tarda. \nDel 2 al 10: EXPOSICIÓ. “JOC a JOC\, PLAÇA a PLAÇA”\, realitzada per l’Associació Cultural Lo Llaüt d’Ascó i Tocajoc. Horari: de 2/4 de 7 a 2/4 de 9 de la tarda (dilluns tancat). Inauguració\, dissabte dia 2\, a 2/4 de 8 de la tarda. \nTotes les activitats de Joc es duran a terme a la Plaça del Vapor Ventalló i dependències del Centre Excursionista de Terrassa (C/ Sant Llorenç\, 10). L’Exposició estarà instal·lada a la sala d’exposicions Joaquim Cardellach d’Amics de les Arts i Joventuts Musicals\, (C/ Teatre\, 2). \nTotes les activitats son de participació lliure i gratuïta. \n 
URL:http://amicsdelesarts-jjmm.cat/acte/1a-setmana-de-jocs-al-carrer-2/
LOCATION:Plaça del Vapor Ventalló\, Terrassa\, 08221
CATEGORIES:Entitat
ATTACH;FMTTYPE=image/jpeg:http://amicsdelesarts-jjmm.cat/wp-content/uploads/2017/06/170904_al_08_2n_Cartell_Set._Jocs_al_Carrer21-e1500393572242.jpg
END:VEVENT
END:VCALENDAR