BEGIN:VCALENDAR
VERSION:2.0
PRODID:-//Amics de les Arts i Joventuts Musicals - ECPv6.15.20//NONSGML v1.0//EN
CALSCALE:GREGORIAN
METHOD:PUBLISH
X-WR-CALNAME:Amics de les Arts i Joventuts Musicals
X-ORIGINAL-URL:http://amicsdelesarts-jjmm.cat
X-WR-CALDESC:Esdeveniments per Amics de les Arts i Joventuts Musicals
REFRESH-INTERVAL;VALUE=DURATION:PT1H
X-Robots-Tag:noindex
X-PUBLISHED-TTL:PT1H
BEGIN:VTIMEZONE
TZID:Europe/Paris
BEGIN:DAYLIGHT
TZOFFSETFROM:+0100
TZOFFSETTO:+0200
TZNAME:CEST
DTSTART:20160327T010000
END:DAYLIGHT
BEGIN:STANDARD
TZOFFSETFROM:+0200
TZOFFSETTO:+0100
TZNAME:CET
DTSTART:20161030T010000
END:STANDARD
BEGIN:DAYLIGHT
TZOFFSETFROM:+0100
TZOFFSETTO:+0200
TZNAME:CEST
DTSTART:20170326T010000
END:DAYLIGHT
BEGIN:STANDARD
TZOFFSETFROM:+0200
TZOFFSETTO:+0100
TZNAME:CET
DTSTART:20171029T010000
END:STANDARD
BEGIN:DAYLIGHT
TZOFFSETFROM:+0100
TZOFFSETTO:+0200
TZNAME:CEST
DTSTART:20180325T010000
END:DAYLIGHT
BEGIN:STANDARD
TZOFFSETFROM:+0200
TZOFFSETTO:+0100
TZNAME:CET
DTSTART:20181028T010000
END:STANDARD
END:VTIMEZONE
BEGIN:VEVENT
DTSTART;TZID=Europe/Paris:20171105T170000
DTEND;TZID=Europe/Paris:20171105T190000
DTSTAMP:20260423T211005
CREATED:20171016T121325Z
LAST-MODIFIED:20171031T102042Z
UID:2709-1509901200-1509908400@amicsdelesarts-jjmm.cat
SUMMARY:Teatre : Cansalada cancel·lada\, de Gerard Vázquez
DESCRIPTION:Dins el XIII Concurs de Teatre Amateur Ciutat de Sant Feliu de Guíxols\n  \nUn actor i un director comencen a assajar una obra de teatre\, però no aconsegueixen passar de la primera escena. Una comèdia que ens acosta al món de la creació  fent un paral·lelisme amb la creació del món\, la vida és com un assaig que mai sabem com acabarà\, necessitem directors\, que tampoc serveixen si no hi poses de la teva part\, i esperes sempre el Déu que ho arregli tot i que mai no arriba. Amb pinzellades Becketianes\, aquest text ens ha fet riure i esperem que a vosaltres també.\n  \nDirecció: Maria Miralda \n \n\nIntèrprets: Ernest Castañé i Toni Garrich \nAjudant a la direcció: M. Mercè Monterde \nDisseny il·luminació i so: Maria MIralda \nEscenografia i vesturari: Grup de Teatre \nAls llums: Vicenç Lorenz \nDisseny gràfic: Anna Clariana i M Mercè Monterde \nFotografies vestíbul: Jaume Olivet \n  \nAgraïments: \nInstitut del Teatre\, Gemma Miralda\, Cesc Morera\, Marta Planes i Jenar Induarin \n  \n\n  \n 
URL:http://amicsdelesarts-jjmm.cat/acte/cansalada-cancel-lada/
LOCATION:Teatre Auditori Municipal “Narcís Masferrer”\, Sant Feliu de Guixols\, de s/n\, Carrer Callao\, 17220 Sant Feliu de Guíxols\, C/ Callao\, s/n\, Sant Feliu de Guíxols\, Barcelona\, 17220\, Espanya
CATEGORIES:Teatre
ATTACH;FMTTYPE=image/jpeg:http://amicsdelesarts-jjmm.cat/wp-content/uploads/2017/10/Imatge-Cansalada-cancel·lada-1.jpg
GEO:41.7814144;3.0245997
X-APPLE-STRUCTURED-LOCATION;VALUE=URI;X-ADDRESS=Teatre Auditori Municipal “Narcís Masferrer” Sant Feliu de Guixols de s/n Carrer Callao 17220 Sant Feliu de Guíxols C/ Callao s/n Sant Feliu de Guíxols Barcelona 17220 Espanya;X-APPLE-RADIUS=500;X-TITLE=C/ Callao\, s/n:geo:3.0245997,41.7814144
END:VEVENT
END:VCALENDAR