BEGIN:VCALENDAR
VERSION:2.0
PRODID:-//Amics de les Arts i Joventuts Musicals - ECPv6.15.20//NONSGML v1.0//EN
CALSCALE:GREGORIAN
METHOD:PUBLISH
X-WR-CALNAME:Amics de les Arts i Joventuts Musicals
X-ORIGINAL-URL:https://amicsdelesarts-jjmm.cat
X-WR-CALDESC:Esdeveniments per Amics de les Arts i Joventuts Musicals
REFRESH-INTERVAL;VALUE=DURATION:PT1H
X-Robots-Tag:noindex
X-PUBLISHED-TTL:PT1H
BEGIN:VTIMEZONE
TZID:Europe/Paris
BEGIN:DAYLIGHT
TZOFFSETFROM:+0100
TZOFFSETTO:+0200
TZNAME:CEST
DTSTART:20170326T010000
END:DAYLIGHT
BEGIN:STANDARD
TZOFFSETFROM:+0200
TZOFFSETTO:+0100
TZNAME:CET
DTSTART:20171029T010000
END:STANDARD
BEGIN:DAYLIGHT
TZOFFSETFROM:+0100
TZOFFSETTO:+0200
TZNAME:CEST
DTSTART:20180325T010000
END:DAYLIGHT
BEGIN:STANDARD
TZOFFSETFROM:+0200
TZOFFSETTO:+0100
TZNAME:CET
DTSTART:20181028T010000
END:STANDARD
BEGIN:DAYLIGHT
TZOFFSETFROM:+0100
TZOFFSETTO:+0200
TZNAME:CEST
DTSTART:20190331T010000
END:DAYLIGHT
BEGIN:STANDARD
TZOFFSETFROM:+0200
TZOFFSETTO:+0100
TZNAME:CET
DTSTART:20191027T010000
END:STANDARD
END:VTIMEZONE
BEGIN:VEVENT
DTSTART;TZID=Europe/Paris:20181124T213000
DTEND;TZID=Europe/Paris:20181124T230000
DTSTAMP:20260419T195606
CREATED:20181019T120851Z
LAST-MODIFIED:20181211T180342Z
UID:6896-1543095000-1543100400@amicsdelesarts-jjmm.cat
SUMMARY:"A les fosques" Teatre
DESCRIPTION:El nou muntatge del Grup de Teatre d’Amics de les Arts\, «A les fosques»\, a partir de la comèdia Black Comedy de Petter Shaffer. \nUna divertida comèdia amb Marc Novellon\, Marta Espachs\, Anna Clariana\, Mercè Coll\, Ernest Castañé\, Àngela Vilarrubias\, Vicenç Lorenz i Toni Garrich. \nDirecció: Maria Miralda \nAjudant de direcció: M. Mercè Monterde \n  \nDel 23 de novembre al 23 de desembre \nDivendres i dissabtes a dos quarts de deu \nDiumenge i festius a les sis de la tarda \nEl dia 6 de desembre també fem funció a les 6 de la tarda\, i el dia 8 de desembre la farem a dos quarts de deu. \nPots reservar les teves entrades al telefon 93 785 92 31 \n  \n  \nComparteix això:\n				Feu clic per compartir al Facebook (S'obre en una nova finestra)\n				Facebook\n			\n				Feu clic per compartir a X (S'obre en una nova finestra)\n				X\n			\n				Fes clic per compartir al Linkedin (S'obre en una nova finestra)\n				LinkedIn\n			\n				Feu clic per compartir al Pinterest (S'obre en una nova finestra)\n				Pinterest\n			\n				Feu clic per compartir al WhatsApp (S'obre en una nova finestra)\n				WhatsApp\n			\n				Feu clic per enviar un enllaç per correu electrònic a un amic (S'obre en una nova finestra)\n				Correu electrònic\n			\n				Feu clic per imprimir (S'obre en una nova finestra)\n				Imprimeix
URL:https://amicsdelesarts-jjmm.cat/acte/a-les-fosques-teatre-2018-11-24/2018-11-24/
CATEGORIES:Teatre
ATTACH;FMTTYPE=image/jpeg:https://amicsdelesarts-jjmm.cat/wp-content/uploads/2018/10/Cartell-e1542182344147.jpg
ORGANIZER;CN="Grup de Teatre d'Amics de les Arts i JM":MAILTO:info@amicsdelesarts-jjmm.cat
END:VEVENT
END:VCALENDAR