BEGIN:VCALENDAR
VERSION:2.0
PRODID:-//Amics de les Arts i Joventuts Musicals - ECPv6.15.20//NONSGML v1.0//EN
CALSCALE:GREGORIAN
METHOD:PUBLISH
X-WR-CALNAME:Amics de les Arts i Joventuts Musicals
X-ORIGINAL-URL:https://amicsdelesarts-jjmm.cat
X-WR-CALDESC:Esdeveniments per Amics de les Arts i Joventuts Musicals
REFRESH-INTERVAL;VALUE=DURATION:PT1H
X-Robots-Tag:noindex
X-PUBLISHED-TTL:PT1H
BEGIN:VTIMEZONE
TZID:Europe/Paris
BEGIN:DAYLIGHT
TZOFFSETFROM:+0100
TZOFFSETTO:+0200
TZNAME:CEST
DTSTART:20200329T010000
END:DAYLIGHT
BEGIN:STANDARD
TZOFFSETFROM:+0200
TZOFFSETTO:+0100
TZNAME:CET
DTSTART:20201025T010000
END:STANDARD
BEGIN:DAYLIGHT
TZOFFSETFROM:+0100
TZOFFSETTO:+0200
TZNAME:CEST
DTSTART:20210328T010000
END:DAYLIGHT
BEGIN:STANDARD
TZOFFSETFROM:+0200
TZOFFSETTO:+0100
TZNAME:CET
DTSTART:20211031T010000
END:STANDARD
BEGIN:DAYLIGHT
TZOFFSETFROM:+0100
TZOFFSETTO:+0200
TZNAME:CEST
DTSTART:20220327T010000
END:DAYLIGHT
BEGIN:STANDARD
TZOFFSETFROM:+0200
TZOFFSETTO:+0100
TZNAME:CET
DTSTART:20221030T010000
END:STANDARD
END:VTIMEZONE
BEGIN:VEVENT
DTSTART;TZID=Europe/Paris:20211006T183000
DTEND;TZID=Europe/Paris:20211006T200000
DTSTAMP:20260420T180807
CREATED:20210702T153136Z
LAST-MODIFIED:20211112T163729Z
UID:16592-1633545000-1633550400@amicsdelesarts-jjmm.cat
SUMMARY:Curs de fotografia II
DESCRIPTION:Dimecres de 18:30 a 20:00. D’octubre a juny. \nS’aprofundeix en els conceptes i tècniques del curs d’iniciació. \nA càrrec de Cristina M. Capellades. \nSala Jacint Morera. \nc/ Sant Pere\, 46\, 1a planta. \nConsulta més informació sobre els cursos \nComparteix això:\n				Feu clic per compartir al Facebook (S'obre en una nova finestra)\n				Facebook\n			\n				Feu clic per compartir a X (S'obre en una nova finestra)\n				X\n			\n				Fes clic per compartir al Linkedin (S'obre en una nova finestra)\n				LinkedIn\n			\n				Feu clic per compartir al Pinterest (S'obre en una nova finestra)\n				Pinterest\n			\n				Feu clic per compartir al WhatsApp (S'obre en una nova finestra)\n				WhatsApp\n			\n				Feu clic per enviar un enllaç per correu electrònic a un amic (S'obre en una nova finestra)\n				Correu electrònic\n			\n				Feu clic per imprimir (S'obre en una nova finestra)\n				Imprimeix
URL:https://amicsdelesarts-jjmm.cat/acte/curs-de-fotografia-ii/2021-10-06/
LOCATION:Sala Jacint Morera – Amics de les Arts i Joventuts Musicals\, C/ Sant Pere\, 46\, primera planta\, Terrassa\, 08221
CATEGORIES:Fotografia
ATTACH;FMTTYPE=image/jpeg:https://amicsdelesarts-jjmm.cat/wp-content/uploads/2021/07/RETOL-CURSII-2021-scaled-e1625239162959.jpg
GEO:41.5646088;2.0123963
X-APPLE-STRUCTURED-LOCATION;VALUE=URI;X-ADDRESS=Sala Jacint Morera – Amics de les Arts i Joventuts Musicals C/ Sant Pere 46 primera planta Terrassa 08221;X-APPLE-RADIUS=500;X-TITLE=C/ Sant Pere\, 46\, primera planta:geo:2.0123963,41.5646088
END:VEVENT
END:VCALENDAR