BEGIN:VCALENDAR
VERSION:2.0
PRODID:-//Amics de les Arts i Joventuts Musicals - ECPv6.15.20//NONSGML v1.0//EN
CALSCALE:GREGORIAN
METHOD:PUBLISH
X-WR-CALNAME:Amics de les Arts i Joventuts Musicals
X-ORIGINAL-URL:https://amicsdelesarts-jjmm.cat
X-WR-CALDESC:Esdeveniments per Amics de les Arts i Joventuts Musicals
REFRESH-INTERVAL;VALUE=DURATION:PT1H
X-Robots-Tag:noindex
X-PUBLISHED-TTL:PT1H
BEGIN:VTIMEZONE
TZID:Europe/Paris
BEGIN:DAYLIGHT
TZOFFSETFROM:+0100
TZOFFSETTO:+0200
TZNAME:CEST
DTSTART:20200329T010000
END:DAYLIGHT
BEGIN:STANDARD
TZOFFSETFROM:+0200
TZOFFSETTO:+0100
TZNAME:CET
DTSTART:20201025T010000
END:STANDARD
BEGIN:DAYLIGHT
TZOFFSETFROM:+0100
TZOFFSETTO:+0200
TZNAME:CEST
DTSTART:20210328T010000
END:DAYLIGHT
BEGIN:STANDARD
TZOFFSETFROM:+0200
TZOFFSETTO:+0100
TZNAME:CET
DTSTART:20211031T010000
END:STANDARD
BEGIN:DAYLIGHT
TZOFFSETFROM:+0100
TZOFFSETTO:+0200
TZNAME:CEST
DTSTART:20220327T010000
END:DAYLIGHT
BEGIN:STANDARD
TZOFFSETFROM:+0200
TZOFFSETTO:+0100
TZNAME:CET
DTSTART:20221030T010000
END:STANDARD
END:VTIMEZONE
BEGIN:VEVENT
DTSTART;TZID=Europe/Paris:20210116T180000
DTEND;TZID=Europe/Paris:20210116T200000
DTSTAMP:20260419T195210
CREATED:20201222T162943Z
LAST-MODIFIED:20210115T183651Z
UID:14893-1610820000-1610827200@amicsdelesarts-jjmm.cat
SUMMARY:Exposició Col·lectiva Il·lustració
DESCRIPTION:Aquesta exposició respon a les mostres col·lectives que convoquem cada any en diferents disciplines de les Arts Plàstiques. enguany hem triat la Il·lustració que cada vegada desperta més interés per la seva creativitat. \nDel 16 fins al 4 de febrer 2021 Exposició d’Il·lustració amb els participants: \nJordi Seró\, Anna Clariana\, Miquel Angel Torres\, Elisabet Vallhonrat\, Adolf\, Jesús Guzmán i Marta Benedí \nComparteix això:\n				Feu clic per compartir al Facebook (S'obre en una nova finestra)\n				Facebook\n			\n				Feu clic per compartir a X (S'obre en una nova finestra)\n				X\n			\n				Fes clic per compartir al Linkedin (S'obre en una nova finestra)\n				LinkedIn\n			\n				Feu clic per compartir al Pinterest (S'obre en una nova finestra)\n				Pinterest\n			\n				Feu clic per compartir al WhatsApp (S'obre en una nova finestra)\n				WhatsApp\n			\n				Feu clic per enviar un enllaç per correu electrònic a un amic (S'obre en una nova finestra)\n				Correu electrònic\n			\n				Feu clic per imprimir (S'obre en una nova finestra)\n				Imprimeix
URL:https://amicsdelesarts-jjmm.cat/acte/exposicio-collectiva-illustracio/2021-01-16/
LOCATION:Sala d’Exposicions Amics de les Arts
CATEGORIES:Arts plàstiques
ATTACH;FMTTYPE=image/jpeg:https://amicsdelesarts-jjmm.cat/wp-content/uploads/2020/12/cartell_illustracio.pdf-1-e1610735744251.jpg
END:VEVENT
END:VCALENDAR