BEGIN:VCALENDAR
VERSION:2.0
PRODID:-//Amics de les Arts i Joventuts Musicals - ECPv6.15.20//NONSGML v1.0//EN
CALSCALE:GREGORIAN
METHOD:PUBLISH
X-ORIGINAL-URL:https://amicsdelesarts-jjmm.cat
X-WR-CALDESC:Esdeveniments per Amics de les Arts i Joventuts Musicals
REFRESH-INTERVAL;VALUE=DURATION:PT1H
X-Robots-Tag:noindex
X-PUBLISHED-TTL:PT1H
BEGIN:VTIMEZONE
TZID:Europe/Paris
BEGIN:DAYLIGHT
TZOFFSETFROM:+0100
TZOFFSETTO:+0200
TZNAME:CEST
DTSTART:20200329T010000
END:DAYLIGHT
BEGIN:STANDARD
TZOFFSETFROM:+0200
TZOFFSETTO:+0100
TZNAME:CET
DTSTART:20201025T010000
END:STANDARD
BEGIN:DAYLIGHT
TZOFFSETFROM:+0100
TZOFFSETTO:+0200
TZNAME:CEST
DTSTART:20210328T010000
END:DAYLIGHT
BEGIN:STANDARD
TZOFFSETFROM:+0200
TZOFFSETTO:+0100
TZNAME:CET
DTSTART:20211031T010000
END:STANDARD
BEGIN:DAYLIGHT
TZOFFSETFROM:+0100
TZOFFSETTO:+0200
TZNAME:CEST
DTSTART:20220327T010000
END:DAYLIGHT
BEGIN:STANDARD
TZOFFSETFROM:+0200
TZOFFSETTO:+0100
TZNAME:CET
DTSTART:20221030T010000
END:STANDARD
END:VTIMEZONE
BEGIN:VEVENT
DTSTART;TZID=Europe/Paris:20211102T170000
DTEND;TZID=Europe/Paris:20211102T200000
DTSTAMP:20260419T201404
CREATED:20211025T180751Z
LAST-MODIFIED:20211025T181714Z
UID:18343-1635872400-1635883200@amicsdelesarts-jjmm.cat
SUMMARY:Exposició "Curs Avançat Fotografia Digital"
DESCRIPTION:EXPOSICIÓ DE DELS PARTICIPANTS AL CURS AVANÇAT DE FOTOGRAFIA DIGITAL \nDel dimarts 2 al divendres 26 de novembre del 2021. \nOberta exposició de dilluns a divendres de 17 a 20 h. \nEspai La Cúpula d’Amics de les Arts i Joventuts Musicals (C/Sant Pere\, 46\, 1a planta). \nInauguració el divendres dia 5 de novembre a les 19h. \n  \nFotografies de: \nAna Santander \nÀngels Marimon \nCèlia Lopez \nIsabel Lanzo \nJesús Pascual Brazo \nJordi Jané \nJosep Olpa \nLidia Picas \nNuria Aloy \n  \nCurs dirigit i impartit per Noèlia Duran \nComparteix això:\n				Feu clic per compartir al Facebook (S'obre en una nova finestra)\n				Facebook\n			\n				Feu clic per compartir a X (S'obre en una nova finestra)\n				X\n			\n				Fes clic per compartir al Linkedin (S'obre en una nova finestra)\n				LinkedIn\n			\n				Feu clic per compartir al Pinterest (S'obre en una nova finestra)\n				Pinterest\n			\n				Feu clic per compartir al WhatsApp (S'obre en una nova finestra)\n				WhatsApp\n			\n				Feu clic per enviar un enllaç per correu electrònic a un amic (S'obre en una nova finestra)\n				Correu electrònic\n			\n				Feu clic per imprimir (S'obre en una nova finestra)\n				Imprimeix
URL:https://amicsdelesarts-jjmm.cat/acte/exposicio-curs-avancat-fotografia-digital/2021-11-02/
LOCATION:La Cúpula de l’Entitat – Amics de les Arts i Joventuts Musicals\, C/ Sant Pere\, 46\, primera planta\, Terrassa\, 08221
CATEGORIES:Fotografia
ATTACH;FMTTYPE=image/jpeg:https://amicsdelesarts-jjmm.cat/wp-content/uploads/2021/10/Noe-CARTELL-EXPO-e1635185820187.jpg
GEO:41.5646088;2.0123963
X-APPLE-STRUCTURED-LOCATION;VALUE=URI;X-ADDRESS=La Cúpula de l’Entitat – Amics de les Arts i Joventuts Musicals C/ Sant Pere 46 primera planta Terrassa 08221;X-APPLE-RADIUS=500;X-TITLE=C/ Sant Pere\, 46\, primera planta:geo:2.0123963,41.5646088
END:VEVENT
END:VCALENDAR