BEGIN:VCALENDAR
VERSION:2.0
PRODID:-//Amics de les Arts i Joventuts Musicals - ECPv6.15.20//NONSGML v1.0//EN
CALSCALE:GREGORIAN
METHOD:PUBLISH
X-ORIGINAL-URL:https://amicsdelesarts-jjmm.cat
X-WR-CALDESC:Esdeveniments per Amics de les Arts i Joventuts Musicals
REFRESH-INTERVAL;VALUE=DURATION:PT1H
X-Robots-Tag:noindex
X-PUBLISHED-TTL:PT1H
BEGIN:VTIMEZONE
TZID:Europe/Paris
BEGIN:DAYLIGHT
TZOFFSETFROM:+0100
TZOFFSETTO:+0200
TZNAME:CEST
DTSTART:20170326T010000
END:DAYLIGHT
BEGIN:STANDARD
TZOFFSETFROM:+0200
TZOFFSETTO:+0100
TZNAME:CET
DTSTART:20171029T010000
END:STANDARD
BEGIN:DAYLIGHT
TZOFFSETFROM:+0100
TZOFFSETTO:+0200
TZNAME:CEST
DTSTART:20180325T010000
END:DAYLIGHT
BEGIN:STANDARD
TZOFFSETFROM:+0200
TZOFFSETTO:+0100
TZNAME:CET
DTSTART:20181028T010000
END:STANDARD
BEGIN:DAYLIGHT
TZOFFSETFROM:+0100
TZOFFSETTO:+0200
TZNAME:CEST
DTSTART:20190331T010000
END:DAYLIGHT
BEGIN:STANDARD
TZOFFSETFROM:+0200
TZOFFSETTO:+0100
TZNAME:CET
DTSTART:20191027T010000
END:STANDARD
END:VTIMEZONE
BEGIN:VEVENT
DTSTART;TZID=Europe/Paris:20180310T170000
DTEND;TZID=Europe/Paris:20180310T200000
DTSTAMP:20260420T065644
CREATED:20170904T162057Z
LAST-MODIFIED:20180314T111803Z
UID:4216-1520701200-1520712000@amicsdelesarts-jjmm.cat
SUMMARY:Exposició: «Lavínia 2016 o la guerra dels poetes»
DESCRIPTION:Inauguració dissabte 10 de març\, a les 19:00h. \nExposició d’homenatge a Enric Sió i Emili Teixidor amb motiu del cinquantenari de la publicació del seu còmic a la revista revista Oriflama. Presentació a càrrec de Carla Benzano\, professora de Filosofia. \nHorari de l’exposició: de dimarts a dijous de 9 a 13h i de dilluns a divendres de 17 a 20h. \n  \n  \n  \nComparteix això:\n				Feu clic per compartir al Facebook (S'obre en una nova finestra)\n				Facebook\n			\n				Feu clic per compartir a X (S'obre en una nova finestra)\n				X\n			\n				Fes clic per compartir al Linkedin (S'obre en una nova finestra)\n				LinkedIn\n			\n				Feu clic per compartir al Pinterest (S'obre en una nova finestra)\n				Pinterest\n			\n				Feu clic per compartir al WhatsApp (S'obre en una nova finestra)\n				WhatsApp\n			\n				Feu clic per enviar un enllaç per correu electrònic a un amic (S'obre en una nova finestra)\n				Correu electrònic\n			\n				Feu clic per imprimir (S'obre en una nova finestra)\n				Imprimeix
URL:https://amicsdelesarts-jjmm.cat/acte/lavinia-2016-o-la-guerra-dels-poetes/2018-03-10/
LOCATION:La Cúpula de l’Entitat – Amics de les Arts i Joventuts Musicals\, C/ Sant Pere\, 46\, primera planta\, Terrassa\, 08221
CATEGORIES:Literatura/debat
ATTACH;FMTTYPE=image/jpeg:https://amicsdelesarts-jjmm.cat/wp-content/uploads/2017/09/180310-Imatge-Lavínia-2016.jpg
ORGANIZER;CN="Grup Literari-Mirall de Gla%C3%A7 d'Amics de les Arts i JM":MAILTO:info@amicsdelesarts-jjmm.cat
GEO:41.5646088;2.0123963
X-APPLE-STRUCTURED-LOCATION;VALUE=URI;X-ADDRESS=La Cúpula de l’Entitat – Amics de les Arts i Joventuts Musicals C/ Sant Pere 46 primera planta Terrassa 08221;X-APPLE-RADIUS=500;X-TITLE=C/ Sant Pere\, 46\, primera planta:geo:2.0123963,41.5646088
END:VEVENT
END:VCALENDAR