BEGIN:VCALENDAR
VERSION:2.0
PRODID:-//Amics de les Arts i Joventuts Musicals - ECPv6.15.20//NONSGML v1.0//EN
CALSCALE:GREGORIAN
METHOD:PUBLISH
X-ORIGINAL-URL:https://amicsdelesarts-jjmm.cat
X-WR-CALDESC:Esdeveniments per Amics de les Arts i Joventuts Musicals
REFRESH-INTERVAL;VALUE=DURATION:PT1H
X-Robots-Tag:noindex
X-PUBLISHED-TTL:PT1H
BEGIN:VTIMEZONE
TZID:Europe/Paris
BEGIN:DAYLIGHT
TZOFFSETFROM:+0100
TZOFFSETTO:+0200
TZNAME:CEST
DTSTART:20170326T010000
END:DAYLIGHT
BEGIN:STANDARD
TZOFFSETFROM:+0200
TZOFFSETTO:+0100
TZNAME:CET
DTSTART:20171029T010000
END:STANDARD
BEGIN:DAYLIGHT
TZOFFSETFROM:+0100
TZOFFSETTO:+0200
TZNAME:CEST
DTSTART:20180325T010000
END:DAYLIGHT
BEGIN:STANDARD
TZOFFSETFROM:+0200
TZOFFSETTO:+0100
TZNAME:CET
DTSTART:20181028T010000
END:STANDARD
BEGIN:DAYLIGHT
TZOFFSETFROM:+0100
TZOFFSETTO:+0200
TZNAME:CEST
DTSTART:20190331T010000
END:DAYLIGHT
BEGIN:STANDARD
TZOFFSETFROM:+0200
TZOFFSETTO:+0100
TZNAME:CET
DTSTART:20191027T010000
END:STANDARD
END:VTIMEZONE
BEGIN:VEVENT
DTSTART;TZID=Europe/Paris:20180201T180000
DTEND;TZID=Europe/Paris:20180201T203000
DTSTAMP:20260420T013509
CREATED:20170718T185734Z
LAST-MODIFIED:20180227T105028Z
UID:4147-1517508000-1517517000@amicsdelesarts-jjmm.cat
SUMMARY:Conte literari II. Seminaris
DESCRIPTION:Professora: Raquel Picolo \nEscriptora\, professora d’escriptura i conductora de clubs de lectura. \nwww.raquelpicolo.net \nSessions mensuals centrades a valorar i comentar els contes escrits pels alumnes de cara a la revisió. Treballarem les tècniques que no estiguin ben assimilades fent un èmfasi especial en l’ús del llenguatge i l’estil personal. En aquest sentit\, llegirem i comentaran textos rellevants. També s’orientarà a aquells alumnes que vulguin treballar el projecte d’un recull de contes. \nPer participar en els seminaris cal haver fet el curs anual “EL CONTE LITERARI”. \n  \nUna trobada mensual\, primer dijous de 18:00 a 20:30h (excepte el 5 de desembre que és dimarts). \nMínim 6 alumnes i màxim 10. \nPagament per trimestres: 75 euros trimestrals. (Els socis d’Amics de les Arts i Joventuts Musicals\, tindran un descompte del 15%). \nDates: \n\n 5 d’octubre\, 2 de novembre i 5 de desembre (dimarts).\n 1 de febrer\, 1 de març i 5 d’abril.\n 3 de maig\, 7 de juny i 5 de juliol.\n\n  \nLes inscripcions al taller es realitzaran a Amics de les Arts i Joventuts Musicals\, de forma presencial al carrer de Sant Pere\, 46\, primera planta; també telefònicament\, trucant al 93 785 92 31; o bé per e-mail\, escrivint a: info@amicsdelesarts-jjmm.cat. \nComparteix això:\n				Feu clic per compartir al Facebook (S'obre en una nova finestra)\n				Facebook\n			\n				Feu clic per compartir a X (S'obre en una nova finestra)\n				X\n			\n				Fes clic per compartir al Linkedin (S'obre en una nova finestra)\n				LinkedIn\n			\n				Feu clic per compartir al Pinterest (S'obre en una nova finestra)\n				Pinterest\n			\n				Feu clic per compartir al WhatsApp (S'obre en una nova finestra)\n				WhatsApp\n			\n				Feu clic per enviar un enllaç per correu electrònic a un amic (S'obre en una nova finestra)\n				Correu electrònic\n			\n				Feu clic per imprimir (S'obre en una nova finestra)\n				Imprimeix
URL:https://amicsdelesarts-jjmm.cat/acte/taller-descriptura-el-conte-literari-per-raquel-picolo-2-2-3-5-3-2/2018-02-01/
LOCATION:Sala Jacint Morera – Amics de les Arts i Joventuts Musicals\, C/ Sant Pere\, 46\, primera planta\, Terrassa\, 08221
CATEGORIES:Literatura/debat
ATTACH;FMTTYPE=image/jpeg:https://amicsdelesarts-jjmm.cat/wp-content/uploads/2016/03/mg_92061.jpg
ORGANIZER;CN="Grup Literari-Mirall de Gla%C3%A7 d'Amics de les Arts i JM":MAILTO:info@amicsdelesarts-jjmm.cat
GEO:41.5646088;2.0123963
X-APPLE-STRUCTURED-LOCATION;VALUE=URI;X-ADDRESS=Sala Jacint Morera – Amics de les Arts i Joventuts Musicals C/ Sant Pere 46 primera planta Terrassa 08221;X-APPLE-RADIUS=500;X-TITLE=C/ Sant Pere\, 46\, primera planta:geo:2.0123963,41.5646088
END:VEVENT
END:VCALENDAR