BEGIN:VCALENDAR
VERSION:2.0
PRODID:-//Amics de les Arts i Joventuts Musicals - ECPv6.15.20//NONSGML v1.0//EN
CALSCALE:GREGORIAN
METHOD:PUBLISH
X-WR-CALNAME:Amics de les Arts i Joventuts Musicals
X-ORIGINAL-URL:https://amicsdelesarts-jjmm.cat
X-WR-CALDESC:Esdeveniments per Amics de les Arts i Joventuts Musicals
REFRESH-INTERVAL;VALUE=DURATION:PT1H
X-Robots-Tag:noindex
X-PUBLISHED-TTL:PT1H
BEGIN:VTIMEZONE
TZID:Europe/Paris
BEGIN:DAYLIGHT
TZOFFSETFROM:+0100
TZOFFSETTO:+0200
TZNAME:CEST
DTSTART:20240331T010000
END:DAYLIGHT
BEGIN:STANDARD
TZOFFSETFROM:+0200
TZOFFSETTO:+0100
TZNAME:CET
DTSTART:20241027T010000
END:STANDARD
BEGIN:DAYLIGHT
TZOFFSETFROM:+0100
TZOFFSETTO:+0200
TZNAME:CEST
DTSTART:20250330T010000
END:DAYLIGHT
BEGIN:STANDARD
TZOFFSETFROM:+0200
TZOFFSETTO:+0100
TZNAME:CET
DTSTART:20251026T010000
END:STANDARD
BEGIN:DAYLIGHT
TZOFFSETFROM:+0100
TZOFFSETTO:+0200
TZNAME:CEST
DTSTART:20260329T010000
END:DAYLIGHT
BEGIN:STANDARD
TZOFFSETFROM:+0200
TZOFFSETTO:+0100
TZNAME:CET
DTSTART:20261025T010000
END:STANDARD
END:VTIMEZONE
BEGIN:VEVENT
DTSTART;TZID=Europe/Paris:20251005T110000
DTEND;TZID=Europe/Paris:20251005T130000
DTSTAMP:20260420T180857
CREATED:20250910T103442Z
LAST-MODIFIED:20250916T142800Z
UID:27157-1759662000-1759669200@amicsdelesarts-jjmm.cat
SUMMARY:Urban Sketching a Terrassa\, amb David Chaler
DESCRIPTION:Aquesta presentació amb diapositives necessita JavaScript. \n🎨 Iniciació a l’Urban Sketching\nA càrrec de David Chaler\nUn taller pensat per a totes les persones que vulguin aprendre les tècniques bàsiques del dibuix urbà. \nPrograma: \nDijous 2/10 (18.00 – 20.00 h): PowerPoint explicatiu i pràctiques a l’estudi. \nDivendres 3/10 (18.00 – 20.00 h): Pràctiques al carrer – Perspectiva fàcil. \nDissabte 4/10 (10.30 – 13.00 h aprox.): Debut guiat amb els Urban Sketchers Terrassa. \nDiumenge 5/10 (11.00 h\, opcional): Visita comentada a la Fira del Dibuix\, a la plaça Vella. \nPreus:Socis: 35 €No socis: 45 € \nEl material necessari per fer els exercicis serà facilitat per l’organització.Places limitades. \nℹ️ Informació i reserves: Secretaria d’Amics de les Arts i Joventuts Musicals☎️ 93 785 92 31 (de dilluns a divendres\, de 17 a 20 h). \nComparteix això:\n				Feu clic per compartir al Facebook (S'obre en una nova finestra)\n				Facebook\n			\n				Feu clic per compartir a X (S'obre en una nova finestra)\n				X\n			\n				Fes clic per compartir al Linkedin (S'obre en una nova finestra)\n				LinkedIn\n			\n				Feu clic per compartir al Pinterest (S'obre en una nova finestra)\n				Pinterest\n			\n				Feu clic per compartir al WhatsApp (S'obre en una nova finestra)\n				WhatsApp\n			\n				Feu clic per enviar un enllaç per correu electrònic a un amic (S'obre en una nova finestra)\n				Correu electrònic\n			\n				Feu clic per imprimir (S'obre en una nova finestra)\n				Imprimeix
URL:https://amicsdelesarts-jjmm.cat/acte/urban-sketching-a-terrassa-amb-david-chaler/2025-10-05/
CATEGORIES:Arts plàstiques
END:VEVENT
BEGIN:VEVENT
DTSTART;TZID=Europe/Paris:20251004T103000
DTEND;TZID=Europe/Paris:20251004T130000
DTSTAMP:20260420T180857
CREATED:20250910T103442Z
LAST-MODIFIED:20250916T142800Z
UID:27156-1759573800-1759582800@amicsdelesarts-jjmm.cat
SUMMARY:Urban Sketching a Terrassa\, amb David Chaler
DESCRIPTION:Aquesta presentació amb diapositives necessita JavaScript. \n🎨 Iniciació a l’Urban Sketching\nA càrrec de David Chaler\nUn taller pensat per a totes les persones que vulguin aprendre les tècniques bàsiques del dibuix urbà. \nPrograma: \nDijous 2/10 (18.00 – 20.00 h): PowerPoint explicatiu i pràctiques a l’estudi. \nDivendres 3/10 (18.00 – 20.00 h): Pràctiques al carrer – Perspectiva fàcil. \nDissabte 4/10 (10.30 – 13.00 h aprox.): Debut guiat amb els Urban Sketchers Terrassa. \nDiumenge 5/10 (11.00 h\, opcional): Visita comentada a la Fira del Dibuix\, a la plaça Vella. \nPreus:Socis: 35 €No socis: 45 € \nEl material necessari per fer els exercicis serà facilitat per l’organització.Places limitades. \nℹ️ Informació i reserves: Secretaria d’Amics de les Arts i Joventuts Musicals☎️ 93 785 92 31 (de dilluns a divendres\, de 17 a 20 h). \nComparteix això:\n				Feu clic per compartir al Facebook (S'obre en una nova finestra)\n				Facebook\n			\n				Feu clic per compartir a X (S'obre en una nova finestra)\n				X\n			\n				Fes clic per compartir al Linkedin (S'obre en una nova finestra)\n				LinkedIn\n			\n				Feu clic per compartir al Pinterest (S'obre en una nova finestra)\n				Pinterest\n			\n				Feu clic per compartir al WhatsApp (S'obre en una nova finestra)\n				WhatsApp\n			\n				Feu clic per enviar un enllaç per correu electrònic a un amic (S'obre en una nova finestra)\n				Correu electrònic\n			\n				Feu clic per imprimir (S'obre en una nova finestra)\n				Imprimeix
URL:https://amicsdelesarts-jjmm.cat/acte/urban-sketching-a-terrassa-amb-david-chaler/2025-10-04/
CATEGORIES:Arts plàstiques
END:VEVENT
BEGIN:VEVENT
DTSTART;TZID=Europe/Paris:20251003T180000
DTEND;TZID=Europe/Paris:20251003T200000
DTSTAMP:20260420T180857
CREATED:20250910T103442Z
LAST-MODIFIED:20250916T142759Z
UID:27155-1759514400-1759521600@amicsdelesarts-jjmm.cat
SUMMARY:Urban Sketching a Terrassa\, amb David Chaler
DESCRIPTION:Aquesta presentació amb diapositives necessita JavaScript. \n🎨 Iniciació a l’Urban Sketching\nA càrrec de David Chaler\nUn taller pensat per a totes les persones que vulguin aprendre les tècniques bàsiques del dibuix urbà. \nPrograma: \nDijous 2/10 (18.00 – 20.00 h): PowerPoint explicatiu i pràctiques a l’estudi. \nDivendres 3/10 (18.00 – 20.00 h): Pràctiques al carrer – Perspectiva fàcil. \nDissabte 4/10 (10.30 – 13.00 h aprox.): Debut guiat amb els Urban Sketchers Terrassa. \nDiumenge 5/10 (11.00 h\, opcional): Visita comentada a la Fira del Dibuix\, a la plaça Vella. \nPreus:Socis: 35 €No socis: 45 € \nEl material necessari per fer els exercicis serà facilitat per l’organització.Places limitades. \nℹ️ Informació i reserves: Secretaria d’Amics de les Arts i Joventuts Musicals☎️ 93 785 92 31 (de dilluns a divendres\, de 17 a 20 h). \nComparteix això:\n				Feu clic per compartir al Facebook (S'obre en una nova finestra)\n				Facebook\n			\n				Feu clic per compartir a X (S'obre en una nova finestra)\n				X\n			\n				Fes clic per compartir al Linkedin (S'obre en una nova finestra)\n				LinkedIn\n			\n				Feu clic per compartir al Pinterest (S'obre en una nova finestra)\n				Pinterest\n			\n				Feu clic per compartir al WhatsApp (S'obre en una nova finestra)\n				WhatsApp\n			\n				Feu clic per enviar un enllaç per correu electrònic a un amic (S'obre en una nova finestra)\n				Correu electrònic\n			\n				Feu clic per imprimir (S'obre en una nova finestra)\n				Imprimeix
URL:https://amicsdelesarts-jjmm.cat/acte/urban-sketching-a-terrassa-amb-david-chaler/2025-10-03/
CATEGORIES:Arts plàstiques
END:VEVENT
BEGIN:VEVENT
DTSTART;TZID=Europe/Paris:20251002T180000
DTEND;TZID=Europe/Paris:20251002T200000
DTSTAMP:20260420T180857
CREATED:20250910T103442Z
LAST-MODIFIED:20250916T142759Z
UID:27151-1759428000-1759435200@amicsdelesarts-jjmm.cat
SUMMARY:Urban Sketching a Terrassa\, amb David Chaler
DESCRIPTION:Aquesta presentació amb diapositives necessita JavaScript. \n🎨 Iniciació a l’Urban Sketching\nA càrrec de David Chaler\nUn taller pensat per a totes les persones que vulguin aprendre les tècniques bàsiques del dibuix urbà. \nPrograma: \nDijous 2/10 (18.00 – 20.00 h): PowerPoint explicatiu i pràctiques a l’estudi. \nDivendres 3/10 (18.00 – 20.00 h): Pràctiques al carrer – Perspectiva fàcil. \nDissabte 4/10 (10.30 – 13.00 h aprox.): Debut guiat amb els Urban Sketchers Terrassa. \nDiumenge 5/10 (11.00 h\, opcional): Visita comentada a la Fira del Dibuix\, a la plaça Vella. \nPreus:Socis: 35 €No socis: 45 € \nEl material necessari per fer els exercicis serà facilitat per l’organització.Places limitades. \nℹ️ Informació i reserves: Secretaria d’Amics de les Arts i Joventuts Musicals☎️ 93 785 92 31 (de dilluns a divendres\, de 17 a 20 h). \nComparteix això:\n				Feu clic per compartir al Facebook (S'obre en una nova finestra)\n				Facebook\n			\n				Feu clic per compartir a X (S'obre en una nova finestra)\n				X\n			\n				Fes clic per compartir al Linkedin (S'obre en una nova finestra)\n				LinkedIn\n			\n				Feu clic per compartir al Pinterest (S'obre en una nova finestra)\n				Pinterest\n			\n				Feu clic per compartir al WhatsApp (S'obre en una nova finestra)\n				WhatsApp\n			\n				Feu clic per enviar un enllaç per correu electrònic a un amic (S'obre en una nova finestra)\n				Correu electrònic\n			\n				Feu clic per imprimir (S'obre en una nova finestra)\n				Imprimeix
URL:https://amicsdelesarts-jjmm.cat/acte/urban-sketching-a-terrassa-amb-david-chaler/2025-10-02/
CATEGORIES:Arts plàstiques
END:VEVENT
END:VCALENDAR