BEGIN:VCALENDAR
VERSION:2.0
PRODID:-//Amics de les Arts i Joventuts Musicals - ECPv6.15.20//NONSGML v1.0//EN
CALSCALE:GREGORIAN
METHOD:PUBLISH
X-ORIGINAL-URL:https://amicsdelesarts-jjmm.cat
X-WR-CALDESC:Esdeveniments per Amics de les Arts i Joventuts Musicals
REFRESH-INTERVAL;VALUE=DURATION:PT1H
X-Robots-Tag:noindex
X-PUBLISHED-TTL:PT1H
BEGIN:VTIMEZONE
TZID:Europe/Paris
BEGIN:DAYLIGHT
TZOFFSETFROM:+0100
TZOFFSETTO:+0200
TZNAME:CEST
DTSTART:20230326T010000
END:DAYLIGHT
BEGIN:STANDARD
TZOFFSETFROM:+0200
TZOFFSETTO:+0100
TZNAME:CET
DTSTART:20231029T010000
END:STANDARD
BEGIN:DAYLIGHT
TZOFFSETFROM:+0100
TZOFFSETTO:+0200
TZNAME:CEST
DTSTART:20240331T010000
END:DAYLIGHT
BEGIN:STANDARD
TZOFFSETFROM:+0200
TZOFFSETTO:+0100
TZNAME:CET
DTSTART:20241027T010000
END:STANDARD
BEGIN:DAYLIGHT
TZOFFSETFROM:+0100
TZOFFSETTO:+0200
TZNAME:CEST
DTSTART:20250330T010000
END:DAYLIGHT
BEGIN:STANDARD
TZOFFSETFROM:+0200
TZOFFSETTO:+0100
TZNAME:CET
DTSTART:20251026T010000
END:STANDARD
END:VTIMEZONE
BEGIN:VEVENT
DTSTART;TZID=Europe/Paris:20240530T170000
DTEND;TZID=Europe/Paris:20240530T200000
DTSTAMP:20260423T160738
CREATED:20240415T182741Z
LAST-MODIFIED:20240415T182741Z
UID:24422-1717088400-1717099200@amicsdelesarts-jjmm.cat
SUMMARY:Laboratori Creatiu «Afinitats electives»\, un projecte de Xavier Aragonès 
DESCRIPTION:AFINITATS ELECTIVES\nIn Sede Egarensis.\nUn projecte de Xavier Aragonès\nDel dissabte 4 al divendres 31 de maig\nINAUGURACIÓ:\nDissabte 11 de Maig a les 18\,30h \nORGANITZA:\nSecció Imatge del Laboratori Creatiu d’Amics de les Arts i Joventuts Musicals Projecte inclòs al Festival d’Imatge i Fotografia contemporània Àlbum 2024 de Terrassa.\nDesignem per «afinitat electiva» un tipus molt particular de relació dialèctica que s’estableix entre dues configuracions socials o culturals\, que no és reduïble a la determinació causal directa o a la «influència» en sentit tradicional. \nIN SEDE EGARENSIS\nXavier Aragonès\nIn Sede Egarensis és una exploració visual a llarg termini dels paisatges urbans\, periurbans i suburbans de Terrassa. A partir d’una sèrie de caminades pels diferents barris\, urbanitzacions i polígons industrials de la ciutat\, el fotògraf Xavier Aragonès ha començat a construir un arxiu d’imatges on hi tenen un pes especial l’arquitectura\npopular i d’autoconstrucció\, els marges i buits de la trama urbana\, les evidències del passat que perviuen en el present i els indicis de futurs que podrien (o no) esdevenir-se. \nImatge: Xavier Aragonès
URL:https://amicsdelesarts-jjmm.cat/acte/laboratori-creatiu-afinitats-electives-un-projecte-de-xavier-aragones/2024-05-30/
CATEGORIES:Laboratori Creatiu
ATTACH;FMTTYPE=image/jpeg:https://amicsdelesarts-jjmm.cat/wp-content/uploads/2024/04/EGARENSIS-SECRETARIA.jpg
END:VEVENT
BEGIN:VEVENT
DTSTART;TZID=Europe/Paris:20240530T190000
DTEND;TZID=Europe/Paris:20240530T203000
DTSTAMP:20260423T160738
CREATED:20240430T192252Z
LAST-MODIFIED:20240430T192252Z
UID:24484-1717095600-1717101000@amicsdelesarts-jjmm.cat
SUMMARY:Espectacle poètic i musical:  «Rosa Química»\, a càrrec de Xavi Morte
DESCRIPTION:Grup de Literatura\, Debat i Pensament \nDijous 30 de maig\, a les 19:00h.\nSala Joaquim Cardellach\, Teatre\, 2
URL:https://amicsdelesarts-jjmm.cat/acte/espectacle-poetic-i-musical-rosa-quimica-a-carrec-de-xavi-morte/
CATEGORIES:Literatura/debat
ATTACH;FMTTYPE=image/jpeg:https://amicsdelesarts-jjmm.cat/wp-content/uploads/2024/04/f53727c4-6e0c-4f3d-9711-48acdc3480fd.jpeg
END:VEVENT
BEGIN:VEVENT
DTSTART;TZID=Europe/Paris:20240530T180000
DTEND;TZID=Europe/Paris:20240530T200000
DTSTAMP:20260423T160738
CREATED:20240430T190924Z
LAST-MODIFIED:20240430T190924Z
UID:24476-1717092000-1717099200@amicsdelesarts-jjmm.cat
SUMMARY:Exposició: «Rosa Química»\, a càrrec de Ràdio Zurich
DESCRIPTION:Exposició oberta del divendres 23 al dijous 30 de maig.\nSala Joaquim Cardellach\, Teatre\, 2\nHorari: de dimarts a diumenge de 18:00 a 20:00h. 
URL:https://amicsdelesarts-jjmm.cat/acte/exposicio-rosa-quimica-a-carrec-de-radio-zurich/2024-05-30/
CATEGORIES:Literatura/debat
ATTACH;FMTTYPE=image/png:https://amicsdelesarts-jjmm.cat/wp-content/uploads/2024/04/2024-03-05-14-46_page_2.png
END:VEVENT
BEGIN:VEVENT
DTSTART;TZID=Europe/Paris:20240530T180000
DTEND;TZID=Europe/Paris:20240530T200000
DTSTAMP:20260423T160738
CREATED:20240513T171249Z
LAST-MODIFIED:20240513T171249Z
UID:24535-1717092000-1717099200@amicsdelesarts-jjmm.cat
SUMMARY:Exposició: «Miscel·lània»\, de Prats Mañosa
DESCRIPTION:Arts Plàstiques \nExposició oberta del dissabte 18 de maig al dijous 13 de juny \nSala Salvador Alavedra\, Teatre\, 2\nHorari: de dimarts a diumenge de 18:00 a 20:00h.  \n\nFrancesc Prats Mañosa\, una persona que plasma en els seus dibuixos dues de les seves grans aficions\, el món del motor i la història de la seva ciutat\, Terrassa\, en aquests dos últims segles.\nAquests dies presenta una petita mostra dels seus dibuixos a Amics de les Arts i Joventuts Musicals.
URL:https://amicsdelesarts-jjmm.cat/acte/exposicio-miscellania-de-prats-manosa/2024-05-30/
CATEGORIES:Arts plàstiques
ATTACH;FMTTYPE=image/jpeg:https://amicsdelesarts-jjmm.cat/wp-content/uploads/2024/05/Cartell-exposicio-Miscellania_page-0001.jpg
END:VEVENT
END:VCALENDAR