BEGIN:VCALENDAR
VERSION:2.0
PRODID:-//Amics de les Arts i Joventuts Musicals - ECPv6.15.20//NONSGML v1.0//EN
CALSCALE:GREGORIAN
METHOD:PUBLISH
X-WR-CALNAME:Amics de les Arts i Joventuts Musicals
X-ORIGINAL-URL:https://amicsdelesarts-jjmm.cat
X-WR-CALDESC:Esdeveniments per Amics de les Arts i Joventuts Musicals
REFRESH-INTERVAL;VALUE=DURATION:PT1H
X-Robots-Tag:noindex
X-PUBLISHED-TTL:PT1H
BEGIN:VTIMEZONE
TZID:Europe/Paris
BEGIN:DAYLIGHT
TZOFFSETFROM:+0100
TZOFFSETTO:+0200
TZNAME:CEST
DTSTART:20230326T010000
END:DAYLIGHT
BEGIN:STANDARD
TZOFFSETFROM:+0200
TZOFFSETTO:+0100
TZNAME:CET
DTSTART:20231029T010000
END:STANDARD
BEGIN:DAYLIGHT
TZOFFSETFROM:+0100
TZOFFSETTO:+0200
TZNAME:CEST
DTSTART:20240331T010000
END:DAYLIGHT
BEGIN:STANDARD
TZOFFSETFROM:+0200
TZOFFSETTO:+0100
TZNAME:CET
DTSTART:20241027T010000
END:STANDARD
BEGIN:DAYLIGHT
TZOFFSETFROM:+0100
TZOFFSETTO:+0200
TZNAME:CEST
DTSTART:20250330T010000
END:DAYLIGHT
BEGIN:STANDARD
TZOFFSETFROM:+0200
TZOFFSETTO:+0100
TZNAME:CET
DTSTART:20251026T010000
END:STANDARD
END:VTIMEZONE
BEGIN:VEVENT
DTSTART;TZID=Europe/Paris:20240603T170000
DTEND;TZID=Europe/Paris:20240603T200000
DTSTAMP:20260424T095445
CREATED:20240531T165522Z
LAST-MODIFIED:20240531T171026Z
UID:24585-1717434000-1717444800@amicsdelesarts-jjmm.cat
SUMMARY:«Terrassa fotogràfica» exposició col·lectiva homenatge a Jaume Cabús
DESCRIPTION:Grup fotogràfic  \nExposició oberta del 3 al 28 de juny.\nInauguració dijous 6 de juny\, a les 19:00h.\nEspai: La Cúpula\, Sant Pere\, 46\, 1a planta.\nHorari: de dilluns a divendres\, de les 17:00 a les 20:00h.
URL:https://amicsdelesarts-jjmm.cat/acte/terrassa-fotografica-exposicio-collectiva-homenatge-a-jaume-cabus/2024-06-03/
CATEGORIES:Fotografia
ATTACH;FMTTYPE=image/jpeg:https://amicsdelesarts-jjmm.cat/wp-content/uploads/2024/05/COL.LECTIVA-CABUS-CARTELL.jpg
END:VEVENT
BEGIN:VEVENT
DTSTART;TZID=Europe/Paris:20240603T190000
DTEND;TZID=Europe/Paris:20240603T203000
DTSTAMP:20260424T095445
CREATED:20240515T154014Z
LAST-MODIFIED:20240515T154014Z
UID:24549-1717441200-1717446600@amicsdelesarts-jjmm.cat
SUMMARY:Presentació del llibre de David Ballester: «Una historia de la policía española: de los grises y Conesa a los azules y Villarejo\, a càrrec de Manuel Márquez i del mateix autor 
DESCRIPTION:Grup de Literatura\, Debat i Pensament \nDilluns 3 de juny\, a les 19:00h.\nSala Joaquim Vancells\, Sant Pere\, 46\, 1a planta.
URL:https://amicsdelesarts-jjmm.cat/acte/presentacio-del-llibre-de-david-ballester-una-historia-de-la-policia-espanola-de-los-grises-y-conesa-a-los-azules-y-villarejo-a-carrec-de-manuel-marquez-i-del-mateix-autor/
CATEGORIES:Literatura/debat
ATTACH;FMTTYPE=image/png:https://amicsdelesarts-jjmm.cat/wp-content/uploads/2024/05/Policia-2.png
END:VEVENT
BEGIN:VEVENT
DTSTART;TZID=Europe/Paris:20240603T203000
DTEND;TZID=Europe/Paris:20240603T210000
DTSTAMP:20260424T095445
CREATED:20240530T175635Z
LAST-MODIFIED:20240530T175635Z
UID:24582-1717446600-1717448400@amicsdelesarts-jjmm.cat
SUMMARY:«Dia de l'Associacionisme Cultural» 
DESCRIPTION:Dilluns 3 de juny\, a les 20:30h.\nSala Joaquim Cardellach\, Teatre\, 2
URL:https://amicsdelesarts-jjmm.cat/acte/dia-de-lassociacionisme-cultural/
CATEGORIES:Música clàssica/coral
ATTACH;FMTTYPE=image/jpeg:https://amicsdelesarts-jjmm.cat/wp-content/uploads/2024/05/240528_cartell-portes-obertes_page-0001.jpg
END:VEVENT
END:VCALENDAR