BEGIN:VCALENDAR
VERSION:2.0
PRODID:-//Amics de les Arts i Joventuts Musicals - ECPv6.15.20//NONSGML v1.0//EN
CALSCALE:GREGORIAN
METHOD:PUBLISH
X-ORIGINAL-URL:https://amicsdelesarts-jjmm.cat
X-WR-CALDESC:Esdeveniments per Amics de les Arts i Joventuts Musicals
REFRESH-INTERVAL;VALUE=DURATION:PT1H
X-Robots-Tag:noindex
X-PUBLISHED-TTL:PT1H
BEGIN:VTIMEZONE
TZID:Europe/Paris
BEGIN:DAYLIGHT
TZOFFSETFROM:+0100
TZOFFSETTO:+0200
TZNAME:CEST
DTSTART:20230326T010000
END:DAYLIGHT
BEGIN:STANDARD
TZOFFSETFROM:+0200
TZOFFSETTO:+0100
TZNAME:CET
DTSTART:20231029T010000
END:STANDARD
BEGIN:DAYLIGHT
TZOFFSETFROM:+0100
TZOFFSETTO:+0200
TZNAME:CEST
DTSTART:20240331T010000
END:DAYLIGHT
BEGIN:STANDARD
TZOFFSETFROM:+0200
TZOFFSETTO:+0100
TZNAME:CET
DTSTART:20241027T010000
END:STANDARD
BEGIN:DAYLIGHT
TZOFFSETFROM:+0100
TZOFFSETTO:+0200
TZNAME:CEST
DTSTART:20250330T010000
END:DAYLIGHT
BEGIN:STANDARD
TZOFFSETFROM:+0200
TZOFFSETTO:+0100
TZNAME:CET
DTSTART:20251026T010000
END:STANDARD
END:VTIMEZONE
BEGIN:VEVENT
DTSTART;TZID=Europe/Paris:20240619T170000
DTEND;TZID=Europe/Paris:20240619T200000
DTSTAMP:20260422T230030
CREATED:20240531T165522Z
LAST-MODIFIED:20240531T171038Z
UID:24599-1718816400-1718827200@amicsdelesarts-jjmm.cat
SUMMARY:«Terrassa fotogràfica» exposició col·lectiva homenatge a Jaume Cabús
DESCRIPTION:Grup fotogràfic  \nExposició oberta del 3 al 28 de juny.\nInauguració dijous 6 de juny\, a les 19:00h.\nEspai: La Cúpula\, Sant Pere\, 46\, 1a planta.\nHorari: de dilluns a divendres\, de les 17:00 a les 20:00h.
URL:https://amicsdelesarts-jjmm.cat/acte/terrassa-fotografica-exposicio-collectiva-homenatge-a-jaume-cabus/2024-06-19/
CATEGORIES:Fotografia
ATTACH;FMTTYPE=image/jpeg:https://amicsdelesarts-jjmm.cat/wp-content/uploads/2024/05/COL.LECTIVA-CABUS-CARTELL.jpg
END:VEVENT
BEGIN:VEVENT
DTSTART;TZID=Europe/Paris:20240619T180000
DTEND;TZID=Europe/Paris:20240619T200000
DTSTAMP:20260422T230030
CREATED:20240611T183953Z
LAST-MODIFIED:20240611T183953Z
UID:24680-1718820000-1718827200@amicsdelesarts-jjmm.cat
SUMMARY:«Expo 2024 - col·lectiva d'artistes de COLBACAT» 
DESCRIPTION:Exposició oberta del 15 de juny al 4 de juliol de 2024\nInauguració: 15 de juny\, a les 19:00h.\nSala Salvador Alavedra\, teatre\, 2.\nHorari: de dimarts a diumenge\, de les 18:00 a les 20:00h.
URL:https://amicsdelesarts-jjmm.cat/acte/expo-2024-collectiva-dartistes-de-colbacat/2024-06-19/
CATEGORIES:Arts plàstiques
ATTACH;FMTTYPE=image/jpeg:https://amicsdelesarts-jjmm.cat/wp-content/uploads/2024/06/CARTELLA3_AMICS24.jpeg
END:VEVENT
END:VCALENDAR