BEGIN:VCALENDAR
VERSION:2.0
PRODID:-//Amics de les Arts i Joventuts Musicals - ECPv6.15.20//NONSGML v1.0//EN
CALSCALE:GREGORIAN
METHOD:PUBLISH
X-WR-CALNAME:Amics de les Arts i Joventuts Musicals
X-ORIGINAL-URL:https://amicsdelesarts-jjmm.cat
X-WR-CALDESC:Esdeveniments per Amics de les Arts i Joventuts Musicals
REFRESH-INTERVAL;VALUE=DURATION:PT1H
X-Robots-Tag:noindex
X-PUBLISHED-TTL:PT1H
BEGIN:VTIMEZONE
TZID:Europe/Paris
BEGIN:DAYLIGHT
TZOFFSETFROM:+0100
TZOFFSETTO:+0200
TZNAME:CEST
DTSTART:20230326T010000
END:DAYLIGHT
BEGIN:STANDARD
TZOFFSETFROM:+0200
TZOFFSETTO:+0100
TZNAME:CET
DTSTART:20231029T010000
END:STANDARD
BEGIN:DAYLIGHT
TZOFFSETFROM:+0100
TZOFFSETTO:+0200
TZNAME:CEST
DTSTART:20240331T010000
END:DAYLIGHT
BEGIN:STANDARD
TZOFFSETFROM:+0200
TZOFFSETTO:+0100
TZNAME:CET
DTSTART:20241027T010000
END:STANDARD
BEGIN:DAYLIGHT
TZOFFSETFROM:+0100
TZOFFSETTO:+0200
TZNAME:CEST
DTSTART:20250330T010000
END:DAYLIGHT
BEGIN:STANDARD
TZOFFSETFROM:+0200
TZOFFSETTO:+0100
TZNAME:CET
DTSTART:20251026T010000
END:STANDARD
END:VTIMEZONE
BEGIN:VEVENT
DTSTART;TZID=Europe/Paris:20240620T170000
DTEND;TZID=Europe/Paris:20240620T200000
DTSTAMP:20260424T113054
CREATED:20240531T165522Z
LAST-MODIFIED:20240531T171039Z
UID:24600-1718902800-1718913600@amicsdelesarts-jjmm.cat
SUMMARY:«Terrassa fotogràfica» exposició col·lectiva homenatge a Jaume Cabús
DESCRIPTION:Grup fotogràfic  \nExposició oberta del 3 al 28 de juny.\nInauguració dijous 6 de juny\, a les 19:00h.\nEspai: La Cúpula\, Sant Pere\, 46\, 1a planta.\nHorari: de dilluns a divendres\, de les 17:00 a les 20:00h.
URL:https://amicsdelesarts-jjmm.cat/acte/terrassa-fotografica-exposicio-collectiva-homenatge-a-jaume-cabus/2024-06-20/
CATEGORIES:Fotografia
ATTACH;FMTTYPE=image/jpeg:https://amicsdelesarts-jjmm.cat/wp-content/uploads/2024/05/COL.LECTIVA-CABUS-CARTELL.jpg
END:VEVENT
BEGIN:VEVENT
DTSTART;TZID=Europe/Paris:20240620T190000
DTEND;TZID=Europe/Paris:20240620T200000
DTSTAMP:20260424T113054
CREATED:20240612T160012Z
LAST-MODIFIED:20240612T160012Z
UID:24698-1718910000-1718913600@amicsdelesarts-jjmm.cat
SUMMARY:«Gabriel Casas. El reflexe d'una societat» xerrada fotogràfica a càrrec de David Millán
DESCRIPTION:Dijous 20 de juny\, a les 19:00h.\nSala Joaquim Vancells\, Sant Pere\, 46\, 1a planta \n 
URL:https://amicsdelesarts-jjmm.cat/acte/gabriel-casas-el-reflexe-duna-societat-xerrada-fotografica-a-carrec-de-david-millan/
CATEGORIES:Fotografia
ATTACH;FMTTYPE=image/jpeg:https://amicsdelesarts-jjmm.cat/wp-content/uploads/2024/06/Gabriel-Casas_page-0001.jpg
END:VEVENT
BEGIN:VEVENT
DTSTART;TZID=Europe/Paris:20240620T180000
DTEND;TZID=Europe/Paris:20240620T200000
DTSTAMP:20260424T113054
CREATED:20240611T183953Z
LAST-MODIFIED:20240611T183953Z
UID:24681-1718906400-1718913600@amicsdelesarts-jjmm.cat
SUMMARY:«Expo 2024 - col·lectiva d'artistes de COLBACAT» 
DESCRIPTION:Exposició oberta del 15 de juny al 4 de juliol de 2024\nInauguració: 15 de juny\, a les 19:00h.\nSala Salvador Alavedra\, teatre\, 2.\nHorari: de dimarts a diumenge\, de les 18:00 a les 20:00h.
URL:https://amicsdelesarts-jjmm.cat/acte/expo-2024-collectiva-dartistes-de-colbacat/2024-06-20/
CATEGORIES:Arts plàstiques
ATTACH;FMTTYPE=image/jpeg:https://amicsdelesarts-jjmm.cat/wp-content/uploads/2024/06/CARTELLA3_AMICS24.jpeg
END:VEVENT
BEGIN:VEVENT
DTSTART;TZID=Europe/Paris:20240620T183000
DTEND;TZID=Europe/Paris:20240620T203000
DTSTAMP:20260424T113054
CREATED:20240215T165720Z
LAST-MODIFIED:20240215T165720Z
UID:24045-1718908200-1718915400@amicsdelesarts-jjmm.cat
SUMMARY:«Digueu-me Ismael». Seminari intensiu d'esriptura enfocat en el narrador
DESCRIPTION:Dijous 29 de febrer al 20 de juny de 2024\, de les 18:30 a les 20:30h (16 hores en 8 sessions quinzenals)\nProfessor: Toritaka Tokumei\nLloc: Amics de les Arts i Joventuts Musicals (Sant Pere\, 46\, 1a planta – Terrassa)\nPreu: 180€ (30% de descompte per a les persones associades a Amics de les Arts)
URL:https://amicsdelesarts-jjmm.cat/acte/digueu-me-ismael-seminari-intensiu-desriptura-enfocat-en-el-narrador/2024-06-20/
CATEGORIES:Escola de Literatura
ATTACH;FMTTYPE=image/jpeg:https://amicsdelesarts-jjmm.cat/wp-content/uploads/2024/02/Logo-Amics-EscolaP3.jpeg
END:VEVENT
END:VCALENDAR