BEGIN:VCALENDAR
VERSION:2.0
PRODID:-//Amics de les Arts i Joventuts Musicals - ECPv6.15.20//NONSGML v1.0//EN
CALSCALE:GREGORIAN
METHOD:PUBLISH
X-ORIGINAL-URL:https://amicsdelesarts-jjmm.cat
X-WR-CALDESC:Esdeveniments per Amics de les Arts i Joventuts Musicals
REFRESH-INTERVAL;VALUE=DURATION:PT1H
X-Robots-Tag:noindex
X-PUBLISHED-TTL:PT1H
BEGIN:VTIMEZONE
TZID:Europe/Paris
BEGIN:DAYLIGHT
TZOFFSETFROM:+0100
TZOFFSETTO:+0200
TZNAME:CEST
DTSTART:20250330T010000
END:DAYLIGHT
BEGIN:STANDARD
TZOFFSETFROM:+0200
TZOFFSETTO:+0100
TZNAME:CET
DTSTART:20251026T010000
END:STANDARD
BEGIN:DAYLIGHT
TZOFFSETFROM:+0100
TZOFFSETTO:+0200
TZNAME:CEST
DTSTART:20260329T010000
END:DAYLIGHT
BEGIN:STANDARD
TZOFFSETFROM:+0200
TZOFFSETTO:+0100
TZNAME:CET
DTSTART:20261025T010000
END:STANDARD
BEGIN:DAYLIGHT
TZOFFSETFROM:+0100
TZOFFSETTO:+0200
TZNAME:CEST
DTSTART:20270328T010000
END:DAYLIGHT
BEGIN:STANDARD
TZOFFSETFROM:+0200
TZOFFSETTO:+0100
TZNAME:CET
DTSTART:20271031T010000
END:STANDARD
END:VTIMEZONE
BEGIN:VEVENT
DTSTART;TZID=Europe/Paris:20260302T183000
DTEND;TZID=Europe/Paris:20260302T193000
DTSTAMP:20260422T230019
CREATED:20251017T090419Z
LAST-MODIFIED:20260105T095306Z
UID:27582-1772476200-1772479800@amicsdelesarts-jjmm.cat
SUMMARY:Sessions de model amb figura humana · Cada dilluns a AAiJM (18.30 h)
DESCRIPTION:Aquesta presentació amb diapositives necessita JavaScript. \n🗓️ Cada dilluns\, fins al juny (excepte Nadal i Setmana Santa)\n🕠 De 18.30 a 19.30 h\n📍 Sala Joaquim Cardellach – Entrada pel carrer del Teatre \n\n👁️ Què són les sessions de model?\nSón trobades setmanals per practicar el dibuix del natural a partir d’un/a model real. \nNo és un curs ni una classe dirigida\, sinó un espai de pràctica compartida on cadascú treballa al seu ritme\, en un ambient tranquil i creatiu. \n\n🧑‍🎨 A qui s’adrecen?\nA tothom que vulgui dibuixar figura humana\, tant si ja té experiència com si vol començar de zero. \nNo cal cap nivell previ\, només ganes d’observar\, dibuixar i aprendre a partir de la pràctica. \n\n✏️ Què cal portar?\nCada participant ha de portar el seu propi material de dibuix: paper\, llapis\, carbonet\, aquarel·la o la tècnica que prefereixi. \n\n🕰️ Com funciona una sessió?\nCada dilluns hi ha un o una model (tenim tres models que es van alternant entre ells/es).\nEs fan: \n\n3 sessions de 10 minuts\n2 sessions de 15 minuts\n\nAixò permet treballar el traç ràpid\, les proporcions i la mirada artística\, en un ambient relaxat i concentrat. \n\n💶 Quin és el preu?\nEl preu és per sessió individual: \n\n3 € per a socis/es d’Amics de les Arts\n6 € per a no socis/es [Vegeu avantatges de fer-se soci/a]\n\nEs pot venir un dia puntual\, tot i que es recomana una certa continuïtat per aprofitar millor l’experiència. \n\n🤝 Per què t’hi has d’apuntar?\n\nPer millorar la tècnica observant del natural.\nPer connectar amb altres aficionats i artistes locals.\nPer gaudir d’una hora de calma creativa cada dilluns.\nI perquè no cal experiència prèvia: pots venir a provar-ho un dia!\n\n\n📬 Més informació\nPer a qualsevol dubte o per participar-hi:\n📩 amicsdelesarts@amicsdelesarts-jjmm.cat\n🌐 amicsdelesarts-jjmm.cat
URL:https://amicsdelesarts-jjmm.cat/acte/sessions-de-model-amb-figura-humana-%c2%b7-cada-dilluns-a-aaijm-18-30-h/2026-03-02/
CATEGORIES:Arts plàstiques
END:VEVENT
BEGIN:VEVENT
DTSTART;TZID=Europe/Paris:20260302T183000
DTEND;TZID=Europe/Paris:20260302T203000
DTSTAMP:20260422T230019
CREATED:20260116T143303Z
LAST-MODIFIED:20260116T143303Z
UID:29659-1772476200-1772483400@amicsdelesarts-jjmm.cat
SUMMARY:Literatura de ciència-ficció: què és i com ha canviat al llarg dels segles · Toritaka Tokumei · ELT
DESCRIPTION:Xerrada introductòria\n🗓 Dilluns\, 2 de febrer de 2026\n🕖 A les 19.00 h\n🎟 Entrada lliure\, gratuïta i sense compromís \nAquesta xerrada introductòria obre un seminari de literatura de ciència-ficció que proposa una mirada teòrica i pràctica al gènere\, entès com un espai literari per pensar el present —política\, tecnologia\, cos\, ecologia i llenguatge— a través de mons possibles. El seminari ofereix eines clares i aplicables per llegir i analitzar qualsevol text de ciència-ficció. \nTemes a tractar al seminari\n\nQuè fa que un text sigui ciència-ficció: pacte de lectura\, estranyament i novum.\nDel proto-gènere (Plató\, Llucià) al naixement modern (Frankenstein).\nUtopia i distopia\, i el cost moral dels mons perfectes (Le Guin).\nCiència-ficció contemporània: futurs de proximitat\, comunitat\, col·lapse i posthumanisme (Butler).\n\nInformació del seminari\nProfessor: Toritaka Tokumei\nTipus de curs: Presencial\, virtual o mixt (a acordar un cop format el grup)\nDates: Dilluns 16 i 23 de febrer\, i 2 i 9 de març de 2026\nHorari: de 18.30 a 20.30 h (8 hores en 4 sessions setmanals)\nLloc: Amics de les Arts i Joventuts Musicals (carrer de Sant Pere\, 46\, 1a planta – Terrassa) \nPreu:\n\n90 €\n60 € per a persones associades a Amics de les Arts i Joventuts Musicals\n75 € per a persones jubilades\n\nMatrícula\nLa inscripció es pot fer: \n\nA través d’aquest formulari\nTrucant al 93 785 92 31\nPresencialment a la secretaria d’Amics de les Arts i Joventuts Musicals (de dilluns a divendres\, de 17.00 a 20.00 h)\n\n_____ \n𝐓’𝐡𝐚 𝐢𝐧𝐭𝐞𝐫𝐞𝐬𝐬𝐚𝐭 𝐚𝐪𝐮𝐞𝐬𝐭 𝐜𝐨𝐧𝐭𝐢𝐧𝐠𝐮𝐭?\n📧 Subscriu-te al nostre 𝐵𝑢𝑡𝑙𝑙𝑒𝑡𝑖́ i rebràs\, cada quinze dies\, les novetats culturals al teu correu electrònic. \n📲 Informa’t també a través del nostre canal de WhatsApp (dilluns i dijous).\ni segueix-nos a Instagram\, Facebook i X (Twitter) per no perdre’t cap activitat.
URL:https://amicsdelesarts-jjmm.cat/acte/literatura-de-ciencia-ficcio-que-es-i-com-ha-canviat-al-llarg-dels-segles-%c2%b7-toritaka-tokumei-%c2%b7-elt/2026-03-02/
CATEGORIES:Escola de Literatura
END:VEVENT
BEGIN:VEVENT
DTSTART;TZID=Europe/Paris:20260302T183000
DTEND;TZID=Europe/Paris:20260302T203000
DTSTAMP:20260422T230019
CREATED:20260129T114024Z
LAST-MODIFIED:20260224T114538Z
UID:30305-1772476200-1772483400@amicsdelesarts-jjmm.cat
SUMMARY:Literatura de ciència-ficció: què és i com ha canviat al llarg dels segles · Toritaka Tokumei · ELT
DESCRIPTION:Xerrada introductòria \n🗓 Dilluns\, 2 de febrer de 2026\n🕖 A les 19.00 h\n🎟 Entrada lliure\, gratuïta i sense compromís \nAquesta xerrada introductòria obre un seminari de literatura de ciència-ficció que proposa una mirada teòrica i pràctica al gènere\, entès com un espai literari per pensar el present —política\, tecnologia\, cos\, ecologia i llenguatge— a través de mons possibles. El seminari ofereix eines clares i aplicables per llegir i analitzar qualsevol text de ciència-ficció. \nTemes a tractar al seminari \n\nQuè fa que un text sigui ciència-ficció: pacte de lectura\, estranyament i novum.\nDel proto-gènere (Plató\, Llucià) al naixement modern (Frankenstein).\nUtopia i distopia\, i el cost moral dels mons perfectes (Le Guin).\nCiència-ficció contemporània: futurs de proximitat\, comunitat\, col·lapse i posthumanisme (Butler).\n\nInformació del seminari \nProfessor: Toritaka Tokumei\nTipus de curs: Presencial\, virtual o mixt (a acordar un cop format el grup)\nDates: Dilluns 16 i 23 de febrer\, i 2 i 9 de març de 2026\nHorari: de 18.30 a 20.30 h (8 hores en 4 sessions setmanals)\nLloc: Amics de les Arts i Joventuts Musicals (carrer de Sant Pere\, 46\, 1a planta – Terrassa) \nPreu: \n\n90 €\n60 € per a persones associades a Amics de les Arts i Joventuts Musicals\n75 € per a persones jubilades\n\nMatrícula \nLa inscripció es pot fer: \n\nA través d’aquest formulari\nTrucant al 93 785 92 31\nPresencialment a la secretaria d’Amics de les Arts i Joventuts Musicals (de dilluns a divendres\, de 17.00 a 20.00 h)\n\n_____ \nT’ha interessat aquest contingut? \n📧 Subscriu-te al nostre butlletí i rebràs\, cada quinze dies\, les principals novetats culturals directament al teu correu electrònic. \n📲 Apunta’t també al Canal de Whatsapp\, on compartim continguts d’interès cada dilluns i dijous. \n📱Segueix-nos a Instagram\, Facebook i X (Twitter) per estar al dia de totes les activitats d’Amics de les Arts i Joventuts Musicals.
URL:https://amicsdelesarts-jjmm.cat/acte/literatura-de-ciencia-ficcio-que-es-i-com-ha-canviat-al-llarg-dels-segles-%c2%b7-toritaka-tokumei-%c2%b7-elt-2/2026-03-02/
CATEGORIES:Escola de Literatura,Literatura/debat
END:VEVENT
END:VCALENDAR