BEGIN:VCALENDAR
VERSION:2.0
PRODID:-//Amics de les Arts i Joventuts Musicals - ECPv6.15.20//NONSGML v1.0//EN
CALSCALE:GREGORIAN
METHOD:PUBLISH
X-WR-CALNAME:Amics de les Arts i Joventuts Musicals
X-ORIGINAL-URL:https://amicsdelesarts-jjmm.cat
X-WR-CALDESC:Esdeveniments per Amics de les Arts i Joventuts Musicals
REFRESH-INTERVAL;VALUE=DURATION:PT1H
X-Robots-Tag:noindex
X-PUBLISHED-TTL:PT1H
BEGIN:VTIMEZONE
TZID:Europe/Paris
BEGIN:DAYLIGHT
TZOFFSETFROM:+0100
TZOFFSETTO:+0200
TZNAME:CEST
DTSTART:20250330T010000
END:DAYLIGHT
BEGIN:STANDARD
TZOFFSETFROM:+0200
TZOFFSETTO:+0100
TZNAME:CET
DTSTART:20251026T010000
END:STANDARD
BEGIN:DAYLIGHT
TZOFFSETFROM:+0100
TZOFFSETTO:+0200
TZNAME:CEST
DTSTART:20260329T010000
END:DAYLIGHT
BEGIN:STANDARD
TZOFFSETFROM:+0200
TZOFFSETTO:+0100
TZNAME:CET
DTSTART:20261025T010000
END:STANDARD
BEGIN:DAYLIGHT
TZOFFSETFROM:+0100
TZOFFSETTO:+0200
TZNAME:CEST
DTSTART:20270328T010000
END:DAYLIGHT
BEGIN:STANDARD
TZOFFSETFROM:+0200
TZOFFSETTO:+0100
TZNAME:CET
DTSTART:20271031T010000
END:STANDARD
END:VTIMEZONE
BEGIN:VEVENT
DTSTART;VALUE=DATE:20260306
DTEND;VALUE=DATE:20260502
DTSTAMP:20260424T104028
CREATED:20260206T144954Z
LAST-MODIFIED:20260217T174734Z
UID:30355-1772758800-1777597199@amicsdelesarts-jjmm.cat
SUMMARY:Exposicions de fotografia de JAZZ de Jaume Farrés Ubach (Sala Cúpula d’AAiJM + Sala Paüls) · Març / Abril
DESCRIPTION:Anem de Sales… abans d’anar a fer el gin-tònic i a escoltar el concert!\nLa Sala La Cúpula d’Amics de les Arts i Joventuts Musicals i la Sala Paüls cooperem i programem conjuntament dues exposicions de fotografia de jazz del fotojazzman Jaume Farrés Ubach\, un fotògraf persistent\, amb una mirada molt viva sobre l’escena. \nA les dues sales hi podreu veure treballs fotogràfics de l’any 2025\, realitzats durant les Jam Sessions i els concerts a la Nova Jazz Cava de Terrassa. \nExposicions\n\nSala La Cúpula: Instant de Jazz-OUT — del 6 al 29 de març i de l’1 al 30 d’abril de 2026\nSala Paüls: Instant de Jazz-IN — del 6 al 29 de març de 2026\n\nAquesta col·laboració vol ser l’inici d’una nova etapa de relació i d’intercanvi\, amb la voluntat d’interconnectar espais de la ciutat per sumar esforços i fer créixer la fotografia i el Festival Internacional de Jazz de Terrassa\, entre altres projectes. Aquest any\, el Festival celebra 45 anys! \nInauguracions\n\nDIVENDRES 13 de març (18.30 h) a La Cúpula d’AAiJM [Clica per apuntar-ho a Google Calendar].\nDIVENDRES 6 de març (19.30 h) a la Sala Paüls [Clica per apuntar-ho a Google Calendar].\n\n_____ \nT’ha interessat aquest contingut?\n📧 Subscriu-te al nostre butlletí i rebràs\, cada quinze dies\, les principals novetats culturals directament al teu correu electrònic. \n📲 Apunta’t també al Canal de Whatsapp\, on compartim continguts d’interès cada dilluns i dijous. \n📱Segueix-nos a Instagram\, Facebook i X (Twitter) per estar al dia de totes les activitats d’Amics de les Arts i Joventuts Musicals.
URL:https://amicsdelesarts-jjmm.cat/acte/exposicions-de-fotografia-de-jazz-de-jaume-farres-ubach-sala-cupula-daaijm-sala-pauls-%c2%b7-marc-abril/
CATEGORIES:Fotografia
END:VEVENT
BEGIN:VEVENT
DTSTART;TZID=Europe/Paris:20260323T183000
DTEND;TZID=Europe/Paris:20260323T193000
DTSTAMP:20260424T104028
CREATED:20251017T090419Z
LAST-MODIFIED:20251019T162018Z
UID:27585-1774290600-1774294200@amicsdelesarts-jjmm.cat
SUMMARY:Sessions de model amb figura humana · Cada dilluns a AAiJM (18.30 h)
DESCRIPTION:Aquesta presentació amb diapositives necessita JavaScript. \n🗓️ Cada dilluns\, fins al juny (excepte Nadal i Setmana Santa)\n🕠 De 18.30 a 19.30 h\n📍 Sala Joaquim Cardellach – Entrada pel carrer del Teatre \n\n👁️ Què són les sessions de model?\nSón trobades setmanals per practicar el dibuix del natural a partir d’un/a model real. \nNo és un curs ni una classe dirigida\, sinó un espai de pràctica compartida on cadascú treballa al seu ritme\, en un ambient tranquil i creatiu. \n\n🧑‍🎨 A qui s’adrecen?\nA tothom que vulgui dibuixar figura humana\, tant si ja té experiència com si vol començar de zero. \nNo cal cap nivell previ\, només ganes d’observar\, dibuixar i aprendre a partir de la pràctica. \n\n✏️ Què cal portar?\nCada participant ha de portar el seu propi material de dibuix: paper\, llapis\, carbonet\, aquarel·la o la tècnica que prefereixi. \n\n🕰️ Com funciona una sessió?\nCada dilluns hi ha un o una model (tenim tres models que es van alternant entre ells/es).\nEs fan: \n\n3 sessions de 10 minuts\n2 sessions de 15 minuts\n\nAixò permet treballar el traç ràpid\, les proporcions i la mirada artística\, en un ambient relaxat i concentrat. \n\n💶 Quin és el preu?\nEl preu és per sessió individual: \n\n3 € per a socis/es d’Amics de les Arts\n6 € per a no socis/es [Vegeu avantatges de fer-se soci/a]\n\nEs pot venir un dia puntual\, tot i que es recomana una certa continuïtat per aprofitar millor l’experiència. \n\n🤝 Per què t’hi has d’apuntar?\n\nPer millorar la tècnica observant del natural.\nPer connectar amb altres aficionats i artistes locals.\nPer gaudir d’una hora de calma creativa cada dilluns.\nI perquè no cal experiència prèvia: pots venir a provar-ho un dia!\n\n\n📬 Més informació\nPer a qualsevol dubte o per participar-hi:\n📩 amicsdelesarts@amicsdelesarts-jjmm.cat\n🌐 amicsdelesarts-jjmm.cat
URL:https://amicsdelesarts-jjmm.cat/acte/sessions-de-model-amb-figura-humana-%c2%b7-cada-dilluns-a-aaijm-18-30-h/2026-03-23/
CATEGORIES:Arts plàstiques
END:VEVENT
BEGIN:VEVENT
DTSTART;TZID=Europe/Paris:20260323T183000
DTEND;TZID=Europe/Paris:20260323T193000
DTSTAMP:20260424T104028
CREATED:20260318T163052Z
LAST-MODIFIED:20260318T163052Z
UID:30520-1774290600-1774294200@amicsdelesarts-jjmm.cat
SUMMARY:Testimonis en primera persona · dl. 23 de març de 2026
DESCRIPTION:Testimonis en primera persona és una proposta centrada en la realitat de Palestina a partir de veus que hi estan directament vinculades. \nL’activitat reunirà Cesc Poch\, sindicalista i voluntari a Palestina; Nour Eddin Said\, membre fundador de la Comunitat Palestina a Catalunya\, i Hasna El Asri\, presidenta de l’Associació Ras Al-Hanout de Terrassa. \nCesc Poch acaba de visitar dos camps de refugiats a Hebron i Cisjordània\, un testimoni recent que aporta un valor especial a aquesta sessió. \nLa trobada ofereix\, així\, un espai per escoltar experiències en primera persona i aproximar-se a una realitat marcada pel conflicte i el desplaçament. \nL’acte serà presentat per Joan Tamayo. \n📅 Dilluns 23 de març de 2026\, a les 18.30 h\n📍 Sala Joaquim Vancells\n📌 C/ Sant Pere\, 46 · Terrassa \n_____ \nT’ha interessat aquest contingut?\n📧 Subscriu-te al nostre butlletí i rebràs\, cada quinze dies\, les principals novetats culturals directament al teu correu electrònic. \n📲 Apunta’t també al Canal de Whatsapp\, on compartim continguts d’interès cada dilluns i dijous. \n📱Segueix-nos a Instagram\, Facebook i X (Twitter) per estar al dia de totes les activitats d’Amics de les Arts i Joventuts Musicals.
URL:https://amicsdelesarts-jjmm.cat/acte/testimonis-en-primera-persona-%c2%b7-dl-23-de-marc-de-2026/
CATEGORIES:Literatura/debat
END:VEVENT
BEGIN:VEVENT
DTSTART;TZID=Europe/Paris:20260323T190000
DTEND;TZID=Europe/Paris:20260323T200000
DTSTAMP:20260424T104028
CREATED:20260306T183150Z
LAST-MODIFIED:20260311T191442Z
UID:30477-1774292400-1774296000@amicsdelesarts-jjmm.cat
SUMMARY:Terrassa Fotogràfica · Exposició col·lectiva Memorial Virgili Vera Junyent · Inauguració dl. 23 de març
DESCRIPTION:L’exposició col·lectiva Terrassa Fotogràfica · Memorial Virgili Vera Junyent és una proposta dedicada a recordar la figura d’aquest fotògraf i membre destacat de la comunitat fotogràfica de Terrassa. La mostra reuneix treballs en homenatge a Virgili Vera Junyent\, en record d’“un gran fotògraf\, una bona persona i un millor amic”. \nOrganitzada amb la participació de diverses entitats culturals i fotogràfiques de la ciutat —entre les quals Amics de les Arts i Joventuts Musicals—\, l’exposició posa en valor la fotografia com a espai de memòria\, reconeixement i comunitat. La iniciativa s’inscriu dins el projecte Terrassa Fotogràfica i compta amb la implicació de col·lectius com Fotoclub Terrassa\, LaFact i el CET\, en una proposta compartida per mantenir viu el record i el llegat de Virgili Vera. \n📅 Inauguració: dilluns 23 de març de 2026 · 19.00 h\n📅 Cloenda: divendres 29 d’abril de 2026 · 19.00 h \n📍 Fotoclub Terrassa \n_____ \nT’ha interessat aquest contingut? \n📧 Subscriu-te al nostre butlletí i rebràs\, cada quinze dies\, les principals novetats culturals directament al teu correu electrònic. \n📲 Apunta’t també al Canal de Whatsapp\, on compartim continguts d’interès cada dilluns i dijous. \n📱Segueix-nos a Instagram\, Facebook i X (Twitter) per estar al dia de totes les activitats d’Amics de les Arts i Joventuts Musicals.
URL:https://amicsdelesarts-jjmm.cat/acte/terrassa-fotografica-%c2%b7-exposicio-collectiva-memorial-virgili-vera-junyent-%c2%b7-inauguracio-dl-23-de-marc/
CATEGORIES:Fotografia
END:VEVENT
END:VCALENDAR