BEGIN:VCALENDAR
VERSION:2.0
PRODID:-//Amics de les Arts i Joventuts Musicals - ECPv6.15.20//NONSGML v1.0//EN
CALSCALE:GREGORIAN
METHOD:PUBLISH
X-WR-CALNAME:Amics de les Arts i Joventuts Musicals
X-ORIGINAL-URL:https://amicsdelesarts-jjmm.cat
X-WR-CALDESC:Esdeveniments per Amics de les Arts i Joventuts Musicals
REFRESH-INTERVAL;VALUE=DURATION:PT1H
X-Robots-Tag:noindex
X-PUBLISHED-TTL:PT1H
BEGIN:VTIMEZONE
TZID:Europe/Paris
BEGIN:DAYLIGHT
TZOFFSETFROM:+0100
TZOFFSETTO:+0200
TZNAME:CEST
DTSTART:20250330T010000
END:DAYLIGHT
BEGIN:STANDARD
TZOFFSETFROM:+0200
TZOFFSETTO:+0100
TZNAME:CET
DTSTART:20251026T010000
END:STANDARD
BEGIN:DAYLIGHT
TZOFFSETFROM:+0100
TZOFFSETTO:+0200
TZNAME:CEST
DTSTART:20260329T010000
END:DAYLIGHT
BEGIN:STANDARD
TZOFFSETFROM:+0200
TZOFFSETTO:+0100
TZNAME:CET
DTSTART:20261025T010000
END:STANDARD
BEGIN:DAYLIGHT
TZOFFSETFROM:+0100
TZOFFSETTO:+0200
TZNAME:CEST
DTSTART:20270328T010000
END:DAYLIGHT
BEGIN:STANDARD
TZOFFSETFROM:+0200
TZOFFSETTO:+0100
TZNAME:CET
DTSTART:20271031T010000
END:STANDARD
END:VTIMEZONE
BEGIN:VEVENT
DTSTART;VALUE=DATE:20260306
DTEND;VALUE=DATE:20260502
DTSTAMP:20260424T100551
CREATED:20260206T144954Z
LAST-MODIFIED:20260217T174734Z
UID:30355-1772758800-1777597199@amicsdelesarts-jjmm.cat
SUMMARY:Exposicions de fotografia de JAZZ de Jaume Farrés Ubach (Sala Cúpula d’AAiJM + Sala Paüls) · Març / Abril
DESCRIPTION:Anem de Sales… abans d’anar a fer el gin-tònic i a escoltar el concert!\nLa Sala La Cúpula d’Amics de les Arts i Joventuts Musicals i la Sala Paüls cooperem i programem conjuntament dues exposicions de fotografia de jazz del fotojazzman Jaume Farrés Ubach\, un fotògraf persistent\, amb una mirada molt viva sobre l’escena. \nA les dues sales hi podreu veure treballs fotogràfics de l’any 2025\, realitzats durant les Jam Sessions i els concerts a la Nova Jazz Cava de Terrassa. \nExposicions\n\nSala La Cúpula: Instant de Jazz-OUT — del 6 al 29 de març i de l’1 al 30 d’abril de 2026\nSala Paüls: Instant de Jazz-IN — del 6 al 29 de març de 2026\n\nAquesta col·laboració vol ser l’inici d’una nova etapa de relació i d’intercanvi\, amb la voluntat d’interconnectar espais de la ciutat per sumar esforços i fer créixer la fotografia i el Festival Internacional de Jazz de Terrassa\, entre altres projectes. Aquest any\, el Festival celebra 45 anys! \nInauguracions\n\nDIVENDRES 13 de març (18.30 h) a La Cúpula d’AAiJM [Clica per apuntar-ho a Google Calendar].\nDIVENDRES 6 de març (19.30 h) a la Sala Paüls [Clica per apuntar-ho a Google Calendar].\n\n_____ \nT’ha interessat aquest contingut?\n📧 Subscriu-te al nostre butlletí i rebràs\, cada quinze dies\, les principals novetats culturals directament al teu correu electrònic. \n📲 Apunta’t també al Canal de Whatsapp\, on compartim continguts d’interès cada dilluns i dijous. \n📱Segueix-nos a Instagram\, Facebook i X (Twitter) per estar al dia de totes les activitats d’Amics de les Arts i Joventuts Musicals.
URL:https://amicsdelesarts-jjmm.cat/acte/exposicions-de-fotografia-de-jazz-de-jaume-farres-ubach-sala-cupula-daaijm-sala-pauls-%c2%b7-marc-abril/
CATEGORIES:Fotografia
END:VEVENT
BEGIN:VEVENT
DTSTART;TZID=Europe/Paris:20260325T190000
DTEND;TZID=Europe/Paris:20260325T200000
DTSTAMP:20260424T100551
CREATED:20251015T103401Z
LAST-MODIFIED:20251015T103401Z
UID:27553-1774465200-1774468800@amicsdelesarts-jjmm.cat
SUMMARY:Taller de pensament 2026: «Les cures: ètica i política» (de gener a abril de 2026)
DESCRIPTION:El Taller de pensament 2026 proposa una nova edició dedicada a la reflexió sobre les cures\, des d’una perspectiva ètica i política. A través de lectures comentades d’autors clau\, explorarem la dimensió moral\, social i filosòfica d’un tema que esdevé central en el nostre temps. \n🗓️ Calendari i lectures\nDimecres 28 de gener\, 19.00 h\n«L’ètica de la cura»\n📖 Carol Gilligan i altres autors: La ética del cuidado (Fundació Víctor Grífols i Lucas\, 2013)\n[Podem facilitar aquest quadern a qui ens el demani] \nDimecres 25 de febrer\, 19.00 h\n«L’ecologia de la llibertat»\n📖 Murray Bookchin: La ecología de la libertad (Nossa y Jara Editores\, 1999) — [pàgines 121 a 147]\n[Podem facilitar aquestes pàgines a qui ens les demani] \nDimecres 25 de març\, 19.00 h\n«L’ètica de la consideració»\n📖 Corine Pelluchon: Ética de la consideración (Herder Editorial\, 2024) — [introducció: pàgines 13–36 i capítol 4: pàgines 157–213]\n[Podem facilitar aquestes pàgines a qui ens les demani] \nDimecres 29 d’abril\, 19.00 h\n«La medicalització de la vida i els seus escenaris» \n📖 Ivan Illich: Némesis médica (Joaquim Mortiz Editor\, 1978) \n📖 Josefina Caminal: «La medicalización y sus escenarios»\, dins De la antropología filosófica a la antropología de la salud (Herder Editorial\, 2008) \n📖 Eric Cassell: La persona como sujeto de la medicina (Fundació Víctor Grífols i Lucas\, 2009) \n[Podem facilitar aquests materials a qui ens els demani] \n\n📍 Lloc: Amics de les Arts i Joventuts Musicals\nC/ de Sant Pere\, 46\, 1r pis – Terrassa \nℹ️ Més informació i ampliació de la bibliografia:\n📧 literatura.aajm@gmail.com 
URL:https://amicsdelesarts-jjmm.cat/acte/taller-de-pensament-2026-les-cures-etica-i-politica-de-gener-a-abril-de-2026/2026-03-25/
CATEGORIES:Literatura/debat
END:VEVENT
BEGIN:VEVENT
DTSTART;TZID=Europe/Paris:20260325T190000
DTEND;TZID=Europe/Paris:20260325T200000
DTSTAMP:20260424T100551
CREATED:20251113T145623Z
LAST-MODIFIED:20251113T145803Z
UID:27833-1774465200-1774468800@amicsdelesarts-jjmm.cat
SUMMARY:Taller de pensament 2026: «Les cures: ètica i política» (de gener a abril de 2026)
DESCRIPTION:El Taller de pensament 2026 proposa una nova edició dedicada a la reflexió sobre les cures\, des d’una perspectiva ètica i política. A través de lectures comentades d’autors clau\, explorarem la dimensió moral\, social i filosòfica d’un tema que esdevé central en el nostre temps. \n🗓️ Calendari i lectures\nDimecres 28 de gener\, 19.00 h\n«L’ètica de la cura»\n📖 Carol Gilligan i altres autors: La ética del cuidado (Fundació Víctor Grífols i Lucas\, 2013) \n[Podem facilitar aquest quadern a qui ens el demani] \nDimecres 25 de febrer\, 19.00 h\n«L’ecologia de la llibertat»\n📖 Murray Bookchin: La ecología de la libertad (Nossa y Jara Editores\, 1999) — [pàgines 121 a 147]\n[Podem facilitar aquestes pàgines a qui ens les demani] \nDimecres 25 de març\, 19.00 h\n«L’ètica de la consideració»\n📖 Corine Pelluchon: Ética de la consideración (Herder Editorial\, 2024) — [introducció: pàgines 13–36 i capítol 4: pàgines 157–213]\n[Podem facilitar aquestes pàgines a qui ens les demani] \nDimecres 29 d’abril\, 19.00 h\n«La medicalització de la vida i els seus escenaris» \n📖 Ivan Illich: Némesis médica (Joaquim Mortiz Editor\, 1978) \n📖 Josefina Caminal: «La medicalización y sus escenarios»\, dins De la antropología filosófica a la antropología de la salud (Herder Editorial\, 2008) \n📖 Eric Cassell: La persona como sujeto de la medicina (Fundació Víctor Grífols i Lucas\, 2009) \n[Podem facilitar aquests materials a qui ens els demani] \n\n📍 Lloc: Amics de les Arts i Joventuts Musicals\nC/ de Sant Pere\, 46\, 1r pis – Terrassa \nℹ️ Més informació i ampliació de la bibliografia:\n📧 literatura.aajm@gmail.com  \n_____ \n𝐓’𝐡𝐚 𝐢𝐧𝐭𝐞𝐫𝐞𝐬𝐬𝐚𝐭 𝐚𝐪𝐮𝐞𝐬𝐭 𝐜𝐨𝐧𝐭𝐢𝐧𝐠𝐮𝐭?\n📧 Subscriu-te al nostre 𝐵𝑢𝑡𝑙𝑙𝑒𝑡𝑖́ i rebràs\, cada quinze dies\, les novetats culturals al teu correu electrònic. \n📲 Informa’t també a través del nostre canal de WhatsApp (dilluns i dijous).\ni segueix-nos a Instagram\, Facebook i X (Twitter) per no perdre’t cap activitat.
URL:https://amicsdelesarts-jjmm.cat/acte/taller-de-pensament-2026-les-cures-etica-i-politica-de-gener-a-abril-de-2026-2/2026-03-25/
CATEGORIES:Literatura/debat
END:VEVENT
BEGIN:VEVENT
DTSTART;TZID=Europe/Paris:20260325T190000
DTEND;TZID=Europe/Paris:20260325T203000
DTSTAMP:20260424T100551
CREATED:20260220T171910Z
LAST-MODIFIED:20260220T171910Z
UID:30416-1774465200-1774470600@amicsdelesarts-jjmm.cat
SUMMARY:Taller de Pensament · «L’ètica de la cura» · dc. 25 de març
DESCRIPTION:  \nEl proper dimecres 25 de març a les 19.00 h\, la Sala Vancells acollirà una nova sessió del Taller de Pensament\, dedicada a aprofundir en el concepte de la cura a partir de les propostes de la filòsofa Corine Pelluchon. \nLa sessió girarà entorn del llibre Ética de la consideración i permetrà reflexionar sobre una ètica que posa al centre la vulnerabilitat\, la interdependència i la responsabilitat envers els altres\, els éssers vius i el món que compartim. \nLa trobada serà presentada per Felicitat Llop\, que conduirà el debat i el diàleg amb els assistents. \n📩 Per a més informació: literatura.aajm@gmail.com  \n📍 Sala Vancells\nAmics de les Arts i Joventuts Musicals\nSant Pere\, 46\, 1a planta – Terrassa \n_____ \nT’ha interessat aquest contingut? \n📧 Subscriu-te al nostre butlletí i rebràs\, cada quinze dies\, les principals novetats culturals directament al teu correu electrònic. \n📲 Apunta’t també al Canal de Whatsapp\, on compartim continguts d’interès cada dilluns i dijous. \n📱Segueix-nos a Instagram\, Facebook i X (Twitter) per estar al dia de totes les activitats d’Amics de les Arts i Joventuts Musicals.
URL:https://amicsdelesarts-jjmm.cat/acte/taller-de-pensament-%c2%b7-letica-de-la-cura-%c2%b7-dc-25-de-marc/
CATEGORIES:Literatura/debat
END:VEVENT
END:VCALENDAR