BEGIN:VCALENDAR
VERSION:2.0
PRODID:-//Amics de les Arts i Joventuts Musicals - ECPv6.15.20//NONSGML v1.0//EN
CALSCALE:GREGORIAN
METHOD:PUBLISH
X-WR-CALNAME:Amics de les Arts i Joventuts Musicals
X-ORIGINAL-URL:https://amicsdelesarts-jjmm.cat
X-WR-CALDESC:Esdeveniments per Amics de les Arts i Joventuts Musicals
REFRESH-INTERVAL;VALUE=DURATION:PT1H
X-Robots-Tag:noindex
X-PUBLISHED-TTL:PT1H
BEGIN:VTIMEZONE
TZID:Europe/Paris
BEGIN:DAYLIGHT
TZOFFSETFROM:+0100
TZOFFSETTO:+0200
TZNAME:CEST
DTSTART:20250330T010000
END:DAYLIGHT
BEGIN:STANDARD
TZOFFSETFROM:+0200
TZOFFSETTO:+0100
TZNAME:CET
DTSTART:20251026T010000
END:STANDARD
BEGIN:DAYLIGHT
TZOFFSETFROM:+0100
TZOFFSETTO:+0200
TZNAME:CEST
DTSTART:20260329T010000
END:DAYLIGHT
BEGIN:STANDARD
TZOFFSETFROM:+0200
TZOFFSETTO:+0100
TZNAME:CET
DTSTART:20261025T010000
END:STANDARD
BEGIN:DAYLIGHT
TZOFFSETFROM:+0100
TZOFFSETTO:+0200
TZNAME:CEST
DTSTART:20270328T010000
END:DAYLIGHT
BEGIN:STANDARD
TZOFFSETFROM:+0200
TZOFFSETTO:+0100
TZNAME:CET
DTSTART:20271031T010000
END:STANDARD
END:VTIMEZONE
BEGIN:VEVENT
DTSTART;VALUE=DATE:20260306
DTEND;VALUE=DATE:20260502
DTSTAMP:20260424T095507
CREATED:20260206T144954Z
LAST-MODIFIED:20260217T174734Z
UID:30355-1772758800-1777597199@amicsdelesarts-jjmm.cat
SUMMARY:Exposicions de fotografia de JAZZ de Jaume Farrés Ubach (Sala Cúpula d’AAiJM + Sala Paüls) · Març / Abril
DESCRIPTION:Anem de Sales… abans d’anar a fer el gin-tònic i a escoltar el concert!\nLa Sala La Cúpula d’Amics de les Arts i Joventuts Musicals i la Sala Paüls cooperem i programem conjuntament dues exposicions de fotografia de jazz del fotojazzman Jaume Farrés Ubach\, un fotògraf persistent\, amb una mirada molt viva sobre l’escena. \nA les dues sales hi podreu veure treballs fotogràfics de l’any 2025\, realitzats durant les Jam Sessions i els concerts a la Nova Jazz Cava de Terrassa. \nExposicions\n\nSala La Cúpula: Instant de Jazz-OUT — del 6 al 29 de març i de l’1 al 30 d’abril de 2026\nSala Paüls: Instant de Jazz-IN — del 6 al 29 de març de 2026\n\nAquesta col·laboració vol ser l’inici d’una nova etapa de relació i d’intercanvi\, amb la voluntat d’interconnectar espais de la ciutat per sumar esforços i fer créixer la fotografia i el Festival Internacional de Jazz de Terrassa\, entre altres projectes. Aquest any\, el Festival celebra 45 anys! \nInauguracions\n\nDIVENDRES 13 de març (18.30 h) a La Cúpula d’AAiJM [Clica per apuntar-ho a Google Calendar].\nDIVENDRES 6 de març (19.30 h) a la Sala Paüls [Clica per apuntar-ho a Google Calendar].\n\n_____ \nT’ha interessat aquest contingut?\n📧 Subscriu-te al nostre butlletí i rebràs\, cada quinze dies\, les principals novetats culturals directament al teu correu electrònic. \n📲 Apunta’t també al Canal de Whatsapp\, on compartim continguts d’interès cada dilluns i dijous. \n📱Segueix-nos a Instagram\, Facebook i X (Twitter) per estar al dia de totes les activitats d’Amics de les Arts i Joventuts Musicals.
URL:https://amicsdelesarts-jjmm.cat/acte/exposicions-de-fotografia-de-jazz-de-jaume-farres-ubach-sala-cupula-daaijm-sala-pauls-%c2%b7-marc-abril/
CATEGORIES:Fotografia
END:VEVENT
BEGIN:VEVENT
DTSTART;VALUE=DATE:20260328
DTEND;VALUE=DATE:20260330
DTSTAMP:20260424T095507
CREATED:20260127T192457Z
LAST-MODIFIED:20260317T174241Z
UID:30198-1774659600-1774745999@amicsdelesarts-jjmm.cat
SUMMARY:Convocatòria de la Col·lectiva d’Artistes 2026
DESCRIPTION:Amics de les Arts i Joventuts Musicals obre la convocatòria per participar en una nova edició de la Col·lectiva d’Artistes\, que tindrà lloc del 28 de març al 16 d’abril de 2026. Com cada any\, l’entitat anima els seus artistes associats a formar part d’aquesta exposició col·lectiva. \nSegons estableixen les bases\, es convida a presentar una obra de creació recent\, realitzada en qualsevol tècnica. En la reunió preparatòria de la Col·lectiva\, el Grup d’Artistes Plàstics i Visuals (GAPiV) va acordar que el tema de la Col·lectiva 2026 serà lliure. \nFormats i criteris de presentació\nLes obres que s’exposin sobre paret hauran de tenir un format de 60 × 50 cm. En el cas dels aquarel·listes\, dibuixants\, fotògrafs i gravadors que presentin obres sobre paper\, aquestes s’hauran de portar emmarcades dins les mides establertes. Si l’obra és de dimensions menors\, es pot optar per adherir-la ben centrada a la tela de 60 × 50 cm. \nPel que fa a les escultures\, la normativa inclou les mides mínimes i màximes permeses: no poden ser inferiors a 40 × 20 × 20 cm ni superiors a 150 × 70 × 70 cm. En cas que una escultura no es pugui exhibir a les peanyes de què disposa l’entitat\, l’artista haurà de preveure un sistema de suport propi\, sense superar en cap cas les mides màximes establertes. \nCondicions de participació\nPer poder participar a la Col·lectiva és imprescindible ser persona associada a Amics de les Arts i Joventuts Musicals. \nS’acceptarà només una obra per artista\, que haurà de ser de creació recent i ajustar-se a les mides i condicions establertes segons la tècnica. \nInscripció\, lliurament i recollida de les obres\nPer participar-hi\, caldrà inscriure’s donant el nom al responsable de la Sala d’Exposicions Salvador Alavedra\, de dimarts a diumenge\, de 18.00 a 20.00 h\, fins a set dies abans de la inauguració. \nEl lliurament de les obres s’haurà d’efectuar com a màxim el dia 25 de març\, a la Sala Salvador Alavedra\, en horari de 18.00 a 20.00 h. No s’acceptarà cap entrega fora d’aquest termini per motius d’organització i muntatge. \nLa recollida de les obres tindrà lloc el 18 d’abril\, en el mateix lloc i horari. Les obres que no siguin recollides dins el termini establert passaran a disposició de l’entitat\, que en farà l’ús que consideri convenient. \nQualsevol aspecte no recollit explícitament en la normativa quedarà a consideració del Grup d’Arts Plàstiques i Visuals. Des de l’entitat es prega respectar en tot moment les bases\, especialment pel que fa al lloc i les dates d’entrega i recollida de les obres. \nPer a qualsevol dubte o aclariment\, les persones interessades poden adreçar-se a la Secretaria de l’entitat. \n_____ \nT’ha interessat aquest contingut? \n📧 Subscriu-te al nostre butlletí i rebràs\, cada quinze dies\, les principals novetats culturals directament al teu correu electrònic. \n📲 Apunta’t també al Canal de Whatsapp\, on compartim continguts d’interès cada dilluns i dijous. \n📱Segueix-nos a Instagram\, Facebook i X (Twitter) per estar al dia de totes les activitats d’Amics de les Arts i Joventuts Musicals.
URL:https://amicsdelesarts-jjmm.cat/acte/convocatoria-de-la-collectiva-dartistes-2026/
CATEGORIES:Arts plàstiques
END:VEVENT
BEGIN:VEVENT
DTSTART;TZID=Europe/Paris:20260328T180000
DTEND;TZID=Europe/Paris:20260328T200000
DTSTAMP:20260424T095507
CREATED:20260331T184600Z
LAST-MODIFIED:20260331T184600Z
UID:30609-1774720800-1774728000@amicsdelesarts-jjmm.cat
SUMMARY:La Col·lectiva d’Artistes 2026
DESCRIPTION:📅 Del 28 de març al 16 d’abril de 2026 \n📍 Sala Salvador Alavedra — AAiJM \nℹ️ Amics de les Arts i Joventuts Musicals presenta una nova edició de la Col·lectiva d’Artistes. Una exposició adreçada a artistes associats de l’entitat. \n_______ \nT’ha interessat aquest contingut? \n📧 Subscriu-te al nostre butlletí i rebràs\, cada quinze dies\, les principals novetats culturals directament al teu correu electrònic. \n📲 Apunta’t també al Canal de Whatsapp\, on compartim continguts d’interès cada dilluns i dijous. \n📱Segueix-nos a Instagram\, Facebook i X (Twitter) per estar al dia de totes les activitats d’Amics de les Arts i Joventuts Musicals.
URL:https://amicsdelesarts-jjmm.cat/acte/la-collectiva-dartistes-2026/2026-03-28/
CATEGORIES:Arts plàstiques
END:VEVENT
END:VCALENDAR