BEGIN:VCALENDAR
VERSION:2.0
PRODID:-//Amics de les Arts i Joventuts Musicals - ECPv6.15.20//NONSGML v1.0//EN
CALSCALE:GREGORIAN
METHOD:PUBLISH
X-ORIGINAL-URL:https://amicsdelesarts-jjmm.cat
X-WR-CALDESC:Esdeveniments per Amics de les Arts i Joventuts Musicals
REFRESH-INTERVAL;VALUE=DURATION:PT1H
X-Robots-Tag:noindex
X-PUBLISHED-TTL:PT1H
BEGIN:VTIMEZONE
TZID:Europe/Paris
BEGIN:DAYLIGHT
TZOFFSETFROM:+0100
TZOFFSETTO:+0200
TZNAME:CEST
DTSTART:20230326T010000
END:DAYLIGHT
BEGIN:STANDARD
TZOFFSETFROM:+0200
TZOFFSETTO:+0100
TZNAME:CET
DTSTART:20231029T010000
END:STANDARD
BEGIN:DAYLIGHT
TZOFFSETFROM:+0100
TZOFFSETTO:+0200
TZNAME:CEST
DTSTART:20240331T010000
END:DAYLIGHT
BEGIN:STANDARD
TZOFFSETFROM:+0200
TZOFFSETTO:+0100
TZNAME:CET
DTSTART:20241027T010000
END:STANDARD
BEGIN:DAYLIGHT
TZOFFSETFROM:+0100
TZOFFSETTO:+0200
TZNAME:CEST
DTSTART:20250330T010000
END:DAYLIGHT
BEGIN:STANDARD
TZOFFSETFROM:+0200
TZOFFSETTO:+0100
TZNAME:CET
DTSTART:20251026T010000
END:STANDARD
END:VTIMEZONE
BEGIN:VEVENT
DTSTART;TZID=Europe/Paris:20240606T170000
DTEND;TZID=Europe/Paris:20240606T200000
DTSTAMP:20260422T232507
CREATED:20240531T165522Z
LAST-MODIFIED:20240531T171027Z
UID:24589-1717693200-1717704000@amicsdelesarts-jjmm.cat
SUMMARY:«Terrassa fotogràfica» exposició col·lectiva homenatge a Jaume Cabús
DESCRIPTION:Grup fotogràfic  \nExposició oberta del 3 al 28 de juny.\nInauguració dijous 6 de juny\, a les 19:00h.\nEspai: La Cúpula\, Sant Pere\, 46\, 1a planta.\nHorari: de dilluns a divendres\, de les 17:00 a les 20:00h.
URL:https://amicsdelesarts-jjmm.cat/acte/terrassa-fotografica-exposicio-collectiva-homenatge-a-jaume-cabus/2024-06-06/
CATEGORIES:Fotografia
ATTACH;FMTTYPE=image/jpeg:https://amicsdelesarts-jjmm.cat/wp-content/uploads/2024/05/COL.LECTIVA-CABUS-CARTELL.jpg
END:VEVENT
BEGIN:VEVENT
DTSTART;TZID=Europe/Paris:20240606T190000
DTEND;TZID=Europe/Paris:20240606T203000
DTSTAMP:20260422T232507
CREATED:20240513T155253Z
LAST-MODIFIED:20240515T164504Z
UID:24518-1717700400-1717705800@amicsdelesarts-jjmm.cat
SUMMARY:Cine-Club: «La reina de África» (1951) de John Huston amb Humphrey Bogart i Katharine Hepburn
DESCRIPTION:CLÀSSICS DEL CINEMA \nDijous 6 de juny\, a les 19:00h.\nSala Joaquim Vancells\, Sant Pere\, 46\, 1a planta.\nVOSE. Entrada lliure / Taquilla inversa
URL:https://amicsdelesarts-jjmm.cat/acte/cine-club-la-reina-de-africa-1951-de-john-huston-amb-humphrey-bogart-i-katharine-hepburn/
CATEGORIES:Cinema
ATTACH;FMTTYPE=image/jpeg:https://amicsdelesarts-jjmm.cat/wp-content/uploads/2024/05/LA-REINA-DE-AFRICA.jpg
END:VEVENT
BEGIN:VEVENT
DTSTART;TZID=Europe/Paris:20240606T180000
DTEND;TZID=Europe/Paris:20240606T200000
DTSTAMP:20260422T232507
CREATED:20240513T171249Z
LAST-MODIFIED:20240513T171249Z
UID:24542-1717696800-1717704000@amicsdelesarts-jjmm.cat
SUMMARY:Exposició: «Miscel·lània»\, de Prats Mañosa
DESCRIPTION:Arts Plàstiques \nExposició oberta del dissabte 18 de maig al dijous 13 de juny \nSala Salvador Alavedra\, Teatre\, 2\nHorari: de dimarts a diumenge de 18:00 a 20:00h.  \n\nFrancesc Prats Mañosa\, una persona que plasma en els seus dibuixos dues de les seves grans aficions\, el món del motor i la història de la seva ciutat\, Terrassa\, en aquests dos últims segles.\nAquests dies presenta una petita mostra dels seus dibuixos a Amics de les Arts i Joventuts Musicals.
URL:https://amicsdelesarts-jjmm.cat/acte/exposicio-miscellania-de-prats-manosa/2024-06-06/
CATEGORIES:Arts plàstiques
ATTACH;FMTTYPE=image/jpeg:https://amicsdelesarts-jjmm.cat/wp-content/uploads/2024/05/Cartell-exposicio-Miscellania_page-0001.jpg
END:VEVENT
BEGIN:VEVENT
DTSTART;TZID=Europe/Paris:20240606T180000
DTEND;TZID=Europe/Paris:20240606T200000
DTSTAMP:20260422T232507
CREATED:20240531T171301Z
LAST-MODIFIED:20240531T171301Z
UID:24653-1717696800-1717704000@amicsdelesarts-jjmm.cat
SUMMARY:«Col·lectiva de dibuixants de model» 
DESCRIPTION:Arts plàstiques \nExposició oberta de l’1 al 14 de juny.\nInauguració dissabte 1 de juny\, a les 18:00h.\nSala Joaquim Cardellach\, teatre\, 2.\nHorari: de dimarts a diumenge\, de les 18:00 a les 20:00h. \n 
URL:https://amicsdelesarts-jjmm.cat/acte/collectiva-de-dibuixants-de-model/2024-06-06/
CATEGORIES:Arts plàstiques
ATTACH;FMTTYPE=image/jpeg:https://amicsdelesarts-jjmm.cat/wp-content/uploads/2024/05/Cartell-Collectiva-Model-2024_page-0001.jpg
END:VEVENT
BEGIN:VEVENT
DTSTART;TZID=Europe/Paris:20240606T183000
DTEND;TZID=Europe/Paris:20240606T203000
DTSTAMP:20260422T232507
CREATED:20240215T165720Z
LAST-MODIFIED:20240215T165720Z
UID:24044-1717698600-1717705800@amicsdelesarts-jjmm.cat
SUMMARY:«Digueu-me Ismael». Seminari intensiu d'esriptura enfocat en el narrador
DESCRIPTION:Dijous 29 de febrer al 20 de juny de 2024\, de les 18:30 a les 20:30h (16 hores en 8 sessions quinzenals)\nProfessor: Toritaka Tokumei\nLloc: Amics de les Arts i Joventuts Musicals (Sant Pere\, 46\, 1a planta – Terrassa)\nPreu: 180€ (30% de descompte per a les persones associades a Amics de les Arts)
URL:https://amicsdelesarts-jjmm.cat/acte/digueu-me-ismael-seminari-intensiu-desriptura-enfocat-en-el-narrador/2024-06-06/
CATEGORIES:Escola de Literatura
ATTACH;FMTTYPE=image/jpeg:https://amicsdelesarts-jjmm.cat/wp-content/uploads/2024/02/Logo-Amics-EscolaP3.jpeg
END:VEVENT
BEGIN:VEVENT
DTSTART;TZID=Europe/Paris:20240607T170000
DTEND;TZID=Europe/Paris:20240607T200000
DTSTAMP:20260422T232507
CREATED:20240531T165522Z
LAST-MODIFIED:20240531T171027Z
UID:24590-1717779600-1717790400@amicsdelesarts-jjmm.cat
SUMMARY:«Terrassa fotogràfica» exposició col·lectiva homenatge a Jaume Cabús
DESCRIPTION:Grup fotogràfic  \nExposició oberta del 3 al 28 de juny.\nInauguració dijous 6 de juny\, a les 19:00h.\nEspai: La Cúpula\, Sant Pere\, 46\, 1a planta.\nHorari: de dilluns a divendres\, de les 17:00 a les 20:00h.
URL:https://amicsdelesarts-jjmm.cat/acte/terrassa-fotografica-exposicio-collectiva-homenatge-a-jaume-cabus/2024-06-07/
CATEGORIES:Fotografia
ATTACH;FMTTYPE=image/jpeg:https://amicsdelesarts-jjmm.cat/wp-content/uploads/2024/05/COL.LECTIVA-CABUS-CARTELL.jpg
END:VEVENT
BEGIN:VEVENT
DTSTART;TZID=Europe/Paris:20240607T180000
DTEND;TZID=Europe/Paris:20240607T200000
DTSTAMP:20260422T232507
CREATED:20240513T171249Z
LAST-MODIFIED:20240513T171249Z
UID:24543-1717783200-1717790400@amicsdelesarts-jjmm.cat
SUMMARY:Exposició: «Miscel·lània»\, de Prats Mañosa
DESCRIPTION:Arts Plàstiques \nExposició oberta del dissabte 18 de maig al dijous 13 de juny \nSala Salvador Alavedra\, Teatre\, 2\nHorari: de dimarts a diumenge de 18:00 a 20:00h.  \n\nFrancesc Prats Mañosa\, una persona que plasma en els seus dibuixos dues de les seves grans aficions\, el món del motor i la història de la seva ciutat\, Terrassa\, en aquests dos últims segles.\nAquests dies presenta una petita mostra dels seus dibuixos a Amics de les Arts i Joventuts Musicals.
URL:https://amicsdelesarts-jjmm.cat/acte/exposicio-miscellania-de-prats-manosa/2024-06-07/
CATEGORIES:Arts plàstiques
ATTACH;FMTTYPE=image/jpeg:https://amicsdelesarts-jjmm.cat/wp-content/uploads/2024/05/Cartell-exposicio-Miscellania_page-0001.jpg
END:VEVENT
BEGIN:VEVENT
DTSTART;TZID=Europe/Paris:20240607T180000
DTEND;TZID=Europe/Paris:20240607T200000
DTSTAMP:20260422T232507
CREATED:20240531T171301Z
LAST-MODIFIED:20240531T171301Z
UID:24654-1717783200-1717790400@amicsdelesarts-jjmm.cat
SUMMARY:«Col·lectiva de dibuixants de model» 
DESCRIPTION:Arts plàstiques \nExposició oberta de l’1 al 14 de juny.\nInauguració dissabte 1 de juny\, a les 18:00h.\nSala Joaquim Cardellach\, teatre\, 2.\nHorari: de dimarts a diumenge\, de les 18:00 a les 20:00h. \n 
URL:https://amicsdelesarts-jjmm.cat/acte/collectiva-de-dibuixants-de-model/2024-06-07/
CATEGORIES:Arts plàstiques
ATTACH;FMTTYPE=image/jpeg:https://amicsdelesarts-jjmm.cat/wp-content/uploads/2024/05/Cartell-Collectiva-Model-2024_page-0001.jpg
END:VEVENT
BEGIN:VEVENT
DTSTART;TZID=Europe/Paris:20240608T120000
DTEND;TZID=Europe/Paris:20240608T133000
DTSTAMP:20260422T232507
CREATED:20240530T154430Z
LAST-MODIFIED:20240530T154430Z
UID:24572-1717848000-1717853400@amicsdelesarts-jjmm.cat
SUMMARY:«El palmell del cor» Recital de poemes\, microrelats\, cançons... Isabel Garrido + Yaiza Sirena + Micro obert
DESCRIPTION:Dissabte 8 de juny\, a les 12:00h.\nCafè-bar de l’entitat\, Teatre\, 2.
URL:https://amicsdelesarts-jjmm.cat/acte/el-palmell-del-cor-recital-de-poemes-microrelats-cancons-isabel-garrido-yaiza-sirena-micro-obert/
CATEGORIES:Literatura/debat
ATTACH;FMTTYPE=image/png:https://amicsdelesarts-jjmm.cat/wp-content/uploads/2024/05/8-marc.png
END:VEVENT
BEGIN:VEVENT
DTSTART;TZID=Europe/Paris:20240608T180000
DTEND;TZID=Europe/Paris:20240608T200000
DTSTAMP:20260422T232507
CREATED:20240513T171249Z
LAST-MODIFIED:20240513T171249Z
UID:24544-1717869600-1717876800@amicsdelesarts-jjmm.cat
SUMMARY:Exposició: «Miscel·lània»\, de Prats Mañosa
DESCRIPTION:Arts Plàstiques \nExposició oberta del dissabte 18 de maig al dijous 13 de juny \nSala Salvador Alavedra\, Teatre\, 2\nHorari: de dimarts a diumenge de 18:00 a 20:00h.  \n\nFrancesc Prats Mañosa\, una persona que plasma en els seus dibuixos dues de les seves grans aficions\, el món del motor i la història de la seva ciutat\, Terrassa\, en aquests dos últims segles.\nAquests dies presenta una petita mostra dels seus dibuixos a Amics de les Arts i Joventuts Musicals.
URL:https://amicsdelesarts-jjmm.cat/acte/exposicio-miscellania-de-prats-manosa/2024-06-08/
CATEGORIES:Arts plàstiques
ATTACH;FMTTYPE=image/jpeg:https://amicsdelesarts-jjmm.cat/wp-content/uploads/2024/05/Cartell-exposicio-Miscellania_page-0001.jpg
END:VEVENT
BEGIN:VEVENT
DTSTART;TZID=Europe/Paris:20240608T180000
DTEND;TZID=Europe/Paris:20240608T200000
DTSTAMP:20260422T232507
CREATED:20240531T171301Z
LAST-MODIFIED:20240531T171301Z
UID:24655-1717869600-1717876800@amicsdelesarts-jjmm.cat
SUMMARY:«Col·lectiva de dibuixants de model» 
DESCRIPTION:Arts plàstiques \nExposició oberta de l’1 al 14 de juny.\nInauguració dissabte 1 de juny\, a les 18:00h.\nSala Joaquim Cardellach\, teatre\, 2.\nHorari: de dimarts a diumenge\, de les 18:00 a les 20:00h. \n 
URL:https://amicsdelesarts-jjmm.cat/acte/collectiva-de-dibuixants-de-model/2024-06-08/
CATEGORIES:Arts plàstiques
ATTACH;FMTTYPE=image/jpeg:https://amicsdelesarts-jjmm.cat/wp-content/uploads/2024/05/Cartell-Collectiva-Model-2024_page-0001.jpg
END:VEVENT
BEGIN:VEVENT
DTSTART;TZID=Europe/Paris:20240609T180000
DTEND;TZID=Europe/Paris:20240609T200000
DTSTAMP:20260422T232507
CREATED:20240513T171249Z
LAST-MODIFIED:20240513T171249Z
UID:24545-1717956000-1717963200@amicsdelesarts-jjmm.cat
SUMMARY:Exposició: «Miscel·lània»\, de Prats Mañosa
DESCRIPTION:Arts Plàstiques \nExposició oberta del dissabte 18 de maig al dijous 13 de juny \nSala Salvador Alavedra\, Teatre\, 2\nHorari: de dimarts a diumenge de 18:00 a 20:00h.  \n\nFrancesc Prats Mañosa\, una persona que plasma en els seus dibuixos dues de les seves grans aficions\, el món del motor i la història de la seva ciutat\, Terrassa\, en aquests dos últims segles.\nAquests dies presenta una petita mostra dels seus dibuixos a Amics de les Arts i Joventuts Musicals.
URL:https://amicsdelesarts-jjmm.cat/acte/exposicio-miscellania-de-prats-manosa/2024-06-09/
CATEGORIES:Arts plàstiques
ATTACH;FMTTYPE=image/jpeg:https://amicsdelesarts-jjmm.cat/wp-content/uploads/2024/05/Cartell-exposicio-Miscellania_page-0001.jpg
END:VEVENT
BEGIN:VEVENT
DTSTART;TZID=Europe/Paris:20240609T180000
DTEND;TZID=Europe/Paris:20240609T200000
DTSTAMP:20260422T232507
CREATED:20240531T171301Z
LAST-MODIFIED:20240531T171301Z
UID:24656-1717956000-1717963200@amicsdelesarts-jjmm.cat
SUMMARY:«Col·lectiva de dibuixants de model» 
DESCRIPTION:Arts plàstiques \nExposició oberta de l’1 al 14 de juny.\nInauguració dissabte 1 de juny\, a les 18:00h.\nSala Joaquim Cardellach\, teatre\, 2.\nHorari: de dimarts a diumenge\, de les 18:00 a les 20:00h. \n 
URL:https://amicsdelesarts-jjmm.cat/acte/collectiva-de-dibuixants-de-model/2024-06-09/
CATEGORIES:Arts plàstiques
ATTACH;FMTTYPE=image/jpeg:https://amicsdelesarts-jjmm.cat/wp-content/uploads/2024/05/Cartell-Collectiva-Model-2024_page-0001.jpg
END:VEVENT
BEGIN:VEVENT
DTSTART;TZID=Europe/Paris:20240610T170000
DTEND;TZID=Europe/Paris:20240610T200000
DTSTAMP:20260422T232507
CREATED:20240531T165522Z
LAST-MODIFIED:20240531T171028Z
UID:24591-1718038800-1718049600@amicsdelesarts-jjmm.cat
SUMMARY:«Terrassa fotogràfica» exposició col·lectiva homenatge a Jaume Cabús
DESCRIPTION:Grup fotogràfic  \nExposició oberta del 3 al 28 de juny.\nInauguració dijous 6 de juny\, a les 19:00h.\nEspai: La Cúpula\, Sant Pere\, 46\, 1a planta.\nHorari: de dilluns a divendres\, de les 17:00 a les 20:00h.
URL:https://amicsdelesarts-jjmm.cat/acte/terrassa-fotografica-exposicio-collectiva-homenatge-a-jaume-cabus/2024-06-10/
CATEGORIES:Fotografia
ATTACH;FMTTYPE=image/jpeg:https://amicsdelesarts-jjmm.cat/wp-content/uploads/2024/05/COL.LECTIVA-CABUS-CARTELL.jpg
END:VEVENT
BEGIN:VEVENT
DTSTART;TZID=Europe/Paris:20240611T170000
DTEND;TZID=Europe/Paris:20240611T200000
DTSTAMP:20260422T232507
CREATED:20240531T165522Z
LAST-MODIFIED:20240531T171028Z
UID:24592-1718125200-1718136000@amicsdelesarts-jjmm.cat
SUMMARY:«Terrassa fotogràfica» exposició col·lectiva homenatge a Jaume Cabús
DESCRIPTION:Grup fotogràfic  \nExposició oberta del 3 al 28 de juny.\nInauguració dijous 6 de juny\, a les 19:00h.\nEspai: La Cúpula\, Sant Pere\, 46\, 1a planta.\nHorari: de dilluns a divendres\, de les 17:00 a les 20:00h.
URL:https://amicsdelesarts-jjmm.cat/acte/terrassa-fotografica-exposicio-collectiva-homenatge-a-jaume-cabus/2024-06-11/
CATEGORIES:Fotografia
ATTACH;FMTTYPE=image/jpeg:https://amicsdelesarts-jjmm.cat/wp-content/uploads/2024/05/COL.LECTIVA-CABUS-CARTELL.jpg
END:VEVENT
BEGIN:VEVENT
DTSTART;TZID=Europe/Paris:20240611T180000
DTEND;TZID=Europe/Paris:20240611T200000
DTSTAMP:20260422T232507
CREATED:20240513T171249Z
LAST-MODIFIED:20240513T171249Z
UID:24546-1718128800-1718136000@amicsdelesarts-jjmm.cat
SUMMARY:Exposició: «Miscel·lània»\, de Prats Mañosa
DESCRIPTION:Arts Plàstiques \nExposició oberta del dissabte 18 de maig al dijous 13 de juny \nSala Salvador Alavedra\, Teatre\, 2\nHorari: de dimarts a diumenge de 18:00 a 20:00h.  \n\nFrancesc Prats Mañosa\, una persona que plasma en els seus dibuixos dues de les seves grans aficions\, el món del motor i la història de la seva ciutat\, Terrassa\, en aquests dos últims segles.\nAquests dies presenta una petita mostra dels seus dibuixos a Amics de les Arts i Joventuts Musicals.
URL:https://amicsdelesarts-jjmm.cat/acte/exposicio-miscellania-de-prats-manosa/2024-06-11/
CATEGORIES:Arts plàstiques
ATTACH;FMTTYPE=image/jpeg:https://amicsdelesarts-jjmm.cat/wp-content/uploads/2024/05/Cartell-exposicio-Miscellania_page-0001.jpg
END:VEVENT
BEGIN:VEVENT
DTSTART;TZID=Europe/Paris:20240611T180000
DTEND;TZID=Europe/Paris:20240611T200000
DTSTAMP:20260422T232507
CREATED:20240531T171301Z
LAST-MODIFIED:20240531T171301Z
UID:24657-1718128800-1718136000@amicsdelesarts-jjmm.cat
SUMMARY:«Col·lectiva de dibuixants de model» 
DESCRIPTION:Arts plàstiques \nExposició oberta de l’1 al 14 de juny.\nInauguració dissabte 1 de juny\, a les 18:00h.\nSala Joaquim Cardellach\, teatre\, 2.\nHorari: de dimarts a diumenge\, de les 18:00 a les 20:00h. \n 
URL:https://amicsdelesarts-jjmm.cat/acte/collectiva-de-dibuixants-de-model/2024-06-11/
CATEGORIES:Arts plàstiques
ATTACH;FMTTYPE=image/jpeg:https://amicsdelesarts-jjmm.cat/wp-content/uploads/2024/05/Cartell-Collectiva-Model-2024_page-0001.jpg
END:VEVENT
BEGIN:VEVENT
DTSTART;TZID=Europe/Paris:20240611T190000
DTEND;TZID=Europe/Paris:20240611T203000
DTSTAMP:20260422T232507
CREATED:20230908T181821Z
LAST-MODIFIED:20230908T182514Z
UID:22532-1718132400-1718137800@amicsdelesarts-jjmm.cat
SUMMARY:Curs de Dibuix Pràctic: Introducció a la il·lustració
DESCRIPTION:Del 3 d’octubre al 25 de juny\, dimarts de les 19:00 a les 20:30h. Sala Morera (c/Sant Pere\, 46\, 2a planta – Terrassa) / Matrícula Oberta
URL:https://amicsdelesarts-jjmm.cat/acte/curs-de-dibuix-practic-introduccio-a-la-illustracio/2024-06-11/
CATEGORIES:Arts plàstiques
ATTACH;FMTTYPE=image/jpeg:https://amicsdelesarts-jjmm.cat/wp-content/uploads/2023/09/Curs-2023_24-1-scaled.jpg
END:VEVENT
BEGIN:VEVENT
DTSTART;TZID=Europe/Paris:20240612T170000
DTEND;TZID=Europe/Paris:20240612T200000
DTSTAMP:20260422T232507
CREATED:20240531T165522Z
LAST-MODIFIED:20240531T171028Z
UID:24593-1718211600-1718222400@amicsdelesarts-jjmm.cat
SUMMARY:«Terrassa fotogràfica» exposició col·lectiva homenatge a Jaume Cabús
DESCRIPTION:Grup fotogràfic  \nExposició oberta del 3 al 28 de juny.\nInauguració dijous 6 de juny\, a les 19:00h.\nEspai: La Cúpula\, Sant Pere\, 46\, 1a planta.\nHorari: de dilluns a divendres\, de les 17:00 a les 20:00h.
URL:https://amicsdelesarts-jjmm.cat/acte/terrassa-fotografica-exposicio-collectiva-homenatge-a-jaume-cabus/2024-06-12/
CATEGORIES:Fotografia
ATTACH;FMTTYPE=image/jpeg:https://amicsdelesarts-jjmm.cat/wp-content/uploads/2024/05/COL.LECTIVA-CABUS-CARTELL.jpg
END:VEVENT
BEGIN:VEVENT
DTSTART;TZID=Europe/Paris:20240612T180000
DTEND;TZID=Europe/Paris:20240612T200000
DTSTAMP:20260422T232507
CREATED:20240513T171249Z
LAST-MODIFIED:20240513T171249Z
UID:24547-1718215200-1718222400@amicsdelesarts-jjmm.cat
SUMMARY:Exposició: «Miscel·lània»\, de Prats Mañosa
DESCRIPTION:Arts Plàstiques \nExposició oberta del dissabte 18 de maig al dijous 13 de juny \nSala Salvador Alavedra\, Teatre\, 2\nHorari: de dimarts a diumenge de 18:00 a 20:00h.  \n\nFrancesc Prats Mañosa\, una persona que plasma en els seus dibuixos dues de les seves grans aficions\, el món del motor i la història de la seva ciutat\, Terrassa\, en aquests dos últims segles.\nAquests dies presenta una petita mostra dels seus dibuixos a Amics de les Arts i Joventuts Musicals.
URL:https://amicsdelesarts-jjmm.cat/acte/exposicio-miscellania-de-prats-manosa/2024-06-12/
CATEGORIES:Arts plàstiques
ATTACH;FMTTYPE=image/jpeg:https://amicsdelesarts-jjmm.cat/wp-content/uploads/2024/05/Cartell-exposicio-Miscellania_page-0001.jpg
END:VEVENT
BEGIN:VEVENT
DTSTART;TZID=Europe/Paris:20240612T180000
DTEND;TZID=Europe/Paris:20240612T200000
DTSTAMP:20260422T232507
CREATED:20240531T171301Z
LAST-MODIFIED:20240531T171301Z
UID:24658-1718215200-1718222400@amicsdelesarts-jjmm.cat
SUMMARY:«Col·lectiva de dibuixants de model» 
DESCRIPTION:Arts plàstiques \nExposició oberta de l’1 al 14 de juny.\nInauguració dissabte 1 de juny\, a les 18:00h.\nSala Joaquim Cardellach\, teatre\, 2.\nHorari: de dimarts a diumenge\, de les 18:00 a les 20:00h. \n 
URL:https://amicsdelesarts-jjmm.cat/acte/collectiva-de-dibuixants-de-model/2024-06-12/
CATEGORIES:Arts plàstiques
ATTACH;FMTTYPE=image/jpeg:https://amicsdelesarts-jjmm.cat/wp-content/uploads/2024/05/Cartell-Collectiva-Model-2024_page-0001.jpg
END:VEVENT
BEGIN:VEVENT
DTSTART;TZID=Europe/Paris:20240613T170000
DTEND;TZID=Europe/Paris:20240613T200000
DTSTAMP:20260422T232507
CREATED:20240531T165522Z
LAST-MODIFIED:20240531T171029Z
UID:24594-1718298000-1718308800@amicsdelesarts-jjmm.cat
SUMMARY:«Terrassa fotogràfica» exposició col·lectiva homenatge a Jaume Cabús
DESCRIPTION:Grup fotogràfic  \nExposició oberta del 3 al 28 de juny.\nInauguració dijous 6 de juny\, a les 19:00h.\nEspai: La Cúpula\, Sant Pere\, 46\, 1a planta.\nHorari: de dilluns a divendres\, de les 17:00 a les 20:00h.
URL:https://amicsdelesarts-jjmm.cat/acte/terrassa-fotografica-exposicio-collectiva-homenatge-a-jaume-cabus/2024-06-13/
CATEGORIES:Fotografia
ATTACH;FMTTYPE=image/jpeg:https://amicsdelesarts-jjmm.cat/wp-content/uploads/2024/05/COL.LECTIVA-CABUS-CARTELL.jpg
END:VEVENT
BEGIN:VEVENT
DTSTART;TZID=Europe/Paris:20240613T180000
DTEND;TZID=Europe/Paris:20240613T200000
DTSTAMP:20260422T232507
CREATED:20240513T171249Z
LAST-MODIFIED:20240513T171249Z
UID:24548-1718301600-1718308800@amicsdelesarts-jjmm.cat
SUMMARY:Exposició: «Miscel·lània»\, de Prats Mañosa
DESCRIPTION:Arts Plàstiques \nExposició oberta del dissabte 18 de maig al dijous 13 de juny \nSala Salvador Alavedra\, Teatre\, 2\nHorari: de dimarts a diumenge de 18:00 a 20:00h.  \n\nFrancesc Prats Mañosa\, una persona que plasma en els seus dibuixos dues de les seves grans aficions\, el món del motor i la història de la seva ciutat\, Terrassa\, en aquests dos últims segles.\nAquests dies presenta una petita mostra dels seus dibuixos a Amics de les Arts i Joventuts Musicals.
URL:https://amicsdelesarts-jjmm.cat/acte/exposicio-miscellania-de-prats-manosa/2024-06-13/
CATEGORIES:Arts plàstiques
ATTACH;FMTTYPE=image/jpeg:https://amicsdelesarts-jjmm.cat/wp-content/uploads/2024/05/Cartell-exposicio-Miscellania_page-0001.jpg
END:VEVENT
BEGIN:VEVENT
DTSTART;TZID=Europe/Paris:20240613T180000
DTEND;TZID=Europe/Paris:20240613T200000
DTSTAMP:20260422T232507
CREATED:20240531T171301Z
LAST-MODIFIED:20240531T171301Z
UID:24659-1718301600-1718308800@amicsdelesarts-jjmm.cat
SUMMARY:«Col·lectiva de dibuixants de model» 
DESCRIPTION:Arts plàstiques \nExposició oberta de l’1 al 14 de juny.\nInauguració dissabte 1 de juny\, a les 18:00h.\nSala Joaquim Cardellach\, teatre\, 2.\nHorari: de dimarts a diumenge\, de les 18:00 a les 20:00h. \n 
URL:https://amicsdelesarts-jjmm.cat/acte/collectiva-de-dibuixants-de-model/2024-06-13/
CATEGORIES:Arts plàstiques
ATTACH;FMTTYPE=image/jpeg:https://amicsdelesarts-jjmm.cat/wp-content/uploads/2024/05/Cartell-Collectiva-Model-2024_page-0001.jpg
END:VEVENT
BEGIN:VEVENT
DTSTART;TZID=Europe/Paris:20240614T170000
DTEND;TZID=Europe/Paris:20240614T200000
DTSTAMP:20260422T232507
CREATED:20240531T165522Z
LAST-MODIFIED:20240531T171029Z
UID:24595-1718384400-1718395200@amicsdelesarts-jjmm.cat
SUMMARY:«Terrassa fotogràfica» exposició col·lectiva homenatge a Jaume Cabús
DESCRIPTION:Grup fotogràfic  \nExposició oberta del 3 al 28 de juny.\nInauguració dijous 6 de juny\, a les 19:00h.\nEspai: La Cúpula\, Sant Pere\, 46\, 1a planta.\nHorari: de dilluns a divendres\, de les 17:00 a les 20:00h.
URL:https://amicsdelesarts-jjmm.cat/acte/terrassa-fotografica-exposicio-collectiva-homenatge-a-jaume-cabus/2024-06-14/
CATEGORIES:Fotografia
ATTACH;FMTTYPE=image/jpeg:https://amicsdelesarts-jjmm.cat/wp-content/uploads/2024/05/COL.LECTIVA-CABUS-CARTELL.jpg
END:VEVENT
BEGIN:VEVENT
DTSTART;TZID=Europe/Paris:20240614T190000
DTEND;TZID=Europe/Paris:20240614T203000
DTSTAMP:20260422T232507
CREATED:20240530T155218Z
LAST-MODIFIED:20240530T155218Z
UID:24575-1718391600-1718397000@amicsdelesarts-jjmm.cat
SUMMARY:Presentació de la novel·la: La Quintilla\, de Francesca Caballero Priego\, a càrrec de Raquel Picolo 
DESCRIPTION:Divendres 14 de juny\, a les 19:00h. \nSala Joaquim Cardellach\, Teatre\, 2
URL:https://amicsdelesarts-jjmm.cat/acte/presentacio-de-la-novella-la-quintilla-de-francesca-caballero-priego-a-carrec-de-raquel-picolo/
CATEGORIES:Literatura/debat
ATTACH;FMTTYPE=image/png:https://amicsdelesarts-jjmm.cat/wp-content/uploads/2024/05/2.png
END:VEVENT
BEGIN:VEVENT
DTSTART;TZID=Europe/Paris:20240614T180000
DTEND;TZID=Europe/Paris:20240614T200000
DTSTAMP:20260422T232507
CREATED:20240531T171301Z
LAST-MODIFIED:20240531T171301Z
UID:24661-1718388000-1718395200@amicsdelesarts-jjmm.cat
SUMMARY:«Col·lectiva de dibuixants de model» 
DESCRIPTION:Arts plàstiques \nExposició oberta de l’1 al 14 de juny.\nInauguració dissabte 1 de juny\, a les 18:00h.\nSala Joaquim Cardellach\, teatre\, 2.\nHorari: de dimarts a diumenge\, de les 18:00 a les 20:00h. \n 
URL:https://amicsdelesarts-jjmm.cat/acte/collectiva-de-dibuixants-de-model/2024-06-14/
CATEGORIES:Arts plàstiques
ATTACH;FMTTYPE=image/jpeg:https://amicsdelesarts-jjmm.cat/wp-content/uploads/2024/05/Cartell-Collectiva-Model-2024_page-0001.jpg
END:VEVENT
BEGIN:VEVENT
DTSTART;TZID=Europe/Paris:20240615T180000
DTEND;TZID=Europe/Paris:20240615T200000
DTSTAMP:20260422T232507
CREATED:20240611T183953Z
LAST-MODIFIED:20240611T183953Z
UID:24676-1718474400-1718481600@amicsdelesarts-jjmm.cat
SUMMARY:«Expo 2024 - col·lectiva d'artistes de COLBACAT» 
DESCRIPTION:Exposició oberta del 15 de juny al 4 de juliol de 2024\nInauguració: 15 de juny\, a les 19:00h.\nSala Salvador Alavedra\, teatre\, 2.\nHorari: de dimarts a diumenge\, de les 18:00 a les 20:00h.
URL:https://amicsdelesarts-jjmm.cat/acte/expo-2024-collectiva-dartistes-de-colbacat/2024-06-15/
CATEGORIES:Arts plàstiques
ATTACH;FMTTYPE=image/jpeg:https://amicsdelesarts-jjmm.cat/wp-content/uploads/2024/06/CARTELLA3_AMICS24.jpeg
END:VEVENT
BEGIN:VEVENT
DTSTART;TZID=Europe/Paris:20240616T180000
DTEND;TZID=Europe/Paris:20240616T200000
DTSTAMP:20260422T232507
CREATED:20240611T183953Z
LAST-MODIFIED:20240611T183953Z
UID:24678-1718560800-1718568000@amicsdelesarts-jjmm.cat
SUMMARY:«Expo 2024 - col·lectiva d'artistes de COLBACAT» 
DESCRIPTION:Exposició oberta del 15 de juny al 4 de juliol de 2024\nInauguració: 15 de juny\, a les 19:00h.\nSala Salvador Alavedra\, teatre\, 2.\nHorari: de dimarts a diumenge\, de les 18:00 a les 20:00h.
URL:https://amicsdelesarts-jjmm.cat/acte/expo-2024-collectiva-dartistes-de-colbacat/2024-06-16/
CATEGORIES:Arts plàstiques
ATTACH;FMTTYPE=image/jpeg:https://amicsdelesarts-jjmm.cat/wp-content/uploads/2024/06/CARTELLA3_AMICS24.jpeg
END:VEVENT
BEGIN:VEVENT
DTSTART;TZID=Europe/Paris:20240617T170000
DTEND;TZID=Europe/Paris:20240617T200000
DTSTAMP:20260422T232507
CREATED:20240531T165522Z
LAST-MODIFIED:20240531T171029Z
UID:24596-1718643600-1718654400@amicsdelesarts-jjmm.cat
SUMMARY:«Terrassa fotogràfica» exposició col·lectiva homenatge a Jaume Cabús
DESCRIPTION:Grup fotogràfic  \nExposició oberta del 3 al 28 de juny.\nInauguració dijous 6 de juny\, a les 19:00h.\nEspai: La Cúpula\, Sant Pere\, 46\, 1a planta.\nHorari: de dilluns a divendres\, de les 17:00 a les 20:00h.
URL:https://amicsdelesarts-jjmm.cat/acte/terrassa-fotografica-exposicio-collectiva-homenatge-a-jaume-cabus/2024-06-17/
CATEGORIES:Fotografia
ATTACH;FMTTYPE=image/jpeg:https://amicsdelesarts-jjmm.cat/wp-content/uploads/2024/05/COL.LECTIVA-CABUS-CARTELL.jpg
END:VEVENT
END:VCALENDAR